BEGIN:VCALENDAR
VERSION:2.0
PRODID:-//Huguenot Road Baptist Church - ECPv6.15.20//NONSGML v1.0//EN
CALSCALE:GREGORIAN
METHOD:PUBLISH
X-WR-CALNAME:Huguenot Road Baptist Church
X-ORIGINAL-URL:https://hrbcrichmond.org
X-WR-CALDESC:Events for Huguenot Road Baptist Church
REFRESH-INTERVAL;VALUE=DURATION:PT1H
X-Robots-Tag:noindex
X-PUBLISHED-TTL:PT1H
BEGIN:VTIMEZONE
TZID:America/New_York
BEGIN:DAYLIGHT
TZOFFSETFROM:-0500
TZOFFSETTO:-0400
TZNAME:EDT
DTSTART:20250309T070000
END:DAYLIGHT
BEGIN:STANDARD
TZOFFSETFROM:-0400
TZOFFSETTO:-0500
TZNAME:EST
DTSTART:20251102T060000
END:STANDARD
BEGIN:DAYLIGHT
TZOFFSETFROM:-0500
TZOFFSETTO:-0400
TZNAME:EDT
DTSTART:20260308T070000
END:DAYLIGHT
BEGIN:STANDARD
TZOFFSETFROM:-0400
TZOFFSETTO:-0500
TZNAME:EST
DTSTART:20261101T060000
END:STANDARD
BEGIN:DAYLIGHT
TZOFFSETFROM:-0500
TZOFFSETTO:-0400
TZNAME:EDT
DTSTART:20270314T070000
END:DAYLIGHT
BEGIN:STANDARD
TZOFFSETFROM:-0400
TZOFFSETTO:-0500
TZNAME:EST
DTSTART:20271107T060000
END:STANDARD
END:VTIMEZONE
BEGIN:VEVENT
DTSTART;TZID=America/New_York:20260127T183000
DTEND;TZID=America/New_York:20260127T193000
DTSTAMP:20260425T091357
CREATED:20250629T162358Z
LAST-MODIFIED:20260127T235541Z
UID:10012016-1769538600-1769542200@hrbcrichmond.org
SUMMARY:Human Resource Group Meeting
DESCRIPTION:
URL:https://hrbcrichmond.org/event/human-resource-group-meeting-24/
LOCATION:Conference Room
END:VEVENT
BEGIN:VEVENT
DTSTART;TZID=America/New_York:20260128T110000
DTEND;TZID=America/New_York:20260128T140000
DTSTAMP:20260425T091357
CREATED:20260106T151200Z
LAST-MODIFIED:20260128T144049Z
UID:10012809-1769598000-1769608800@hrbcrichmond.org
SUMMARY:Healing Hearts Souper Soup Staff Luncheon
DESCRIPTION:
URL:https://hrbcrichmond.org/event/healing-hearts-souper-soup-staff-luncheon/
END:VEVENT
BEGIN:VEVENT
DTSTART;TZID=America/New_York:20260129T190000
DTEND;TZID=America/New_York:20260129T210000
DTSTAMP:20260425T091357
CREATED:20250703T181347Z
LAST-MODIFIED:20260202T155840Z
UID:10012022-1769713200-1769720400@hrbcrichmond.org
SUMMARY:AA
DESCRIPTION:
URL:https://hrbcrichmond.org/event/aa-139/
LOCATION:200
END:VEVENT
BEGIN:VEVENT
DTSTART;TZID=America/New_York:20260129T193000
DTEND;TZID=America/New_York:20260129T203000
DTSTAMP:20260425T091357
CREATED:20250703T204340Z
LAST-MODIFIED:20260202T155840Z
UID:10012023-1769715000-1769718600@hrbcrichmond.org
SUMMARY:Families Anonymous
DESCRIPTION:
URL:https://hrbcrichmond.org/event/families-anonymous-146/
LOCATION:209
END:VEVENT
BEGIN:VEVENT
DTSTART;TZID=America/New_York:20260131T083000
DTEND;TZID=America/New_York:20260131T123000
DTSTAMP:20260425T091357
CREATED:20251112T193001Z
LAST-MODIFIED:20260202T155840Z
UID:10012598-1769848200-1769862600@hrbcrichmond.org
SUMMARY:Executive Council Workshop
DESCRIPTION:
URL:https://hrbcrichmond.org/event/executive-council-workshop-alt-date/
LOCATION:MPR 1; Family Life Center
END:VEVENT
BEGIN:VEVENT
DTSTART;VALUE=DATE:20260201
DTEND;VALUE=DATE:20260202
DTSTAMP:20260425T091357
CREATED:20250704T014346Z
LAST-MODIFIED:20260201T234027Z
UID:10012024-1769904000-1769990399@hrbcrichmond.org
SUMMARY:First Sunday Food Offering
DESCRIPTION:
URL:https://hrbcrichmond.org/event/first-sunday-food-offering-40/
END:VEVENT
BEGIN:VEVENT
DTSTART;VALUE=DATE:20260201
DTEND;VALUE=DATE:20260202
DTSTAMP:20260425T091357
CREATED:20250704T014346Z
LAST-MODIFIED:20260201T234027Z
UID:10012025-1769904000-1769990399@hrbcrichmond.org
SUMMARY:The Lord's Supper
DESCRIPTION:
URL:https://hrbcrichmond.org/event/the-lords-supper-40/
END:VEVENT
BEGIN:VEVENT
DTSTART;TZID=America/New_York:20260201T080000
DTEND;TZID=America/New_York:20260201T090000
DTSTAMP:20260425T091357
CREATED:20250704T192901Z
LAST-MODIFIED:20260202T155840Z
UID:10012026-1769932800-1769936400@hrbcrichmond.org
SUMMARY:Men's Food & Fellowship Breakfast
DESCRIPTION:
URL:https://hrbcrichmond.org/event/mens-food-fellowship-breakfast-64/
END:VEVENT
BEGIN:VEVENT
DTSTART;TZID=America/New_York:20260201T091500
DTEND;TZID=America/New_York:20260201T101500
DTSTAMP:20260425T091357
CREATED:20250705T044405Z
LAST-MODIFIED:20260202T155840Z
UID:10012027-1769937300-1769940900@hrbcrichmond.org
SUMMARY:Bible Study - All Ages
DESCRIPTION:
URL:https://hrbcrichmond.org/event/bible-study-all-ages-63/
END:VEVENT
BEGIN:VEVENT
DTSTART;TZID=America/New_York:20260201T103000
DTEND;TZID=America/New_York:20260201T113000
DTSTAMP:20260425T091357
CREATED:20250706T145847Z
LAST-MODIFIED:20260201T161051Z
UID:10012028-1769941800-1769945400@hrbcrichmond.org
SUMMARY:Worship
DESCRIPTION:
URL:https://hrbcrichmond.org/event/worship-137/
LOCATION:Virtual
END:VEVENT
BEGIN:VEVENT
DTSTART;TZID=America/New_York:20260201T113000
DTEND;TZID=America/New_York:20260201T123000
DTSTAMP:20260425T091357
CREATED:20250910T142539Z
LAST-MODIFIED:20260202T155840Z
UID:10012370-1769945400-1769949000@hrbcrichmond.org
SUMMARY:Outreach Meeting
DESCRIPTION:
URL:https://hrbcrichmond.org/event/outreach-meeting-8/
LOCATION:MPR 1
END:VEVENT
BEGIN:VEVENT
DTSTART;TZID=America/New_York:20260201T153000
DTEND;TZID=America/New_York:20260201T163000
DTSTAMP:20260425T091357
CREATED:20251222T151214Z
LAST-MODIFIED:20260201T211045Z
UID:10012780-1769959800-1769963400@hrbcrichmond.org
SUMMARY:Small Group for Young Adults
DESCRIPTION:
URL:https://hrbcrichmond.org/event/small-group-for-young-adults-20/
LOCATION:Libbie Mill Library
END:VEVENT
BEGIN:VEVENT
DTSTART;TZID=America/New_York:20260201T183000
DTEND;TZID=America/New_York:20260201T203000
DTSTAMP:20260425T091357
CREATED:20260107T132628Z
LAST-MODIFIED:20260202T155840Z
UID:10012810-1769970600-1769977800@hrbcrichmond.org
SUMMARY:Annual Congregational Meeting
DESCRIPTION:
URL:https://hrbcrichmond.org/event/annual-congregational-meeting-2/
LOCATION:MPR 2
END:VEVENT
BEGIN:VEVENT
DTSTART;TZID=America/New_York:20260202T143000
DTEND;TZID=America/New_York:20260202T160000
DTSTAMP:20260425T091357
CREATED:20251002T134854Z
LAST-MODIFIED:20260202T205600Z
UID:10012426-1770042600-1770048000@hrbcrichmond.org
SUMMARY:Staff Meeting
DESCRIPTION:
URL:https://hrbcrichmond.org/event/staff-meeting-164/
LOCATION:Conference Room
END:VEVENT
BEGIN:VEVENT
DTSTART;TZID=America/New_York:20260202T181500
DTEND;TZID=America/New_York:20260202T193000
DTSTAMP:20260425T091357
CREATED:20260122T201104Z
LAST-MODIFIED:20260202T232547Z
UID:10012864-1770056100-1770060600@hrbcrichmond.org
SUMMARY:Praise Team Rehearsal
DESCRIPTION:
URL:https://hrbcrichmond.org/event/praise-team-rehearsal/
LOCATION:Sanctuary
END:VEVENT
BEGIN:VEVENT
DTSTART;TZID=America/New_York:20260202T183000
DTEND;TZID=America/New_York:20260202T200000
DTSTAMP:20260425T091357
CREATED:20250706T160838Z
LAST-MODIFIED:20260203T004041Z
UID:10012029-1770057000-1770062400@hrbcrichmond.org
SUMMARY:Fellowship Group Meeting
DESCRIPTION:
URL:https://hrbcrichmond.org/event/fellowship-group-meeting-23/
LOCATION:MPR 1
END:VEVENT
BEGIN:VEVENT
DTSTART;TZID=America/New_York:20260203T100000
DTEND;TZID=America/New_York:20260203T110000
DTSTAMP:20260425T091357
CREATED:20250818T175208Z
LAST-MODIFIED:20260203T154045Z
UID:10012185-1770112800-1770116400@hrbcrichmond.org
SUMMARY:Dotty Shepard WMU meeting
DESCRIPTION:
URL:https://hrbcrichmond.org/event/dotty-shepard-wmu-meeting-6/
LOCATION:MPR 1
END:VEVENT
BEGIN:VEVENT
DTSTART;TZID=America/New_York:20260203T173000
DTEND;TZID=America/New_York:20260203T200000
DTSTAMP:20260425T091357
CREATED:20250910T142556Z
LAST-MODIFIED:20260204T002554Z
UID:10012371-1770139800-1770148800@hrbcrichmond.org
SUMMARY:Executive Council Meeting
DESCRIPTION:
URL:https://hrbcrichmond.org/event/executive-council-meeting-27/
LOCATION:MPR 1
END:VEVENT
BEGIN:VEVENT
DTSTART;TZID=America/New_York:20260204T100000
DTEND;TZID=America/New_York:20260204T110000
DTSTAMP:20260425T091357
CREATED:20260122T185602Z
LAST-MODIFIED:20260204T152527Z
UID:10012858-1770199200-1770202800@hrbcrichmond.org
SUMMARY:Adult Bible Study
DESCRIPTION:
URL:https://hrbcrichmond.org/event/adult-bible-study-2/
LOCATION:MPR2
END:VEVENT
BEGIN:VEVENT
DTSTART;TZID=America/New_York:20260204T180000
DTEND;TZID=America/New_York:20260204T193000
DTSTAMP:20260425T091357
CREATED:20251106T204528Z
LAST-MODIFIED:20260205T001026Z
UID:10012575-1770228000-1770233400@hrbcrichmond.org
SUMMARY:Wednesday Night Activities
DESCRIPTION:
URL:https://hrbcrichmond.org/event/wednesday-night-activities-4/
END:VEVENT
BEGIN:VEVENT
DTSTART;TZID=America/New_York:20260204T193000
DTEND;TZID=America/New_York:20260204T210000
DTSTAMP:20260425T091357
CREATED:20250709T014355Z
LAST-MODIFIED:20260204T202556Z
UID:10012033-1770233400-1770238800@hrbcrichmond.org
SUMMARY:European Wind Ensemble Rehearsal
DESCRIPTION:
URL:https://hrbcrichmond.org/event/european-wind-ensemble-rehearsal-144/
LOCATION:Gym
END:VEVENT
BEGIN:VEVENT
DTSTART;TZID=America/New_York:20260205T090000
DTEND;TZID=America/New_York:20260205T103000
DTSTAMP:20260425T091357
CREATED:20250709T125845Z
LAST-MODIFIED:20260205T151101Z
UID:10012036-1770282000-1770287400@hrbcrichmond.org
SUMMARY:Second Half Men's Ministry
DESCRIPTION:
URL:https://hrbcrichmond.org/event/second-half-mens-ministry-24/
LOCATION:MPR 1
END:VEVENT
BEGIN:VEVENT
DTSTART;TZID=America/New_York:20260205T100000
DTEND;TZID=America/New_York:20260205T113000
DTSTAMP:20260425T091357
CREATED:20260130T141115Z
LAST-MODIFIED:20260205T162541Z
UID:10012896-1770285600-1770291000@hrbcrichmond.org
SUMMARY:WMU Meeting
DESCRIPTION:
URL:https://hrbcrichmond.org/event/wmu-meeting/
LOCATION:MPR2
END:VEVENT
BEGIN:VEVENT
DTSTART;TZID=America/New_York:20260205T140000
DTEND;TZID=America/New_York:20260205T160000
DTSTAMP:20260425T091357
CREATED:20250709T125846Z
LAST-MODIFIED:20260205T201034Z
UID:10012037-1770300000-1770307200@hrbcrichmond.org
SUMMARY:Bridge
DESCRIPTION:
URL:https://hrbcrichmond.org/event/bridge-140/
LOCATION:Commons
END:VEVENT
BEGIN:VEVENT
DTSTART;TZID=America/New_York:20260205T183000
DTEND;TZID=America/New_York:20260205T200000
DTSTAMP:20260425T091357
CREATED:20250709T125846Z
LAST-MODIFIED:20260205T235528Z
UID:10012038-1770316200-1770321600@hrbcrichmond.org
SUMMARY:S.H.E.E.P
DESCRIPTION:
URL:https://hrbcrichmond.org/event/s-h-e-e-p-59/
LOCATION:Cousins Room
END:VEVENT
BEGIN:VEVENT
DTSTART;TZID=America/New_York:20260205T190000
DTEND;TZID=America/New_York:20260205T210000
DTSTAMP:20260425T091357
CREATED:20250710T002402Z
LAST-MODIFIED:20260206T011054Z
UID:10012040-1770318000-1770325200@hrbcrichmond.org
SUMMARY:AA
DESCRIPTION:
URL:https://hrbcrichmond.org/event/aa-140/
LOCATION:200
END:VEVENT
BEGIN:VEVENT
DTSTART;TZID=America/New_York:20260205T193000
DTEND;TZID=America/New_York:20260205T203000
DTSTAMP:20260425T091357
CREATED:20250710T002401Z
LAST-MODIFIED:20260206T011055Z
UID:10012039-1770319800-1770323400@hrbcrichmond.org
SUMMARY:Families Anonymous
DESCRIPTION:
URL:https://hrbcrichmond.org/event/families-anonymous-147/
LOCATION:209
END:VEVENT
BEGIN:VEVENT
DTSTART;TZID=America/New_York:20260208T080000
DTEND;TZID=America/New_York:20260208T090000
DTSTAMP:20260425T091357
CREATED:20250710T014402Z
LAST-MODIFIED:20260208T131031Z
UID:10012041-1770537600-1770541200@hrbcrichmond.org
SUMMARY:Men's Food & Fellowship Breakfast
DESCRIPTION:
URL:https://hrbcrichmond.org/event/mens-food-fellowship-breakfast-65/
END:VEVENT
BEGIN:VEVENT
DTSTART;TZID=America/New_York:20260208T091500
DTEND;TZID=America/New_York:20260208T101500
DTSTAMP:20260425T091357
CREATED:20250710T182441Z
LAST-MODIFIED:20260208T142554Z
UID:10012042-1770542100-1770545700@hrbcrichmond.org
SUMMARY:Bible Study - All Ages
DESCRIPTION:
URL:https://hrbcrichmond.org/event/bible-study-all-ages-64/
END:VEVENT
BEGIN:VEVENT
DTSTART;TZID=America/New_York:20260208T103000
DTEND;TZID=America/New_York:20260208T113000
DTSTAMP:20260425T091357
CREATED:20250710T205341Z
LAST-MODIFIED:20260208T154058Z
UID:10012043-1770546600-1770550200@hrbcrichmond.org
SUMMARY:Worship
DESCRIPTION:
URL:https://hrbcrichmond.org/event/worship-138/
LOCATION:Sanctuary
END:VEVENT
END:VCALENDAR