BEGIN:VCALENDAR
VERSION:2.0
PRODID:-//Huguenot Road Baptist Church - ECPv6.15.20//NONSGML v1.0//EN
CALSCALE:GREGORIAN
METHOD:PUBLISH
X-WR-CALNAME:Huguenot Road Baptist Church
X-ORIGINAL-URL:https://hrbcrichmond.org
X-WR-CALDESC:Events for Huguenot Road Baptist Church
REFRESH-INTERVAL;VALUE=DURATION:PT1H
X-Robots-Tag:noindex
X-PUBLISHED-TTL:PT1H
BEGIN:VTIMEZONE
TZID:America/New_York
BEGIN:DAYLIGHT
TZOFFSETFROM:-0500
TZOFFSETTO:-0400
TZNAME:EDT
DTSTART:20250309T070000
END:DAYLIGHT
BEGIN:STANDARD
TZOFFSETFROM:-0400
TZOFFSETTO:-0500
TZNAME:EST
DTSTART:20251102T060000
END:STANDARD
BEGIN:DAYLIGHT
TZOFFSETFROM:-0500
TZOFFSETTO:-0400
TZNAME:EDT
DTSTART:20260308T070000
END:DAYLIGHT
BEGIN:STANDARD
TZOFFSETFROM:-0400
TZOFFSETTO:-0500
TZNAME:EST
DTSTART:20261101T060000
END:STANDARD
BEGIN:DAYLIGHT
TZOFFSETFROM:-0500
TZOFFSETTO:-0400
TZNAME:EDT
DTSTART:20270314T070000
END:DAYLIGHT
BEGIN:STANDARD
TZOFFSETFROM:-0400
TZOFFSETTO:-0500
TZNAME:EST
DTSTART:20271107T060000
END:STANDARD
END:VTIMEZONE
BEGIN:VEVENT
DTSTART;TZID=America/New_York:20260915T183000
DTEND;TZID=America/New_York:20260915T203000
DTSTAMP:20260425T093420
CREATED:20260208T220613Z
LAST-MODIFIED:20260425T133412Z
UID:10012912-1789497000-1789504200@hrbcrichmond.org
SUMMARY:Worship Implementation Team
DESCRIPTION:
URL:https://hrbcrichmond.org/event/worship-implementation-team-41/
LOCATION:MPR 1
END:VEVENT
BEGIN:VEVENT
DTSTART;TZID=America/New_York:20260914T190000
DTEND;TZID=America/New_York:20260914T210000
DTSTAMP:20260425T093420
CREATED:20260208T182107Z
LAST-MODIFIED:20260425T133410Z
UID:10012910-1789412400-1789419600@hrbcrichmond.org
SUMMARY:Finance Group Meeting
DESCRIPTION:
URL:https://hrbcrichmond.org/event/finance-group-meeting-34/
LOCATION:By Zoom
END:VEVENT
BEGIN:VEVENT
DTSTART;TZID=America/New_York:20260914T181500
DTEND;TZID=America/New_York:20260914T193000
DTSTAMP:20260425T093420
CREATED:20260208T193628Z
LAST-MODIFIED:20260425T133412Z
UID:10012911-1789409700-1789414200@hrbcrichmond.org
SUMMARY:Praise Team Rehearsal
DESCRIPTION:
URL:https://hrbcrichmond.org/event/praise-team-rehearsal-33/
LOCATION:sanctuary
END:VEVENT
BEGIN:VEVENT
DTSTART;TZID=America/New_York:20260914T143000
DTEND;TZID=America/New_York:20260914T160000
DTSTAMP:20260425T093420
CREATED:20260208T170630Z
LAST-MODIFIED:20260425T133410Z
UID:10012909-1789396200-1789401600@hrbcrichmond.org
SUMMARY:Staff Meeting
DESCRIPTION:
URL:https://hrbcrichmond.org/event/staff-meeting-235/
LOCATION:Conference Room
END:VEVENT
BEGIN:VEVENT
DTSTART;TZID=America/New_York:20260914T101500
DTEND;TZID=America/New_York:20260914T114500
DTSTAMP:20260425T093420
CREATED:20260204T165112Z
LAST-MODIFIED:20260425T133410Z
UID:10012897-1789380900-1789386300@hrbcrichmond.org
SUMMARY:New Virginians
DESCRIPTION:
URL:https://hrbcrichmond.org/event/new-virginians-9/
LOCATION:Library
END:VEVENT
BEGIN:VEVENT
DTSTART;TZID=America/New_York:20260913T153000
DTEND;TZID=America/New_York:20260913T163000
DTSTAMP:20260425T093420
CREATED:20260310T173628Z
LAST-MODIFIED:20260425T133410Z
UID:10013260-1789313400-1789317000@hrbcrichmond.org
SUMMARY:Small Group for Young Adults
DESCRIPTION:
URL:https://hrbcrichmond.org/event/small-group-for-young-adults-52/
LOCATION:Libbie Mill Area
END:VEVENT
BEGIN:VEVENT
DTSTART;TZID=America/New_York:20260913T114500
DTEND;TZID=America/New_York:20260913T130000
DTSTAMP:20260425T093420
CREATED:20260122T025050Z
LAST-MODIFIED:20260425T133410Z
UID:10012857-1789299900-1789304400@hrbcrichmond.org
SUMMARY:Nomination Team Monthly Meeting
DESCRIPTION:
URL:https://hrbcrichmond.org/event/nomination-team-monthly-meeting-21/
LOCATION:Room 125
END:VEVENT
BEGIN:VEVENT
DTSTART;TZID=America/New_York:20260913T114500
DTEND;TZID=America/New_York:20260913T124500
DTSTAMP:20260425T093420
CREATED:20260220T023647Z
LAST-MODIFIED:20260425T133410Z
UID:10012968-1789299900-1789303500@hrbcrichmond.org
SUMMARY:Outreach Meeting
DESCRIPTION:
URL:https://hrbcrichmond.org/event/outreach-meeting-29/
LOCATION:MPR2
END:VEVENT
BEGIN:VEVENT
DTSTART;TZID=America/New_York:20260913T103000
DTEND;TZID=America/New_York:20260913T113000
DTSTAMP:20260425T093420
CREATED:20260122T013557Z
LAST-MODIFIED:20260425T133410Z
UID:10012856-1789295400-1789299000@hrbcrichmond.org
SUMMARY:Worship
DESCRIPTION:
URL:https://hrbcrichmond.org/event/worship-169/
LOCATION:sanctuary
END:VEVENT
BEGIN:VEVENT
DTSTART;TZID=America/New_York:20260913T091500
DTEND;TZID=America/New_York:20260913T101500
DTSTAMP:20260425T093420
CREATED:20260122T002115Z
LAST-MODIFIED:20260425T133409Z
UID:10012855-1789290900-1789294500@hrbcrichmond.org
SUMMARY:Bible Study - All Ages
DESCRIPTION:
URL:https://hrbcrichmond.org/event/bible-study-all-ages-95/
END:VEVENT
BEGIN:VEVENT
DTSTART;TZID=America/New_York:20260913T080000
DTEND;TZID=America/New_York:20260913T090000
DTSTAMP:20260425T093420
CREATED:20260121T230545Z
LAST-MODIFIED:20260425T133357Z
UID:10012854-1789286400-1789290000@hrbcrichmond.org
SUMMARY:Men's Food & Fellowship Breakfast
DESCRIPTION:
URL:https://hrbcrichmond.org/event/mens-food-fellowship-breakfast-96/
END:VEVENT
BEGIN:VEVENT
DTSTART;TZID=America/New_York:20260912T150000
DTEND;TZID=America/New_York:20260912T200000
DTSTAMP:20260425T093420
CREATED:20260121T203543Z
LAST-MODIFIED:20260425T133357Z
UID:10012853-1789225200-1789243200@hrbcrichmond.org
SUMMARY:VA Baptist Women's Chorale
DESCRIPTION:
URL:https://hrbcrichmond.org/event/va-baptist-womens-chorale/
LOCATION:Sanctuary; Family Life Center; MPR 1
END:VEVENT
BEGIN:VEVENT
DTSTART;TZID=America/New_York:20260911T100000
DTEND;TZID=America/New_York:20260911T120000
DTSTAMP:20260425T093420
CREATED:20260121T165120Z
LAST-MODIFIED:20260425T133357Z
UID:10012852-1789120800-1789128000@hrbcrichmond.org
SUMMARY:American Sewing Guild (ASG)
DESCRIPTION:
URL:https://hrbcrichmond.org/event/american-sewing-guild-asg-40/
LOCATION:MPR1
END:VEVENT
BEGIN:VEVENT
DTSTART;TZID=America/New_York:20260910T193000
DTEND;TZID=America/New_York:20260910T203000
DTSTAMP:20260425T093420
CREATED:20260120T155105Z
LAST-MODIFIED:20260425T133357Z
UID:10012849-1789068600-1789072200@hrbcrichmond.org
SUMMARY:Families Anonymous
DESCRIPTION:
URL:https://hrbcrichmond.org/event/families-anonymous-178/
LOCATION:209
END:VEVENT
BEGIN:VEVENT
DTSTART;TZID=America/New_York:20260910T190000
DTEND;TZID=America/New_York:20260910T210000
DTSTAMP:20260425T093420
CREATED:20260120T005102Z
LAST-MODIFIED:20260425T133357Z
UID:10012847-1789066800-1789074000@hrbcrichmond.org
SUMMARY:AA
DESCRIPTION:
URL:https://hrbcrichmond.org/event/aa-173/
LOCATION:200
END:VEVENT
BEGIN:VEVENT
DTSTART;TZID=America/New_York:20260910T184500
DTEND;TZID=America/New_York:20260910T203000
DTSTAMP:20260425T093420
CREATED:20260118T222052Z
LAST-MODIFIED:20260425T133357Z
UID:10012846-1789065900-1789072200@hrbcrichmond.org
SUMMARY:Discipleship Group Meeting
DESCRIPTION:
URL:https://hrbcrichmond.org/event/discipleship-group-meeting-43/
LOCATION:Cousins Room
END:VEVENT
BEGIN:VEVENT
DTSTART;TZID=America/New_York:20260910T140000
DTEND;TZID=America/New_York:20260910T160000
DTSTAMP:20260425T093420
CREATED:20260118T222052Z
LAST-MODIFIED:20260425T133357Z
UID:10012845-1789048800-1789056000@hrbcrichmond.org
SUMMARY:Bridge
DESCRIPTION:
URL:https://hrbcrichmond.org/event/bridge-171/
LOCATION:Commons
END:VEVENT
BEGIN:VEVENT
DTSTART;TZID=America/New_York:20260910T110000
DTEND;TZID=America/New_York:20260910T133000
DTSTAMP:20260425T093420
CREATED:20260118T195039Z
LAST-MODIFIED:20260425T133357Z
UID:10012844-1789038000-1789047000@hrbcrichmond.org
SUMMARY:CDC Monthly Meeting
DESCRIPTION:
URL:https://hrbcrichmond.org/event/cdc-monthly-meeting-48/
LOCATION:Rod Hale Classroom
END:VEVENT
BEGIN:VEVENT
DTSTART;TZID=America/New_York:20260909T193000
DTEND;TZID=America/New_York:20260909T210000
DTSTAMP:20260425T093420
CREATED:20260118T172116Z
LAST-MODIFIED:20260425T133357Z
UID:10012843-1788982200-1788987600@hrbcrichmond.org
SUMMARY:European Wind Ensemble Rehearsal
DESCRIPTION:
URL:https://hrbcrichmond.org/event/european-wind-ensemble-rehearsal-175/
LOCATION:Gym
END:VEVENT
BEGIN:VEVENT
DTSTART;TZID=America/New_York:20260909T180000
DTEND;TZID=America/New_York:20260909T193000
DTSTAMP:20260425T093420
CREATED:20260320T165116Z
LAST-MODIFIED:20260425T133357Z
UID:10013285-1788976800-1788982200@hrbcrichmond.org
SUMMARY:Wednesday Night Activities
DESCRIPTION:
URL:https://hrbcrichmond.org/event/wednesday-night-activities-35/
END:VEVENT
BEGIN:VEVENT
DTSTART;TZID=America/New_York:20260907T183000
DTEND;TZID=America/New_York:20260907T200000
DTSTAMP:20260425T093420
CREATED:20260118T160548Z
LAST-MODIFIED:20260425T133344Z
UID:10012842-1788805800-1788811200@hrbcrichmond.org
SUMMARY:Fellowship Group Meeting
DESCRIPTION:
URL:https://hrbcrichmond.org/event/fellowship-group-meeting-30/
LOCATION:MPR 1
END:VEVENT
BEGIN:VEVENT
DTSTART;TZID=America/New_York:20260907T181500
DTEND;TZID=America/New_York:20260907T193000
DTSTAMP:20260425T093420
CREATED:20260128T160554Z
LAST-MODIFIED:20260425T133345Z
UID:10012895-1788804900-1788809400@hrbcrichmond.org
SUMMARY:Praise Team Rehearsal
DESCRIPTION:
URL:https://hrbcrichmond.org/event/praise-team-rehearsal-32/
LOCATION:sanctuary
END:VEVENT
BEGIN:VEVENT
DTSTART;TZID=America/New_York:20260907T143000
DTEND;TZID=America/New_York:20260907T160000
DTSTAMP:20260425T093420
CREATED:20260118T145058Z
LAST-MODIFIED:20260425T133344Z
UID:10012841-1788791400-1788796800@hrbcrichmond.org
SUMMARY:Staff Meeting
DESCRIPTION:
URL:https://hrbcrichmond.org/event/staff-meeting-234/
LOCATION:Conference Room
END:VEVENT
BEGIN:VEVENT
DTSTART;TZID=America/New_York:20260906T153000
DTEND;TZID=America/New_York:20260906T163000
DTSTAMP:20260425T093420
CREATED:20260310T173600Z
LAST-MODIFIED:20260425T133344Z
UID:10013259-1788708600-1788712200@hrbcrichmond.org
SUMMARY:Small Group for Young Adults
DESCRIPTION:
URL:https://hrbcrichmond.org/event/small-group-for-young-adults-51/
LOCATION:Libbie Mill Area
END:VEVENT
BEGIN:VEVENT
DTSTART;TZID=America/New_York:20260906T114500
DTEND;TZID=America/New_York:20260906T121500
DTSTAMP:20260425T093420
CREATED:20260217T182118Z
LAST-MODIFIED:20260425T133343Z
UID:10012966-1788695100-1788696900@hrbcrichmond.org
SUMMARY:Family Ministries meeting
DESCRIPTION:
URL:https://hrbcrichmond.org/event/family-ministries-meeting-7/
LOCATION:MPR1
END:VEVENT
BEGIN:VEVENT
DTSTART;TZID=America/New_York:20260906T103000
DTEND;TZID=America/New_York:20260906T113000
DTSTAMP:20260425T093420
CREATED:20260111T225055Z
LAST-MODIFIED:20260425T133344Z
UID:10012825-1788690600-1788694200@hrbcrichmond.org
SUMMARY:Worship
DESCRIPTION:
URL:https://hrbcrichmond.org/event/worship-168/
LOCATION:sanctuary
END:VEVENT
BEGIN:VEVENT
DTSTART;TZID=America/New_York:20260906T091500
DTEND;TZID=America/New_York:20260906T101500
DTSTAMP:20260425T093420
CREATED:20260116T013553Z
LAST-MODIFIED:20260425T133343Z
UID:10012840-1788686100-1788689700@hrbcrichmond.org
SUMMARY:Bible Study - All Ages
DESCRIPTION:
URL:https://hrbcrichmond.org/event/bible-study-all-ages-94/
END:VEVENT
BEGIN:VEVENT
DTSTART;TZID=America/New_York:20260906T080000
DTEND;TZID=America/New_York:20260906T090000
DTSTAMP:20260425T093420
CREATED:20260111T190611Z
LAST-MODIFIED:20260425T133343Z
UID:10012823-1788681600-1788685200@hrbcrichmond.org
SUMMARY:Men's Food & Fellowship Breakfast
DESCRIPTION:
URL:https://hrbcrichmond.org/event/mens-food-fellowship-breakfast-95/
END:VEVENT
BEGIN:VEVENT
DTSTART;VALUE=DATE:20260906
DTEND;VALUE=DATE:20260907
DTSTAMP:20260425T093420
CREATED:20260111T225055Z
LAST-MODIFIED:20260425T133343Z
UID:10012827-1788652800-1788739199@hrbcrichmond.org
SUMMARY:The Lord's Supper
DESCRIPTION:
URL:https://hrbcrichmond.org/event/the-lords-supper-55/
END:VEVENT
BEGIN:VEVENT
DTSTART;VALUE=DATE:20260906
DTEND;VALUE=DATE:20260907
DTSTAMP:20260425T093420
CREATED:20260111T190611Z
LAST-MODIFIED:20260425T133342Z
UID:10012824-1788652800-1788739199@hrbcrichmond.org
SUMMARY:First Sunday Food Offering
DESCRIPTION:
URL:https://hrbcrichmond.org/event/first-sunday-food-offering-55/
END:VEVENT
END:VCALENDAR