BEGIN:VCALENDAR
VERSION:2.0
PRODID:-//Huguenot Road Baptist Church - ECPv6.15.20//NONSGML v1.0//EN
CALSCALE:GREGORIAN
METHOD:PUBLISH
X-WR-CALNAME:Huguenot Road Baptist Church
X-ORIGINAL-URL:https://hrbcrichmond.org
X-WR-CALDESC:Events for Huguenot Road Baptist Church
REFRESH-INTERVAL;VALUE=DURATION:PT1H
X-Robots-Tag:noindex
X-PUBLISHED-TTL:PT1H
BEGIN:VTIMEZONE
TZID:America/New_York
BEGIN:DAYLIGHT
TZOFFSETFROM:-0500
TZOFFSETTO:-0400
TZNAME:EDT
DTSTART:20250309T070000
END:DAYLIGHT
BEGIN:STANDARD
TZOFFSETFROM:-0400
TZOFFSETTO:-0500
TZNAME:EST
DTSTART:20251102T060000
END:STANDARD
BEGIN:DAYLIGHT
TZOFFSETFROM:-0500
TZOFFSETTO:-0400
TZNAME:EDT
DTSTART:20260308T070000
END:DAYLIGHT
BEGIN:STANDARD
TZOFFSETFROM:-0400
TZOFFSETTO:-0500
TZNAME:EST
DTSTART:20261101T060000
END:STANDARD
BEGIN:DAYLIGHT
TZOFFSETFROM:-0500
TZOFFSETTO:-0400
TZNAME:EDT
DTSTART:20270314T070000
END:DAYLIGHT
BEGIN:STANDARD
TZOFFSETFROM:-0400
TZOFFSETTO:-0500
TZNAME:EST
DTSTART:20271107T060000
END:STANDARD
END:VTIMEZONE
BEGIN:VEVENT
DTSTART;TZID=America/New_York:20260408T193000
DTEND;TZID=America/New_York:20260408T210000
DTSTAMP:20260425T112713
CREATED:20250826T184414Z
LAST-MODIFIED:20260409T001046Z
UID:10012281-1775676600-1775682000@hrbcrichmond.org
SUMMARY:European Wind Ensemble Rehearsal
DESCRIPTION:
URL:https://hrbcrichmond.org/event/european-wind-ensemble-rehearsal-153/
LOCATION:Gym
END:VEVENT
BEGIN:VEVENT
DTSTART;TZID=America/New_York:20260408T180000
DTEND;TZID=America/New_York:20260408T193000
DTSTAMP:20260425T112713
CREATED:20251106T204824Z
LAST-MODIFIED:20260408T225529Z
UID:10012584-1775671200-1775676600@hrbcrichmond.org
SUMMARY:Wednesday Night Activities
DESCRIPTION:
URL:https://hrbcrichmond.org/event/wednesday-night-activities-13/
END:VEVENT
BEGIN:VEVENT
DTSTART;TZID=America/New_York:20260408T123000
DTEND;TZID=America/New_York:20260408T143000
DTSTAMP:20260425T112713
CREATED:20260408T125539Z
LAST-MODIFIED:20260408T175528Z
UID:10013325-1775651400-1775658600@hrbcrichmond.org
SUMMARY:CDC meeting
DESCRIPTION:
URL:https://hrbcrichmond.org/event/cdc-meeting-2/
LOCATION:classroom
END:VEVENT
BEGIN:VEVENT
DTSTART;TZID=America/New_York:20260408T100000
DTEND;TZID=America/New_York:20260408T110000
DTSTAMP:20260425T112713
CREATED:20260401T151105Z
LAST-MODIFIED:20260408T141019Z
UID:10013301-1775642400-1775646000@hrbcrichmond.org
SUMMARY:Adult Bible Study - Walking with God
DESCRIPTION:
URL:https://hrbcrichmond.org/event/adult-bible-study-walking-with-god/
LOCATION:MPR 1
END:VEVENT
BEGIN:VEVENT
DTSTART;TZID=America/New_York:20260407T183000
DTEND;TZID=America/New_York:20260407T210000
DTSTAMP:20260425T112713
CREATED:20250910T142919Z
LAST-MODIFIED:20260408T002517Z
UID:10012379-1775586600-1775595600@hrbcrichmond.org
SUMMARY:Executive Council Meeting
DESCRIPTION:
URL:https://hrbcrichmond.org/event/executive-council-meeting-29/
LOCATION:MPR 1
END:VEVENT
BEGIN:VEVENT
DTSTART;TZID=America/New_York:20260407T133000
DTEND;TZID=America/New_York:20260407T153000
DTSTAMP:20260425T112713
CREATED:20260209T174347Z
LAST-MODIFIED:20260407T192521Z
UID:10012921-1775568600-1775575800@hrbcrichmond.org
SUMMARY:Ovation Rehearsal
DESCRIPTION:
URL:https://hrbcrichmond.org/event/ovation-rehearsal-103/
LOCATION:Sanctuary
END:VEVENT
BEGIN:VEVENT
DTSTART;TZID=America/New_York:20260407T103000
DTEND;TZID=America/New_York:20260407T120000
DTSTAMP:20260425T112713
CREATED:20251002T135217Z
LAST-MODIFIED:20260407T154025Z
UID:10012435-1775557800-1775563200@hrbcrichmond.org
SUMMARY:Staff Meeting
DESCRIPTION:
URL:https://hrbcrichmond.org/event/staff-meeting-173/
LOCATION:Conference Room
END:VEVENT
BEGIN:VEVENT
DTSTART;TZID=America/New_York:20260407T100000
DTEND;TZID=America/New_York:20260407T110000
DTSTAMP:20260425T112713
CREATED:20250826T184412Z
LAST-MODIFIED:20260407T142540Z
UID:10012280-1775556000-1775559600@hrbcrichmond.org
SUMMARY:Dotty Shepard WMU meeting
DESCRIPTION:
URL:https://hrbcrichmond.org/event/dotty-shepard-wmu-meeting-8/
LOCATION:MPR 1
END:VEVENT
BEGIN:VEVENT
DTSTART;VALUE=DATE:20260406
DTEND;VALUE=DATE:20260407
DTSTAMP:20260425T112713
CREATED:20260107T144515Z
LAST-MODIFIED:20260406T235542Z
UID:10012813-1775433600-1775519999@hrbcrichmond.org
SUMMARY:Church Office Closed
DESCRIPTION:
URL:https://hrbcrichmond.org/event/church-office-closed-7/
END:VEVENT
BEGIN:VEVENT
DTSTART;TZID=America/New_York:20260405T160000
DTEND;TZID=America/New_York:20260405T180000
DTSTAMP:20260425T112713
CREATED:20260211T182905Z
LAST-MODIFIED:20260405T205527Z
UID:10012947-1775404800-1775412000@hrbcrichmond.org
SUMMARY:CAST Rehearsal
DESCRIPTION:
URL:https://hrbcrichmond.org/event/cast-rehearsal-22/
LOCATION:Sanctuary
END:VEVENT
BEGIN:VEVENT
DTSTART;TZID=America/New_York:20260405T153000
DTEND;TZID=America/New_York:20260405T163000
DTSTAMP:20260425T112713
CREATED:20260309T212800Z
LAST-MODIFIED:20260406T150511Z
UID:10013146-1775403000-1775406600@hrbcrichmond.org
SUMMARY:Small Group for Young Adults
DESCRIPTION:
URL:https://hrbcrichmond.org/event/small-group-for-young-adults-29/
LOCATION:Libbie Mill Area
END:VEVENT
BEGIN:VEVENT
DTSTART;TZID=America/New_York:20260405T114500
DTEND;TZID=America/New_York:20260405T121500
DTSTAMP:20260425T112713
CREATED:20260217T181328Z
LAST-MODIFIED:20260406T150511Z
UID:10012956-1775389500-1775391300@hrbcrichmond.org
SUMMARY:Family Ministries meeting
DESCRIPTION:
URL:https://hrbcrichmond.org/event/family-ministries-meeting-2/
LOCATION:MPR1
END:VEVENT
BEGIN:VEVENT
DTSTART;TZID=America/New_York:20260405T103000
DTEND;TZID=America/New_York:20260405T113000
DTSTAMP:20260425T112713
CREATED:20250826T184354Z
LAST-MODIFIED:20260405T144045Z
UID:10012276-1775385000-1775388600@hrbcrichmond.org
SUMMARY:Worship
DESCRIPTION:
URL:https://hrbcrichmond.org/event/worship-146/
LOCATION:Sanctuary
CATEGORIES:Lent
END:VEVENT
BEGIN:VEVENT
DTSTART;TZID=America/New_York:20260405T091500
DTEND;TZID=America/New_York:20260405T101500
DTSTAMP:20260425T112713
CREATED:20250826T184354Z
LAST-MODIFIED:20260405T132544Z
UID:10012275-1775380500-1775384100@hrbcrichmond.org
SUMMARY:Bible Study - All Ages
DESCRIPTION:
URL:https://hrbcrichmond.org/event/bible-study-all-ages-72/
END:VEVENT
BEGIN:VEVENT
DTSTART;TZID=America/New_York:20260405T080000
DTEND;TZID=America/New_York:20260405T090000
DTSTAMP:20260425T112713
CREATED:20250826T184353Z
LAST-MODIFIED:20260405T121038Z
UID:10012273-1775376000-1775379600@hrbcrichmond.org
SUMMARY:Men's Food & Fellowship Breakfast
DESCRIPTION:
URL:https://hrbcrichmond.org/event/mens-food-fellowship-breakfast-73/
END:VEVENT
BEGIN:VEVENT
DTSTART;VALUE=DATE:20260405
DTEND;VALUE=DATE:20260406
DTSTAMP:20260425T112713
CREATED:20260211T182905Z
LAST-MODIFIED:20260405T232543Z
UID:10012948-1775347200-1775433599@hrbcrichmond.org
SUMMARY:Easter Sunday
DESCRIPTION:
URL:https://hrbcrichmond.org/event/easter-sunday-3/
END:VEVENT
BEGIN:VEVENT
DTSTART;VALUE=DATE:20260405
DTEND;VALUE=DATE:20260406
DTSTAMP:20260425T112713
CREATED:20250826T184355Z
LAST-MODIFIED:20260405T232543Z
UID:10012277-1775347200-1775433599@hrbcrichmond.org
SUMMARY:The Lord's Supper
DESCRIPTION:
URL:https://hrbcrichmond.org/event/the-lords-supper-42/
END:VEVENT
BEGIN:VEVENT
DTSTART;VALUE=DATE:20260405
DTEND;VALUE=DATE:20260406
DTSTAMP:20260425T112713
CREATED:20250826T184353Z
LAST-MODIFIED:20260405T232543Z
UID:10012274-1775347200-1775433599@hrbcrichmond.org
SUMMARY:First Sunday Food Offering
DESCRIPTION:
URL:https://hrbcrichmond.org/event/first-sunday-food-offering-42/
END:VEVENT
BEGIN:VEVENT
DTSTART;TZID=America/New_York:20260403T120000
DTEND;TZID=America/New_York:20260403T130000
DTSTAMP:20260425T112713
CREATED:20260320T164139Z
LAST-MODIFIED:20260403T162532Z
UID:10013269-1775217600-1775221200@hrbcrichmond.org
SUMMARY:Community Good Friday Worship
DESCRIPTION:
URL:https://hrbcrichmond.org/event/community-good-friday-worship/
LOCATION:Bon Air Christian Church\, 2071 Buford Rd\, North Chesterfield\, VA\, 23235\, United States
END:VEVENT
BEGIN:VEVENT
DTSTART;VALUE=DATE:20260403
DTEND;VALUE=DATE:20260404
DTSTAMP:20260425T112713
CREATED:20260211T182852Z
LAST-MODIFIED:20260403T235519Z
UID:10012946-1775174400-1775260799@hrbcrichmond.org
SUMMARY:Good Friday
DESCRIPTION:
URL:https://hrbcrichmond.org/event/good-friday-3/
END:VEVENT
BEGIN:VEVENT
DTSTART;TZID=America/New_York:20260402T193000
DTEND;TZID=America/New_York:20260402T203000
DTSTAMP:20260425T112713
CREATED:20250826T184351Z
LAST-MODIFIED:20260402T231031Z
UID:10012270-1775158200-1775161800@hrbcrichmond.org
SUMMARY:Families Anonymous
DESCRIPTION:
URL:https://hrbcrichmond.org/event/families-anonymous-155/
LOCATION:209
END:VEVENT
BEGIN:VEVENT
DTSTART;TZID=America/New_York:20260402T190000
DTEND;TZID=America/New_York:20260402T210000
DTSTAMP:20260425T112713
CREATED:20250826T184352Z
LAST-MODIFIED:20260402T231031Z
UID:10012272-1775156400-1775163600@hrbcrichmond.org
SUMMARY:AA
DESCRIPTION:
URL:https://hrbcrichmond.org/event/aa-148/
LOCATION:200
END:VEVENT
BEGIN:VEVENT
DTSTART;TZID=America/New_York:20260402T180000
DTEND;TZID=America/New_York:20260402T190000
DTSTAMP:20260425T112713
CREATED:20251117T164743Z
LAST-MODIFIED:20260402T215532Z
UID:10012615-1775152800-1775156400@hrbcrichmond.org
SUMMARY:Maundy Thursday Service
DESCRIPTION:
URL:https://hrbcrichmond.org/event/maundy-thursday-service-3/
LOCATION:Sanctuary
CATEGORIES:Lent
END:VEVENT
BEGIN:VEVENT
DTSTART;TZID=America/New_York:20260402T140000
DTEND;TZID=America/New_York:20260402T160000
DTSTAMP:20260425T112713
CREATED:20250826T184351Z
LAST-MODIFIED:20260402T192521Z
UID:10012269-1775138400-1775145600@hrbcrichmond.org
SUMMARY:Bridge
DESCRIPTION:
URL:https://hrbcrichmond.org/event/bridge-148/
LOCATION:Commons
END:VEVENT
BEGIN:VEVENT
DTSTART;TZID=America/New_York:20260402T090000
DTEND;TZID=America/New_York:20260402T103000
DTSTAMP:20260425T112713
CREATED:20250826T184350Z
LAST-MODIFIED:20260402T134029Z
UID:10012268-1775120400-1775125800@hrbcrichmond.org
SUMMARY:Second Half Men's Ministry
DESCRIPTION:
URL:https://hrbcrichmond.org/event/second-half-mens-ministry-26/
LOCATION:MPR 1
END:VEVENT
BEGIN:VEVENT
DTSTART;TZID=America/New_York:20260401T193000
DTEND;TZID=America/New_York:20260401T210000
DTSTAMP:20260425T112713
CREATED:20250826T184334Z
LAST-MODIFIED:20260401T235528Z
UID:10012267-1775071800-1775077200@hrbcrichmond.org
SUMMARY:European Wind Ensemble Rehearsal
DESCRIPTION:
URL:https://hrbcrichmond.org/event/european-wind-ensemble-rehearsal-152/
LOCATION:Gym
END:VEVENT
BEGIN:VEVENT
DTSTART;TZID=America/New_York:20260401T100000
DTEND;TZID=America/New_York:20260401T110000
DTSTAMP:20260425T112713
CREATED:20260304T201247Z
LAST-MODIFIED:20260401T135533Z
UID:10013104-1775037600-1775041200@hrbcrichmond.org
SUMMARY:Adult Bible Study
DESCRIPTION:
URL:https://hrbcrichmond.org/event/adult-bible-study-11/
LOCATION:MPR2
END:VEVENT
BEGIN:VEVENT
DTSTART;TZID=America/New_York:20260331T133000
DTEND;TZID=America/New_York:20260331T153000
DTSTAMP:20260425T112713
CREATED:20260209T174321Z
LAST-MODIFIED:20260331T191024Z
UID:10012920-1774963800-1774971000@hrbcrichmond.org
SUMMARY:Ovation Rehearsal
DESCRIPTION:
URL:https://hrbcrichmond.org/event/ovation-rehearsal-102/
LOCATION:Sanctuary
END:VEVENT
BEGIN:VEVENT
DTSTART;TZID=America/New_York:20260330T181500
DTEND;TZID=America/New_York:20260330T193000
DTSTAMP:20260425T112713
CREATED:20260122T201359Z
LAST-MODIFIED:20260330T231026Z
UID:10012872-1774894500-1774899000@hrbcrichmond.org
SUMMARY:Praise Team Rehearsal
DESCRIPTION:
URL:https://hrbcrichmond.org/event/praise-team-rehearsal-9/
LOCATION:Sanctuary
END:VEVENT
BEGIN:VEVENT
DTSTART;TZID=America/New_York:20260330T143000
DTEND;TZID=America/New_York:20260330T160000
DTSTAMP:20260425T112713
CREATED:20251002T135159Z
LAST-MODIFIED:20260330T192519Z
UID:10012434-1774881000-1774886400@hrbcrichmond.org
SUMMARY:Staff Meeting
DESCRIPTION:
URL:https://hrbcrichmond.org/event/staff-meeting-172/
LOCATION:Conference Room
END:VEVENT
END:VCALENDAR