BEGIN:VCALENDAR
VERSION:2.0
PRODID:-//Huguenot Road Baptist Church - ECPv6.15.20//NONSGML v1.0//EN
CALSCALE:GREGORIAN
METHOD:PUBLISH
X-ORIGINAL-URL:https://hrbcrichmond.org
X-WR-CALDESC:Events for Huguenot Road Baptist Church
REFRESH-INTERVAL;VALUE=DURATION:PT1H
X-Robots-Tag:noindex
X-PUBLISHED-TTL:PT1H
BEGIN:VTIMEZONE
TZID:America/New_York
BEGIN:DAYLIGHT
TZOFFSETFROM:-0500
TZOFFSETTO:-0400
TZNAME:EDT
DTSTART:20220313T070000
END:DAYLIGHT
BEGIN:STANDARD
TZOFFSETFROM:-0400
TZOFFSETTO:-0500
TZNAME:EST
DTSTART:20221106T060000
END:STANDARD
BEGIN:DAYLIGHT
TZOFFSETFROM:-0500
TZOFFSETTO:-0400
TZNAME:EDT
DTSTART:20230312T070000
END:DAYLIGHT
BEGIN:STANDARD
TZOFFSETFROM:-0400
TZOFFSETTO:-0500
TZNAME:EST
DTSTART:20231105T060000
END:STANDARD
BEGIN:DAYLIGHT
TZOFFSETFROM:-0500
TZOFFSETTO:-0400
TZNAME:EDT
DTSTART:20240310T070000
END:DAYLIGHT
BEGIN:STANDARD
TZOFFSETFROM:-0400
TZOFFSETTO:-0500
TZNAME:EST
DTSTART:20241103T060000
END:STANDARD
END:VTIMEZONE
BEGIN:VEVENT
DTSTART;TZID=America/New_York:20230423T103000
DTEND;TZID=America/New_York:20230423T113000
DTSTAMP:20260425T100710
CREATED:20230209T201238Z
LAST-MODIFIED:20230527T180553Z
UID:10003649-1682245800-1682249400@hrbcrichmond.org
SUMMARY:Worship!
DESCRIPTION:
URL:https://hrbcrichmond.org/event/worship/2023-04-23/
CATEGORIES:Adults,Students,Sunday Schedule
END:VEVENT
BEGIN:VEVENT
DTSTART;TZID=America/New_York:20230423T091500
DTEND;TZID=America/New_York:20230423T101500
DTSTAMP:20260425T100710
CREATED:20230209T201133Z
LAST-MODIFIED:20230209T201133Z
UID:10003396-1682241300-1682244900@hrbcrichmond.org
SUMMARY:Bible Study
DESCRIPTION:Grades K-2: Room C-205\nGrades 3-5: Room C-206\nMiddle School: Room 210\nHigh School: Room 211
URL:https://hrbcrichmond.org/event/bible-study-2/2023-04-23/
CATEGORIES:Adults,Children,Students,Sunday Schedule
END:VEVENT
BEGIN:VEVENT
DTSTART;TZID=America/New_York:20230416T103000
DTEND;TZID=America/New_York:20230416T113000
DTSTAMP:20260425T100710
CREATED:20230209T201238Z
LAST-MODIFIED:20230527T180553Z
UID:10003648-1681641000-1681644600@hrbcrichmond.org
SUMMARY:Worship!
DESCRIPTION:
URL:https://hrbcrichmond.org/event/worship/2023-04-16/
CATEGORIES:Adults,Students,Sunday Schedule
END:VEVENT
BEGIN:VEVENT
DTSTART;TZID=America/New_York:20230416T091500
DTEND;TZID=America/New_York:20230416T101500
DTSTAMP:20260425T100710
CREATED:20230209T201133Z
LAST-MODIFIED:20230209T201133Z
UID:10003395-1681636500-1681640100@hrbcrichmond.org
SUMMARY:Bible Study
DESCRIPTION:Grades K-2: Room C-205\nGrades 3-5: Room C-206\nMiddle School: Room 210\nHigh School: Room 211
URL:https://hrbcrichmond.org/event/bible-study-2/2023-04-16/
CATEGORIES:Adults,Children,Students,Sunday Schedule
END:VEVENT
BEGIN:VEVENT
DTSTART;TZID=America/New_York:20230409T103000
DTEND;TZID=America/New_York:20230409T113000
DTSTAMP:20260425T100710
CREATED:20230209T201238Z
LAST-MODIFIED:20230527T180553Z
UID:10003647-1681036200-1681039800@hrbcrichmond.org
SUMMARY:Worship!
DESCRIPTION:
URL:https://hrbcrichmond.org/event/worship/2023-04-09/
CATEGORIES:Adults,Students,Sunday Schedule
END:VEVENT
BEGIN:VEVENT
DTSTART;TZID=America/New_York:20230409T091500
DTEND;TZID=America/New_York:20230409T101500
DTSTAMP:20260425T100710
CREATED:20230209T201133Z
LAST-MODIFIED:20230209T201133Z
UID:10003394-1681031700-1681035300@hrbcrichmond.org
SUMMARY:Bible Study
DESCRIPTION:Grades K-2: Room C-205\nGrades 3-5: Room C-206\nMiddle School: Room 210\nHigh School: Room 211
URL:https://hrbcrichmond.org/event/bible-study-2/2023-04-09/
CATEGORIES:Adults,Children,Students,Sunday Schedule
END:VEVENT
BEGIN:VEVENT
DTSTART;TZID=America/New_York:20230402T094500
DTEND;TZID=America/New_York:20230402T104500
DTSTAMP:20260425T100710
CREATED:20230207T201818Z
LAST-MODIFIED:20230214T201143Z
UID:10004144-1680428700-1680432300@hrbcrichmond.org
SUMMARY:Bible Study
DESCRIPTION:Grades K-2: Room C-205\nGrades 3-5: Room C-206\nMiddle School: Room 210\nHigh School: Room 211
URL:https://hrbcrichmond.org/event/bible-study/2023-04-02/
CATEGORIES:Adults,Children,Families,Students,Sunday Schedule
END:VEVENT
BEGIN:VEVENT
DTSTART;TZID=America/New_York:20230402T083000
DTEND;TZID=America/New_York:20230402T093000
DTSTAMP:20260425T100710
CREATED:20230207T200724Z
LAST-MODIFIED:20230317T142443Z
UID:10000008-1680424200-1680427800@hrbcrichmond.org
SUMMARY:Awakening Service
DESCRIPTION:
URL:https://hrbcrichmond.org/event/awakening-service/2023-04-02/
CATEGORIES:Adults,Students,Sunday Schedule
END:VEVENT
BEGIN:VEVENT
DTSTART;TZID=America/New_York:20230326T110000
DTEND;TZID=America/New_York:20230326T120000
DTSTAMP:20260425T100710
CREATED:20230207T203208Z
LAST-MODIFIED:20230215T164445Z
UID:10000022-1679828400-1679832000@hrbcrichmond.org
SUMMARY:Worship Service
DESCRIPTION:
URL:https://hrbcrichmond.org/event/worship-service/2023-03-26/
CATEGORIES:Adults,Students,Sunday Schedule
END:VEVENT
BEGIN:VEVENT
DTSTART;TZID=America/New_York:20230326T094500
DTEND;TZID=America/New_York:20230326T104500
DTSTAMP:20260425T100710
CREATED:20230207T201818Z
LAST-MODIFIED:20230214T201143Z
UID:10000015-1679823900-1679827500@hrbcrichmond.org
SUMMARY:Bible Study
DESCRIPTION:Grades K-2: Room C-205\nGrades 3-5: Room C-206\nMiddle School: Room 210\nHigh School: Room 211
URL:https://hrbcrichmond.org/event/bible-study/2023-03-26/
CATEGORIES:Adults,Children,Families,Students,Sunday Schedule
END:VEVENT
BEGIN:VEVENT
DTSTART;TZID=America/New_York:20230326T083000
DTEND;TZID=America/New_York:20230326T093000
DTSTAMP:20260425T100710
CREATED:20230207T200724Z
LAST-MODIFIED:20230317T142443Z
UID:10000007-1679819400-1679823000@hrbcrichmond.org
SUMMARY:Awakening Service
DESCRIPTION:
URL:https://hrbcrichmond.org/event/awakening-service/2023-03-26/
CATEGORIES:Adults,Students,Sunday Schedule
END:VEVENT
BEGIN:VEVENT
DTSTART;TZID=America/New_York:20230319T170000
DTEND;TZID=America/New_York:20230319T180000
DTSTAMP:20260425T100710
CREATED:20230208T162659Z
LAST-MODIFIED:20230208T162755Z
UID:10001659-1679245200-1679248800@hrbcrichmond.org
SUMMARY:United Praise
DESCRIPTION:
URL:https://hrbcrichmond.org/event/united-praise/2023-03-19/
LOCATION:Choir Suite
CATEGORIES:Music,Students,Sunday Schedule
END:VEVENT
BEGIN:VEVENT
DTSTART;TZID=America/New_York:20230319T110000
DTEND;TZID=America/New_York:20230319T120000
DTSTAMP:20260425T100710
CREATED:20230207T203208Z
LAST-MODIFIED:20230215T164445Z
UID:10000021-1679223600-1679227200@hrbcrichmond.org
SUMMARY:Worship Service
DESCRIPTION:
URL:https://hrbcrichmond.org/event/worship-service/2023-03-19/
CATEGORIES:Adults,Students,Sunday Schedule
END:VEVENT
BEGIN:VEVENT
DTSTART;TZID=America/New_York:20230319T094500
DTEND;TZID=America/New_York:20230319T104500
DTSTAMP:20260425T100710
CREATED:20230207T201818Z
LAST-MODIFIED:20230214T201143Z
UID:10000014-1679219100-1679222700@hrbcrichmond.org
SUMMARY:Bible Study
DESCRIPTION:Grades K-2: Room C-205\nGrades 3-5: Room C-206\nMiddle School: Room 210\nHigh School: Room 211
URL:https://hrbcrichmond.org/event/bible-study/2023-03-19/
CATEGORIES:Adults,Children,Families,Students,Sunday Schedule
END:VEVENT
BEGIN:VEVENT
DTSTART;TZID=America/New_York:20230319T083000
DTEND;TZID=America/New_York:20230319T093000
DTSTAMP:20260425T100710
CREATED:20230207T200724Z
LAST-MODIFIED:20230317T142443Z
UID:10000006-1679214600-1679218200@hrbcrichmond.org
SUMMARY:Awakening Service
DESCRIPTION:
URL:https://hrbcrichmond.org/event/awakening-service/2023-03-19/
CATEGORIES:Adults,Students,Sunday Schedule
END:VEVENT
BEGIN:VEVENT
DTSTART;TZID=America/New_York:20230312T170000
DTEND;TZID=America/New_York:20230312T180000
DTSTAMP:20260425T100710
CREATED:20230208T162659Z
LAST-MODIFIED:20230208T162755Z
UID:10001658-1678640400-1678644000@hrbcrichmond.org
SUMMARY:United Praise
DESCRIPTION:
URL:https://hrbcrichmond.org/event/united-praise/2023-03-12/
LOCATION:Choir Suite
CATEGORIES:Music,Students,Sunday Schedule
END:VEVENT
BEGIN:VEVENT
DTSTART;TZID=America/New_York:20230312T110000
DTEND;TZID=America/New_York:20230312T120000
DTSTAMP:20260425T100710
CREATED:20230207T203208Z
LAST-MODIFIED:20230215T164445Z
UID:10000020-1678618800-1678622400@hrbcrichmond.org
SUMMARY:Worship Service
DESCRIPTION:
URL:https://hrbcrichmond.org/event/worship-service/2023-03-12/
CATEGORIES:Adults,Students,Sunday Schedule
END:VEVENT
BEGIN:VEVENT
DTSTART;TZID=America/New_York:20230312T094500
DTEND;TZID=America/New_York:20230312T104500
DTSTAMP:20260425T100710
CREATED:20230207T201818Z
LAST-MODIFIED:20230214T201143Z
UID:10000013-1678614300-1678617900@hrbcrichmond.org
SUMMARY:Bible Study
DESCRIPTION:Grades K-2: Room C-205\nGrades 3-5: Room C-206\nMiddle School: Room 210\nHigh School: Room 211
URL:https://hrbcrichmond.org/event/bible-study/2023-03-12/
CATEGORIES:Adults,Children,Families,Students,Sunday Schedule
END:VEVENT
BEGIN:VEVENT
DTSTART;TZID=America/New_York:20230312T083000
DTEND;TZID=America/New_York:20230312T093000
DTSTAMP:20260425T100710
CREATED:20230207T200724Z
LAST-MODIFIED:20230317T142443Z
UID:10000005-1678609800-1678613400@hrbcrichmond.org
SUMMARY:Awakening Service
DESCRIPTION:
URL:https://hrbcrichmond.org/event/awakening-service/2023-03-12/
CATEGORIES:Adults,Students,Sunday Schedule
END:VEVENT
BEGIN:VEVENT
DTSTART;TZID=America/New_York:20230305T170000
DTEND;TZID=America/New_York:20230305T180000
DTSTAMP:20260425T100710
CREATED:20230208T162659Z
LAST-MODIFIED:20230208T162755Z
UID:10001657-1678035600-1678039200@hrbcrichmond.org
SUMMARY:United Praise
DESCRIPTION:
URL:https://hrbcrichmond.org/event/united-praise/2023-03-05/
LOCATION:Choir Suite
CATEGORIES:Music,Students,Sunday Schedule
END:VEVENT
BEGIN:VEVENT
DTSTART;TZID=America/New_York:20230305T110000
DTEND;TZID=America/New_York:20230305T120000
DTSTAMP:20260425T100710
CREATED:20230207T203208Z
LAST-MODIFIED:20230215T164445Z
UID:10000019-1678014000-1678017600@hrbcrichmond.org
SUMMARY:Worship Service
DESCRIPTION:
URL:https://hrbcrichmond.org/event/worship-service/2023-03-05/
CATEGORIES:Adults,Students,Sunday Schedule
END:VEVENT
BEGIN:VEVENT
DTSTART;TZID=America/New_York:20230305T094500
DTEND;TZID=America/New_York:20230305T104500
DTSTAMP:20260425T100710
CREATED:20230207T201818Z
LAST-MODIFIED:20230214T201143Z
UID:10000012-1678009500-1678013100@hrbcrichmond.org
SUMMARY:Bible Study
DESCRIPTION:Grades K-2: Room C-205\nGrades 3-5: Room C-206\nMiddle School: Room 210\nHigh School: Room 211
URL:https://hrbcrichmond.org/event/bible-study/2023-03-05/
CATEGORIES:Adults,Children,Families,Students,Sunday Schedule
END:VEVENT
BEGIN:VEVENT
DTSTART;TZID=America/New_York:20230305T083000
DTEND;TZID=America/New_York:20230305T093000
DTSTAMP:20260425T100710
CREATED:20230207T200724Z
LAST-MODIFIED:20230317T142443Z
UID:10000004-1678005000-1678008600@hrbcrichmond.org
SUMMARY:Awakening Service
DESCRIPTION:
URL:https://hrbcrichmond.org/event/awakening-service/2023-03-05/
CATEGORIES:Adults,Students,Sunday Schedule
END:VEVENT
BEGIN:VEVENT
DTSTART;TZID=America/New_York:20230226T180000
DTEND;TZID=America/New_York:20230226T193000
DTSTAMP:20260425T100710
CREATED:20230208T163126Z
LAST-MODIFIED:20230208T163126Z
UID:10002177-1677434400-1677439800@hrbcrichmond.org
SUMMARY:New Life Arabic Church
DESCRIPTION:
URL:https://hrbcrichmond.org/event/new-life-arabic-church/2023-02-26/
LOCATION:Room 123
CATEGORIES:Sunday Schedule
END:VEVENT
BEGIN:VEVENT
DTSTART;TZID=America/New_York:20230226T170000
DTEND;TZID=America/New_York:20230226T180000
DTSTAMP:20260425T100710
CREATED:20230208T162659Z
LAST-MODIFIED:20230208T162755Z
UID:10001656-1677430800-1677434400@hrbcrichmond.org
SUMMARY:United Praise
DESCRIPTION:
URL:https://hrbcrichmond.org/event/united-praise/2023-02-26/
LOCATION:Choir Suite
CATEGORIES:Music,Students,Sunday Schedule
END:VEVENT
BEGIN:VEVENT
DTSTART;TZID=America/New_York:20230226T110000
DTEND;TZID=America/New_York:20230226T120000
DTSTAMP:20260425T100710
CREATED:20230207T203208Z
LAST-MODIFIED:20230215T164445Z
UID:10000018-1677409200-1677412800@hrbcrichmond.org
SUMMARY:Worship Service
DESCRIPTION:
URL:https://hrbcrichmond.org/event/worship-service/2023-02-26/
CATEGORIES:Adults,Students,Sunday Schedule
END:VEVENT
BEGIN:VEVENT
DTSTART;TZID=America/New_York:20230226T094500
DTEND;TZID=America/New_York:20230226T104500
DTSTAMP:20260425T100710
CREATED:20230207T201818Z
LAST-MODIFIED:20230214T201143Z
UID:10000011-1677404700-1677408300@hrbcrichmond.org
SUMMARY:Bible Study
DESCRIPTION:Grades K-2: Room C-205\nGrades 3-5: Room C-206\nMiddle School: Room 210\nHigh School: Room 211
URL:https://hrbcrichmond.org/event/bible-study/2023-02-26/
CATEGORIES:Adults,Children,Families,Students,Sunday Schedule
END:VEVENT
BEGIN:VEVENT
DTSTART;TZID=America/New_York:20230226T083000
DTEND;TZID=America/New_York:20230226T093000
DTSTAMP:20260425T100710
CREATED:20230207T200724Z
LAST-MODIFIED:20230317T142443Z
UID:10000003-1677400200-1677403800@hrbcrichmond.org
SUMMARY:Awakening Service
DESCRIPTION:
URL:https://hrbcrichmond.org/event/awakening-service/2023-02-26/
CATEGORIES:Adults,Students,Sunday Schedule
END:VEVENT
BEGIN:VEVENT
DTSTART;TZID=America/New_York:20230219T180000
DTEND;TZID=America/New_York:20230219T193000
DTSTAMP:20260425T100710
CREATED:20230208T163126Z
LAST-MODIFIED:20230208T163126Z
UID:10002176-1676829600-1676835000@hrbcrichmond.org
SUMMARY:New Life Arabic Church
DESCRIPTION:
URL:https://hrbcrichmond.org/event/new-life-arabic-church/2023-02-19/
LOCATION:Room 123
CATEGORIES:Sunday Schedule
END:VEVENT
BEGIN:VEVENT
DTSTART;TZID=America/New_York:20230219T170000
DTEND;TZID=America/New_York:20230219T180000
DTSTAMP:20260425T100710
CREATED:20230208T162659Z
LAST-MODIFIED:20230208T162755Z
UID:10001655-1676826000-1676829600@hrbcrichmond.org
SUMMARY:United Praise
DESCRIPTION:
URL:https://hrbcrichmond.org/event/united-praise/2023-02-19/
LOCATION:Choir Suite
CATEGORIES:Music,Students,Sunday Schedule
END:VEVENT
END:VCALENDAR