BEGIN:VCALENDAR
VERSION:2.0
PRODID:-//Huguenot Road Baptist Church - ECPv6.15.20//NONSGML v1.0//EN
CALSCALE:GREGORIAN
METHOD:PUBLISH
X-WR-CALNAME:Huguenot Road Baptist Church
X-ORIGINAL-URL:https://hrbcrichmond.org
X-WR-CALDESC:Events for Huguenot Road Baptist Church
REFRESH-INTERVAL;VALUE=DURATION:PT1H
X-Robots-Tag:noindex
X-PUBLISHED-TTL:PT1H
BEGIN:VTIMEZONE
TZID:America/New_York
BEGIN:DAYLIGHT
TZOFFSETFROM:-0500
TZOFFSETTO:-0400
TZNAME:EDT
DTSTART:20220313T070000
END:DAYLIGHT
BEGIN:STANDARD
TZOFFSETFROM:-0400
TZOFFSETTO:-0500
TZNAME:EST
DTSTART:20221106T060000
END:STANDARD
BEGIN:DAYLIGHT
TZOFFSETFROM:-0500
TZOFFSETTO:-0400
TZNAME:EDT
DTSTART:20230312T070000
END:DAYLIGHT
BEGIN:STANDARD
TZOFFSETFROM:-0400
TZOFFSETTO:-0500
TZNAME:EST
DTSTART:20231105T060000
END:STANDARD
BEGIN:DAYLIGHT
TZOFFSETFROM:-0500
TZOFFSETTO:-0400
TZNAME:EDT
DTSTART:20240310T070000
END:DAYLIGHT
BEGIN:STANDARD
TZOFFSETFROM:-0400
TZOFFSETTO:-0500
TZNAME:EST
DTSTART:20241103T060000
END:STANDARD
BEGIN:DAYLIGHT
TZOFFSETFROM:-0500
TZOFFSETTO:-0400
TZNAME:EDT
DTSTART:20250309T070000
END:DAYLIGHT
BEGIN:STANDARD
TZOFFSETFROM:-0400
TZOFFSETTO:-0500
TZNAME:EST
DTSTART:20251102T060000
END:STANDARD
END:VTIMEZONE
BEGIN:VEVENT
DTSTART;TZID=America/New_York:20241106T180000
DTEND;TZID=America/New_York:20241106T191500
DTSTAMP:20260425T133007
CREATED:20240809T181337Z
LAST-MODIFIED:20250306T003057Z
UID:10009832-1730916000-1730920500@hrbcrichmond.org
SUMMARY:Dive In Youth
DESCRIPTION:
URL:https://hrbcrichmond.org/event/dive-in-youth-49/
CATEGORIES:Students
END:VEVENT
BEGIN:VEVENT
DTSTART;TZID=America/New_York:20241030T180000
DTEND;TZID=America/New_York:20241030T191500
DTSTAMP:20260425T133007
CREATED:20240809T181301Z
LAST-MODIFIED:20250306T003057Z
UID:10009812-1730311200-1730315700@hrbcrichmond.org
SUMMARY:Dive In Youth
DESCRIPTION:
URL:https://hrbcrichmond.org/event/dive-in-youth-48/
CATEGORIES:Students
END:VEVENT
BEGIN:VEVENT
DTSTART;TZID=America/New_York:20241023T180000
DTEND;TZID=America/New_York:20241023T191500
DTSTAMP:20260425T133007
CREATED:20240809T181209Z
LAST-MODIFIED:20250306T003057Z
UID:10009788-1729706400-1729710900@hrbcrichmond.org
SUMMARY:Dive In Youth
DESCRIPTION:
URL:https://hrbcrichmond.org/event/dive-in-youth-46/
CATEGORIES:Students
END:VEVENT
BEGIN:VEVENT
DTSTART;TZID=America/New_York:20241016T180000
DTEND;TZID=America/New_York:20241016T191500
DTSTAMP:20260425T133007
CREATED:20240809T181135Z
LAST-MODIFIED:20250306T003057Z
UID:10009764-1729101600-1729106100@hrbcrichmond.org
SUMMARY:Dive In Youth
DESCRIPTION:
URL:https://hrbcrichmond.org/event/dive-in-youth-17/
CATEGORIES:Students
END:VEVENT
BEGIN:VEVENT
DTSTART;TZID=America/New_York:20241009T181500
DTEND;TZID=America/New_York:20241009T193000
DTSTAMP:20260425T133007
CREATED:20240809T181041Z
LAST-MODIFIED:20250306T003057Z
UID:10009736-1728497700-1728502200@hrbcrichmond.org
SUMMARY:Dive In Youth
DESCRIPTION:
URL:https://hrbcrichmond.org/event/dive-in-youth-16/
CATEGORIES:Students
END:VEVENT
BEGIN:VEVENT
DTSTART;TZID=America/New_York:20241002T180000
DTEND;TZID=America/New_York:20241002T191500
DTSTAMP:20260425T133007
CREATED:20240411T000124Z
LAST-MODIFIED:20250306T003058Z
UID:10009135-1727892000-1727896500@hrbcrichmond.org
SUMMARY:Dive In Youth
DESCRIPTION:
URL:https://hrbcrichmond.org/event/dive-in-youth-12/
CATEGORIES:Students
END:VEVENT
BEGIN:VEVENT
DTSTART;TZID=America/New_York:20240925T180000
DTEND;TZID=America/New_York:20240925T191500
DTSTAMP:20260425T133007
CREATED:20240404T001629Z
LAST-MODIFIED:20250306T003058Z
UID:10009111-1727287200-1727291700@hrbcrichmond.org
SUMMARY:Dive In Youth
DESCRIPTION:
URL:https://hrbcrichmond.org/event/dive-in-youth-11/
CATEGORIES:Students
END:VEVENT
BEGIN:VEVENT
DTSTART;TZID=America/New_York:20240918T180000
DTEND;TZID=America/New_York:20240918T191500
DTSTAMP:20260425T133007
CREATED:20240328T205112Z
LAST-MODIFIED:20250306T003058Z
UID:10009085-1726682400-1726686900@hrbcrichmond.org
SUMMARY:Dive In Youth
DESCRIPTION:
URL:https://hrbcrichmond.org/event/dive-in-youth-10/
CATEGORIES:Students
END:VEVENT
BEGIN:VEVENT
DTSTART;TZID=America/New_York:20240501T180000
DTEND;TZID=America/New_York:20240501T191500
DTSTAMP:20260425T133007
CREATED:20231210T165548Z
LAST-MODIFIED:20250306T003058Z
UID:10008557-1714586400-1714590900@hrbcrichmond.org
SUMMARY:Dive In Youth
DESCRIPTION:
URL:https://hrbcrichmond.org/event/dive-in-youth-42/
CATEGORIES:Students
END:VEVENT
BEGIN:VEVENT
DTSTART;TZID=America/New_York:20230604T103000
DTEND;TZID=America/New_York:20230604T113000
DTSTAMP:20260425T133007
CREATED:20230209T201238Z
LAST-MODIFIED:20230527T180553Z
UID:10003655-1685874600-1685878200@hrbcrichmond.org
SUMMARY:Worship!
DESCRIPTION:
URL:https://hrbcrichmond.org/event/worship/2023-06-04/
CATEGORIES:Adults,Students,Sunday Schedule
END:VEVENT
BEGIN:VEVENT
DTSTART;TZID=America/New_York:20230604T091500
DTEND;TZID=America/New_York:20230604T101500
DTSTAMP:20260425T133007
CREATED:20230209T201133Z
LAST-MODIFIED:20230209T201133Z
UID:10003402-1685870100-1685873700@hrbcrichmond.org
SUMMARY:Bible Study
DESCRIPTION:Grades K-2: Room C-205\nGrades 3-5: Room C-206\nMiddle School: Room 210\nHigh School: Room 211
URL:https://hrbcrichmond.org/event/bible-study-2/2023-06-04/
CATEGORIES:Adults,Children,Students,Sunday Schedule
END:VEVENT
BEGIN:VEVENT
DTSTART;TZID=America/New_York:20230528T103000
DTEND;TZID=America/New_York:20230528T113000
DTSTAMP:20260425T133007
CREATED:20230209T201238Z
LAST-MODIFIED:20230527T180553Z
UID:10003654-1685269800-1685273400@hrbcrichmond.org
SUMMARY:Worship!
DESCRIPTION:
URL:https://hrbcrichmond.org/event/worship/2023-05-28/
CATEGORIES:Adults,Students,Sunday Schedule
END:VEVENT
BEGIN:VEVENT
DTSTART;TZID=America/New_York:20230528T091500
DTEND;TZID=America/New_York:20230528T101500
DTSTAMP:20260425T133007
CREATED:20230209T201133Z
LAST-MODIFIED:20230209T201133Z
UID:10003401-1685265300-1685268900@hrbcrichmond.org
SUMMARY:Bible Study
DESCRIPTION:Grades K-2: Room C-205\nGrades 3-5: Room C-206\nMiddle School: Room 210\nHigh School: Room 211
URL:https://hrbcrichmond.org/event/bible-study-2/2023-05-28/
CATEGORIES:Adults,Children,Students,Sunday Schedule
END:VEVENT
BEGIN:VEVENT
DTSTART;TZID=America/New_York:20230521T103000
DTEND;TZID=America/New_York:20230521T113000
DTSTAMP:20260425T133007
CREATED:20230209T201238Z
LAST-MODIFIED:20230527T180553Z
UID:10003653-1684665000-1684668600@hrbcrichmond.org
SUMMARY:Worship!
DESCRIPTION:
URL:https://hrbcrichmond.org/event/worship/2023-05-21/
CATEGORIES:Adults,Students,Sunday Schedule
END:VEVENT
BEGIN:VEVENT
DTSTART;TZID=America/New_York:20230521T091500
DTEND;TZID=America/New_York:20230521T101500
DTSTAMP:20260425T133007
CREATED:20230209T201133Z
LAST-MODIFIED:20230209T201133Z
UID:10003400-1684660500-1684664100@hrbcrichmond.org
SUMMARY:Bible Study
DESCRIPTION:Grades K-2: Room C-205\nGrades 3-5: Room C-206\nMiddle School: Room 210\nHigh School: Room 211
URL:https://hrbcrichmond.org/event/bible-study-2/2023-05-21/
CATEGORIES:Adults,Children,Students,Sunday Schedule
END:VEVENT
BEGIN:VEVENT
DTSTART;TZID=America/New_York:20230514T103000
DTEND;TZID=America/New_York:20230514T113000
DTSTAMP:20260425T133007
CREATED:20230209T201238Z
LAST-MODIFIED:20230527T180553Z
UID:10003652-1684060200-1684063800@hrbcrichmond.org
SUMMARY:Worship!
DESCRIPTION:
URL:https://hrbcrichmond.org/event/worship/2023-05-14/
CATEGORIES:Adults,Students,Sunday Schedule
END:VEVENT
BEGIN:VEVENT
DTSTART;TZID=America/New_York:20230514T091500
DTEND;TZID=America/New_York:20230514T101500
DTSTAMP:20260425T133007
CREATED:20230209T201133Z
LAST-MODIFIED:20230209T201133Z
UID:10003399-1684055700-1684059300@hrbcrichmond.org
SUMMARY:Bible Study
DESCRIPTION:Grades K-2: Room C-205\nGrades 3-5: Room C-206\nMiddle School: Room 210\nHigh School: Room 211
URL:https://hrbcrichmond.org/event/bible-study-2/2023-05-14/
CATEGORIES:Adults,Children,Students,Sunday Schedule
END:VEVENT
BEGIN:VEVENT
DTSTART;TZID=America/New_York:20230507T103000
DTEND;TZID=America/New_York:20230507T113000
DTSTAMP:20260425T133007
CREATED:20230209T201238Z
LAST-MODIFIED:20230527T180553Z
UID:10003651-1683455400-1683459000@hrbcrichmond.org
SUMMARY:Worship!
DESCRIPTION:
URL:https://hrbcrichmond.org/event/worship/2023-05-07/
CATEGORIES:Adults,Students,Sunday Schedule
END:VEVENT
BEGIN:VEVENT
DTSTART;TZID=America/New_York:20230507T091500
DTEND;TZID=America/New_York:20230507T101500
DTSTAMP:20260425T133007
CREATED:20230209T201133Z
LAST-MODIFIED:20230209T201133Z
UID:10003398-1683450900-1683454500@hrbcrichmond.org
SUMMARY:Bible Study
DESCRIPTION:Grades K-2: Room C-205\nGrades 3-5: Room C-206\nMiddle School: Room 210\nHigh School: Room 211
URL:https://hrbcrichmond.org/event/bible-study-2/2023-05-07/
CATEGORIES:Adults,Children,Students,Sunday Schedule
END:VEVENT
BEGIN:VEVENT
DTSTART;VALUE=DATE:20230507
DTEND;VALUE=DATE:20230508
DTSTAMP:20260425T133007
CREATED:20230210T200142Z
LAST-MODIFIED:20230210T200142Z
UID:10004018-1683417600-1683503999@hrbcrichmond.org
SUMMARY:Graduate Recognition
DESCRIPTION:
URL:https://hrbcrichmond.org/event/graduate-recognition/
CATEGORIES:Students
END:VEVENT
BEGIN:VEVENT
DTSTART;TZID=America/New_York:20230503T180000
DTEND;TZID=America/New_York:20230503T193000
DTSTAMP:20260425T133007
CREATED:20230208T161246Z
LAST-MODIFIED:20230317T143744Z
UID:10000884-1683136800-1683142200@hrbcrichmond.org
SUMMARY:12Two Student Ministry
DESCRIPTION:
URL:https://hrbcrichmond.org/event/12two-student-ministry/2023-05-03/
LOCATION:211
CATEGORIES:Students,Wednesday Schedule
END:VEVENT
BEGIN:VEVENT
DTSTART;TZID=America/New_York:20230430T103000
DTEND;TZID=America/New_York:20230430T113000
DTSTAMP:20260425T133007
CREATED:20230209T201238Z
LAST-MODIFIED:20230527T180553Z
UID:10003650-1682850600-1682854200@hrbcrichmond.org
SUMMARY:Worship!
DESCRIPTION:
URL:https://hrbcrichmond.org/event/worship/2023-04-30/
CATEGORIES:Adults,Students,Sunday Schedule
END:VEVENT
BEGIN:VEVENT
DTSTART;TZID=America/New_York:20230430T091500
DTEND;TZID=America/New_York:20230430T101500
DTSTAMP:20260425T133007
CREATED:20230209T201133Z
LAST-MODIFIED:20230209T201133Z
UID:10003397-1682846100-1682849700@hrbcrichmond.org
SUMMARY:Bible Study
DESCRIPTION:Grades K-2: Room C-205\nGrades 3-5: Room C-206\nMiddle School: Room 210\nHigh School: Room 211
URL:https://hrbcrichmond.org/event/bible-study-2/2023-04-30/
CATEGORIES:Adults,Children,Students,Sunday Schedule
END:VEVENT
BEGIN:VEVENT
DTSTART;TZID=America/New_York:20230426T180000
DTEND;TZID=America/New_York:20230426T193000
DTSTAMP:20260425T133007
CREATED:20230208T161246Z
LAST-MODIFIED:20230317T143744Z
UID:10000883-1682532000-1682537400@hrbcrichmond.org
SUMMARY:12Two Student Ministry
DESCRIPTION:
URL:https://hrbcrichmond.org/event/12two-student-ministry/2023-04-26/
LOCATION:211
CATEGORIES:Students,Wednesday Schedule
END:VEVENT
BEGIN:VEVENT
DTSTART;TZID=America/New_York:20230423T103000
DTEND;TZID=America/New_York:20230423T113000
DTSTAMP:20260425T133007
CREATED:20230209T201238Z
LAST-MODIFIED:20230527T180553Z
UID:10003649-1682245800-1682249400@hrbcrichmond.org
SUMMARY:Worship!
DESCRIPTION:
URL:https://hrbcrichmond.org/event/worship/2023-04-23/
CATEGORIES:Adults,Students,Sunday Schedule
END:VEVENT
BEGIN:VEVENT
DTSTART;TZID=America/New_York:20230423T091500
DTEND;TZID=America/New_York:20230423T101500
DTSTAMP:20260425T133007
CREATED:20230209T201133Z
LAST-MODIFIED:20230209T201133Z
UID:10003396-1682241300-1682244900@hrbcrichmond.org
SUMMARY:Bible Study
DESCRIPTION:Grades K-2: Room C-205\nGrades 3-5: Room C-206\nMiddle School: Room 210\nHigh School: Room 211
URL:https://hrbcrichmond.org/event/bible-study-2/2023-04-23/
CATEGORIES:Adults,Children,Students,Sunday Schedule
END:VEVENT
BEGIN:VEVENT
DTSTART;TZID=America/New_York:20230419T180000
DTEND;TZID=America/New_York:20230419T193000
DTSTAMP:20260425T133007
CREATED:20230208T161246Z
LAST-MODIFIED:20230317T143744Z
UID:10000882-1681927200-1681932600@hrbcrichmond.org
SUMMARY:12Two Student Ministry
DESCRIPTION:
URL:https://hrbcrichmond.org/event/12two-student-ministry/2023-04-19/
LOCATION:211
CATEGORIES:Students,Wednesday Schedule
END:VEVENT
BEGIN:VEVENT
DTSTART;TZID=America/New_York:20230416T103000
DTEND;TZID=America/New_York:20230416T113000
DTSTAMP:20260425T133007
CREATED:20230209T201238Z
LAST-MODIFIED:20230527T180553Z
UID:10003648-1681641000-1681644600@hrbcrichmond.org
SUMMARY:Worship!
DESCRIPTION:
URL:https://hrbcrichmond.org/event/worship/2023-04-16/
CATEGORIES:Adults,Students,Sunday Schedule
END:VEVENT
BEGIN:VEVENT
DTSTART;TZID=America/New_York:20230416T091500
DTEND;TZID=America/New_York:20230416T101500
DTSTAMP:20260425T133007
CREATED:20230209T201133Z
LAST-MODIFIED:20230209T201133Z
UID:10003395-1681636500-1681640100@hrbcrichmond.org
SUMMARY:Bible Study
DESCRIPTION:Grades K-2: Room C-205\nGrades 3-5: Room C-206\nMiddle School: Room 210\nHigh School: Room 211
URL:https://hrbcrichmond.org/event/bible-study-2/2023-04-16/
CATEGORIES:Adults,Children,Students,Sunday Schedule
END:VEVENT
BEGIN:VEVENT
DTSTART;TZID=America/New_York:20230412T180000
DTEND;TZID=America/New_York:20230412T193000
DTSTAMP:20260425T133007
CREATED:20230208T161246Z
LAST-MODIFIED:20230317T143744Z
UID:10000881-1681322400-1681327800@hrbcrichmond.org
SUMMARY:12Two Student Ministry
DESCRIPTION:
URL:https://hrbcrichmond.org/event/12two-student-ministry/2023-04-12/
LOCATION:211
CATEGORIES:Students,Wednesday Schedule
END:VEVENT
END:VCALENDAR