BEGIN:VCALENDAR
VERSION:2.0
PRODID:-//Huguenot Road Baptist Church - ECPv6.15.20//NONSGML v1.0//EN
CALSCALE:GREGORIAN
METHOD:PUBLISH
X-WR-CALNAME:Huguenot Road Baptist Church
X-ORIGINAL-URL:https://hrbcrichmond.org
X-WR-CALDESC:Events for Huguenot Road Baptist Church
REFRESH-INTERVAL;VALUE=DURATION:PT1H
X-Robots-Tag:noindex
X-PUBLISHED-TTL:PT1H
BEGIN:VTIMEZONE
TZID:America/New_York
BEGIN:DAYLIGHT
TZOFFSETFROM:-0500
TZOFFSETTO:-0400
TZNAME:EDT
DTSTART:20220313T070000
END:DAYLIGHT
BEGIN:STANDARD
TZOFFSETFROM:-0400
TZOFFSETTO:-0500
TZNAME:EST
DTSTART:20221106T060000
END:STANDARD
BEGIN:DAYLIGHT
TZOFFSETFROM:-0500
TZOFFSETTO:-0400
TZNAME:EDT
DTSTART:20230312T070000
END:DAYLIGHT
BEGIN:STANDARD
TZOFFSETFROM:-0400
TZOFFSETTO:-0500
TZNAME:EST
DTSTART:20231105T060000
END:STANDARD
BEGIN:DAYLIGHT
TZOFFSETFROM:-0500
TZOFFSETTO:-0400
TZNAME:EDT
DTSTART:20240310T070000
END:DAYLIGHT
BEGIN:STANDARD
TZOFFSETFROM:-0400
TZOFFSETTO:-0500
TZNAME:EST
DTSTART:20241103T060000
END:STANDARD
END:VTIMEZONE
BEGIN:VEVENT
DTSTART;TZID=America/New_York:20230418T133000
DTEND;TZID=America/New_York:20230418T153000
DTSTAMP:20260425T210115
CREATED:20230208T163754Z
LAST-MODIFIED:20230208T163754Z
UID:10002447-1681824600-1681831800@hrbcrichmond.org
SUMMARY:Ovation! Rehearsal
DESCRIPTION:
URL:https://hrbcrichmond.org/event/ovation-rehearsal/2023-04-18/
LOCATION:Sanctuary
CATEGORIES:Music,Senior Adults
END:VEVENT
BEGIN:VEVENT
DTSTART;TZID=America/New_York:20230412T190000
DTEND;TZID=America/New_York:20230412T203000
DTSTAMP:20260425T210115
CREATED:20230317T144108Z
LAST-MODIFIED:20230317T144108Z
UID:10004425-1681326000-1681331400@hrbcrichmond.org
SUMMARY:Worship! Choir and Band
DESCRIPTION:
URL:https://hrbcrichmond.org/event/worship-choir-and-band-2/2023-04-12/
CATEGORIES:Adults,Music
END:VEVENT
BEGIN:VEVENT
DTSTART;TZID=America/New_York:20230412T180000
DTEND;TZID=America/New_York:20230412T190000
DTSTAMP:20260425T210115
CREATED:20230207T204034Z
LAST-MODIFIED:20230317T143401Z
UID:10000033-1681322400-1681326000@hrbcrichmond.org
SUMMARY:King's Kids
DESCRIPTION:
URL:https://hrbcrichmond.org/event/kings-kids/2023-04-12/
LOCATION:Choir Suite
CATEGORIES:Children,Music,Wednesday Schedule
END:VEVENT
BEGIN:VEVENT
DTSTART;TZID=America/New_York:20230411T133000
DTEND;TZID=America/New_York:20230411T153000
DTSTAMP:20260425T210115
CREATED:20230208T163754Z
LAST-MODIFIED:20230208T163754Z
UID:10002446-1681219800-1681227000@hrbcrichmond.org
SUMMARY:Ovation! Rehearsal
DESCRIPTION:
URL:https://hrbcrichmond.org/event/ovation-rehearsal/2023-04-11/
LOCATION:Sanctuary
CATEGORIES:Music,Senior Adults
END:VEVENT
BEGIN:VEVENT
DTSTART;TZID=America/New_York:20230404T133000
DTEND;TZID=America/New_York:20230404T153000
DTSTAMP:20260425T210115
CREATED:20230208T163754Z
LAST-MODIFIED:20230208T163754Z
UID:10002445-1680615000-1680622200@hrbcrichmond.org
SUMMARY:Ovation! Rehearsal
DESCRIPTION:
URL:https://hrbcrichmond.org/event/ovation-rehearsal/2023-04-04/
LOCATION:Sanctuary
CATEGORIES:Music,Senior Adults
END:VEVENT
BEGIN:VEVENT
DTSTART;TZID=America/New_York:20230402T170000
DTEND;TZID=America/New_York:20230402T180000
DTSTAMP:20260425T210115
CREATED:20230323T155652Z
LAST-MODIFIED:20230323T155652Z
UID:10001921-1680454800-1680458400@hrbcrichmond.org
SUMMARY:Worship! Choir and Band Rehearsal
DESCRIPTION:
URL:https://hrbcrichmond.org/event/awakening-band-rehearsal-2/
CATEGORIES:Music
END:VEVENT
BEGIN:VEVENT
DTSTART;TZID=America/New_York:20230329T193000
DTEND;TZID=America/New_York:20230329T210000
DTSTAMP:20260425T210115
CREATED:20230208T161756Z
LAST-MODIFIED:20230208T161756Z
UID:10001399-1680118200-1680123600@hrbcrichmond.org
SUMMARY:European Wind Ensemble
DESCRIPTION:
URL:https://hrbcrichmond.org/event/european-wind-ensemble/2023-03-29/
LOCATION:Gym
CATEGORIES:Music,Wednesday Schedule
END:VEVENT
BEGIN:VEVENT
DTSTART;TZID=America/New_York:20230329T190000
DTEND;TZID=America/New_York:20230329T203000
DTSTAMP:20260425T210115
CREATED:20230317T144108Z
LAST-MODIFIED:20230317T144108Z
UID:10004423-1680116400-1680121800@hrbcrichmond.org
SUMMARY:Worship! Choir and Band
DESCRIPTION:
URL:https://hrbcrichmond.org/event/worship-choir-and-band-2/2023-03-29/
CATEGORIES:Adults,Music
END:VEVENT
BEGIN:VEVENT
DTSTART;TZID=America/New_York:20230329T180000
DTEND;TZID=America/New_York:20230329T190000
DTSTAMP:20260425T210115
CREATED:20230207T204034Z
LAST-MODIFIED:20230317T143401Z
UID:10000031-1680112800-1680116400@hrbcrichmond.org
SUMMARY:King's Kids
DESCRIPTION:
URL:https://hrbcrichmond.org/event/kings-kids/2023-03-29/
LOCATION:Choir Suite
CATEGORIES:Children,Music,Wednesday Schedule
END:VEVENT
BEGIN:VEVENT
DTSTART;TZID=America/New_York:20230328T133000
DTEND;TZID=America/New_York:20230328T153000
DTSTAMP:20260425T210115
CREATED:20230208T163754Z
LAST-MODIFIED:20230208T163754Z
UID:10002444-1680010200-1680017400@hrbcrichmond.org
SUMMARY:Ovation! Rehearsal
DESCRIPTION:
URL:https://hrbcrichmond.org/event/ovation-rehearsal/2023-03-28/
LOCATION:Sanctuary
CATEGORIES:Music,Senior Adults
END:VEVENT
BEGIN:VEVENT
DTSTART;TZID=America/New_York:20230326T170000
DTEND;TZID=America/New_York:20230326T180000
DTSTAMP:20260425T210115
CREATED:20230323T155946Z
LAST-MODIFIED:20230323T155946Z
UID:10001920-1679850000-1679853600@hrbcrichmond.org
SUMMARY:Worship! Choir and Band Rehearsal
DESCRIPTION:
URL:https://hrbcrichmond.org/event/awakening-band-rehearsal-3/
CATEGORIES:Music
END:VEVENT
BEGIN:VEVENT
DTSTART;TZID=America/New_York:20230322T193000
DTEND;TZID=America/New_York:20230322T210000
DTSTAMP:20260425T210115
CREATED:20230208T161756Z
LAST-MODIFIED:20230208T161756Z
UID:10001398-1679513400-1679518800@hrbcrichmond.org
SUMMARY:European Wind Ensemble
DESCRIPTION:
URL:https://hrbcrichmond.org/event/european-wind-ensemble/2023-03-22/
LOCATION:Gym
CATEGORIES:Music,Wednesday Schedule
END:VEVENT
BEGIN:VEVENT
DTSTART;TZID=America/New_York:20230322T190000
DTEND;TZID=America/New_York:20230322T203000
DTSTAMP:20260425T210115
CREATED:20230317T144108Z
LAST-MODIFIED:20230317T144108Z
UID:10004422-1679511600-1679517000@hrbcrichmond.org
SUMMARY:Worship! Choir and Band
DESCRIPTION:
URL:https://hrbcrichmond.org/event/worship-choir-and-band-2/2023-03-22/
CATEGORIES:Adults,Music
END:VEVENT
BEGIN:VEVENT
DTSTART;TZID=America/New_York:20230322T180000
DTEND;TZID=America/New_York:20230322T190000
DTSTAMP:20260425T210115
CREATED:20230207T204034Z
LAST-MODIFIED:20230317T143401Z
UID:10000030-1679508000-1679511600@hrbcrichmond.org
SUMMARY:King's Kids
DESCRIPTION:
URL:https://hrbcrichmond.org/event/kings-kids/2023-03-22/
LOCATION:Choir Suite
CATEGORIES:Children,Music,Wednesday Schedule
END:VEVENT
BEGIN:VEVENT
DTSTART;TZID=America/New_York:20230321T133000
DTEND;TZID=America/New_York:20230321T153000
DTSTAMP:20260425T210115
CREATED:20230208T163754Z
LAST-MODIFIED:20230208T163754Z
UID:10002443-1679405400-1679412600@hrbcrichmond.org
SUMMARY:Ovation! Rehearsal
DESCRIPTION:
URL:https://hrbcrichmond.org/event/ovation-rehearsal/2023-03-21/
LOCATION:Sanctuary
CATEGORIES:Music,Senior Adults
END:VEVENT
BEGIN:VEVENT
DTSTART;TZID=America/New_York:20230319T181500
DTEND;TZID=America/New_York:20230319T191500
DTSTAMP:20260425T210115
CREATED:20230208T162957Z
LAST-MODIFIED:20230317T154902Z
UID:10001919-1679249700-1679253300@hrbcrichmond.org
SUMMARY:Awakening Band Rehearsal
DESCRIPTION:
URL:https://hrbcrichmond.org/event/awakening-band-rehearsal/2023-03-19/
CATEGORIES:Music
END:VEVENT
BEGIN:VEVENT
DTSTART;TZID=America/New_York:20230319T170000
DTEND;TZID=America/New_York:20230319T180000
DTSTAMP:20260425T210115
CREATED:20230208T162659Z
LAST-MODIFIED:20230208T162755Z
UID:10001659-1679245200-1679248800@hrbcrichmond.org
SUMMARY:United Praise
DESCRIPTION:
URL:https://hrbcrichmond.org/event/united-praise/2023-03-19/
LOCATION:Choir Suite
CATEGORIES:Music,Students,Sunday Schedule
END:VEVENT
BEGIN:VEVENT
DTSTART;TZID=America/New_York:20230315T193000
DTEND;TZID=America/New_York:20230315T210000
DTSTAMP:20260425T210115
CREATED:20230208T161756Z
LAST-MODIFIED:20230208T161756Z
UID:10001397-1678908600-1678914000@hrbcrichmond.org
SUMMARY:European Wind Ensemble
DESCRIPTION:
URL:https://hrbcrichmond.org/event/european-wind-ensemble/2023-03-15/
LOCATION:Gym
CATEGORIES:Music,Wednesday Schedule
END:VEVENT
BEGIN:VEVENT
DTSTART;TZID=America/New_York:20230315T190000
DTEND;TZID=America/New_York:20230315T203000
DTSTAMP:20260425T210115
CREATED:20230317T144108Z
LAST-MODIFIED:20230317T144108Z
UID:10004421-1678906800-1678912200@hrbcrichmond.org
SUMMARY:Worship! Choir and Band
DESCRIPTION:
URL:https://hrbcrichmond.org/event/worship-choir-and-band-2/2023-03-15/
CATEGORIES:Adults,Music
END:VEVENT
BEGIN:VEVENT
DTSTART;TZID=America/New_York:20230315T180000
DTEND;TZID=America/New_York:20230315T190000
DTSTAMP:20260425T210115
CREATED:20230207T204034Z
LAST-MODIFIED:20230317T143401Z
UID:10000029-1678903200-1678906800@hrbcrichmond.org
SUMMARY:King's Kids
DESCRIPTION:
URL:https://hrbcrichmond.org/event/kings-kids/2023-03-15/
LOCATION:Choir Suite
CATEGORIES:Children,Music,Wednesday Schedule
END:VEVENT
BEGIN:VEVENT
DTSTART;TZID=America/New_York:20230314T133000
DTEND;TZID=America/New_York:20230314T153000
DTSTAMP:20260425T210115
CREATED:20230208T163754Z
LAST-MODIFIED:20230208T163754Z
UID:10002442-1678800600-1678807800@hrbcrichmond.org
SUMMARY:Ovation! Rehearsal
DESCRIPTION:
URL:https://hrbcrichmond.org/event/ovation-rehearsal/2023-03-14/
LOCATION:Sanctuary
CATEGORIES:Music,Senior Adults
END:VEVENT
BEGIN:VEVENT
DTSTART;TZID=America/New_York:20230312T181500
DTEND;TZID=America/New_York:20230312T191500
DTSTAMP:20260425T210115
CREATED:20230208T162957Z
LAST-MODIFIED:20230317T154902Z
UID:10001918-1678644900-1678648500@hrbcrichmond.org
SUMMARY:Awakening Band Rehearsal
DESCRIPTION:
URL:https://hrbcrichmond.org/event/awakening-band-rehearsal/2023-03-12/
CATEGORIES:Music
END:VEVENT
BEGIN:VEVENT
DTSTART;TZID=America/New_York:20230312T170000
DTEND;TZID=America/New_York:20230312T180000
DTSTAMP:20260425T210115
CREATED:20230208T162659Z
LAST-MODIFIED:20230208T162755Z
UID:10001658-1678640400-1678644000@hrbcrichmond.org
SUMMARY:United Praise
DESCRIPTION:
URL:https://hrbcrichmond.org/event/united-praise/2023-03-12/
LOCATION:Choir Suite
CATEGORIES:Music,Students,Sunday Schedule
END:VEVENT
BEGIN:VEVENT
DTSTART;TZID=America/New_York:20230308T193000
DTEND;TZID=America/New_York:20230308T210000
DTSTAMP:20260425T210115
CREATED:20230208T161756Z
LAST-MODIFIED:20230208T161756Z
UID:10001396-1678303800-1678309200@hrbcrichmond.org
SUMMARY:European Wind Ensemble
DESCRIPTION:
URL:https://hrbcrichmond.org/event/european-wind-ensemble/2023-03-08/
LOCATION:Gym
CATEGORIES:Music,Wednesday Schedule
END:VEVENT
BEGIN:VEVENT
DTSTART;TZID=America/New_York:20230308T180000
DTEND;TZID=America/New_York:20230308T190000
DTSTAMP:20260425T210115
CREATED:20230207T204034Z
LAST-MODIFIED:20230317T143401Z
UID:10000028-1678298400-1678302000@hrbcrichmond.org
SUMMARY:King's Kids
DESCRIPTION:
URL:https://hrbcrichmond.org/event/kings-kids/2023-03-08/
LOCATION:Choir Suite
CATEGORIES:Children,Music,Wednesday Schedule
END:VEVENT
BEGIN:VEVENT
DTSTART;TZID=America/New_York:20230307T133000
DTEND;TZID=America/New_York:20230307T153000
DTSTAMP:20260425T210115
CREATED:20230208T163754Z
LAST-MODIFIED:20230208T163754Z
UID:10002441-1678195800-1678203000@hrbcrichmond.org
SUMMARY:Ovation! Rehearsal
DESCRIPTION:
URL:https://hrbcrichmond.org/event/ovation-rehearsal/2023-03-07/
LOCATION:Sanctuary
CATEGORIES:Music,Senior Adults
END:VEVENT
BEGIN:VEVENT
DTSTART;TZID=America/New_York:20230305T181500
DTEND;TZID=America/New_York:20230305T191500
DTSTAMP:20260425T210115
CREATED:20230208T162957Z
LAST-MODIFIED:20230317T154902Z
UID:10001917-1678040100-1678043700@hrbcrichmond.org
SUMMARY:Awakening Band Rehearsal
DESCRIPTION:
URL:https://hrbcrichmond.org/event/awakening-band-rehearsal/2023-03-05/
CATEGORIES:Music
END:VEVENT
BEGIN:VEVENT
DTSTART;TZID=America/New_York:20230305T170000
DTEND;TZID=America/New_York:20230305T180000
DTSTAMP:20260425T210115
CREATED:20230208T162659Z
LAST-MODIFIED:20230208T162755Z
UID:10001657-1678035600-1678039200@hrbcrichmond.org
SUMMARY:United Praise
DESCRIPTION:
URL:https://hrbcrichmond.org/event/united-praise/2023-03-05/
LOCATION:Choir Suite
CATEGORIES:Music,Students,Sunday Schedule
END:VEVENT
BEGIN:VEVENT
DTSTART;TZID=America/New_York:20230301T193000
DTEND;TZID=America/New_York:20230301T210000
DTSTAMP:20260425T210115
CREATED:20230208T161756Z
LAST-MODIFIED:20230208T161756Z
UID:10001395-1677699000-1677704400@hrbcrichmond.org
SUMMARY:European Wind Ensemble
DESCRIPTION:
URL:https://hrbcrichmond.org/event/european-wind-ensemble/2023-03-01/
LOCATION:Gym
CATEGORIES:Music,Wednesday Schedule
END:VEVENT
BEGIN:VEVENT
DTSTART;TZID=America/New_York:20230301T180000
DTEND;TZID=America/New_York:20230301T190000
DTSTAMP:20260425T210115
CREATED:20230207T204034Z
LAST-MODIFIED:20230317T143401Z
UID:10000027-1677693600-1677697200@hrbcrichmond.org
SUMMARY:King's Kids
DESCRIPTION:
URL:https://hrbcrichmond.org/event/kings-kids/2023-03-01/
LOCATION:Choir Suite
CATEGORIES:Children,Music,Wednesday Schedule
END:VEVENT
END:VCALENDAR