BEGIN:VCALENDAR
VERSION:2.0
PRODID:-//Huguenot Road Baptist Church - ECPv6.15.20//NONSGML v1.0//EN
CALSCALE:GREGORIAN
METHOD:PUBLISH
X-WR-CALNAME:Huguenot Road Baptist Church
X-ORIGINAL-URL:https://hrbcrichmond.org
X-WR-CALDESC:Events for Huguenot Road Baptist Church
REFRESH-INTERVAL;VALUE=DURATION:PT1H
X-Robots-Tag:noindex
X-PUBLISHED-TTL:PT1H
BEGIN:VTIMEZONE
TZID:America/New_York
BEGIN:DAYLIGHT
TZOFFSETFROM:-0500
TZOFFSETTO:-0400
TZNAME:EDT
DTSTART:20220313T070000
END:DAYLIGHT
BEGIN:STANDARD
TZOFFSETFROM:-0400
TZOFFSETTO:-0500
TZNAME:EST
DTSTART:20221106T060000
END:STANDARD
BEGIN:DAYLIGHT
TZOFFSETFROM:-0500
TZOFFSETTO:-0400
TZNAME:EDT
DTSTART:20230312T070000
END:DAYLIGHT
BEGIN:STANDARD
TZOFFSETFROM:-0400
TZOFFSETTO:-0500
TZNAME:EST
DTSTART:20231105T060000
END:STANDARD
BEGIN:DAYLIGHT
TZOFFSETFROM:-0500
TZOFFSETTO:-0400
TZNAME:EDT
DTSTART:20240310T070000
END:DAYLIGHT
BEGIN:STANDARD
TZOFFSETFROM:-0400
TZOFFSETTO:-0500
TZNAME:EST
DTSTART:20241103T060000
END:STANDARD
END:VTIMEZONE
BEGIN:VEVENT
DTSTART;TZID=America/New_York:20231109T184500
DTEND;TZID=America/New_York:20231109T204500
DTSTAMP:20260425T164115
CREATED:20230210T200415Z
LAST-MODIFIED:20230508T132930Z
UID:10006347-1699555500-1699562700@hrbcrichmond.org
SUMMARY:Discipleship Team Meeting
DESCRIPTION:
URL:https://hrbcrichmond.org/event/discipleship-team-meeting-2/2023-11-09/
LOCATION:Room 121
CATEGORIES:Meeting
END:VEVENT
BEGIN:VEVENT
DTSTART;TZID=America/New_York:20231012T184500
DTEND;TZID=America/New_York:20231012T204500
DTSTAMP:20260425T164115
CREATED:20230210T200415Z
LAST-MODIFIED:20230508T132930Z
UID:10006346-1697136300-1697143500@hrbcrichmond.org
SUMMARY:Discipleship Team Meeting
DESCRIPTION:
URL:https://hrbcrichmond.org/event/discipleship-team-meeting-2/2023-10-12/
LOCATION:Room 121
CATEGORIES:Meeting
END:VEVENT
BEGIN:VEVENT
DTSTART;TZID=America/New_York:20230914T184500
DTEND;TZID=America/New_York:20230914T204500
DTSTAMP:20260425T164115
CREATED:20230210T200415Z
LAST-MODIFIED:20230508T132930Z
UID:10006345-1694717100-1694724300@hrbcrichmond.org
SUMMARY:Discipleship Team Meeting
DESCRIPTION:
URL:https://hrbcrichmond.org/event/discipleship-team-meeting-2/2023-09-14/
LOCATION:Room 121
CATEGORIES:Meeting
END:VEVENT
BEGIN:VEVENT
DTSTART;TZID=America/New_York:20230810T184500
DTEND;TZID=America/New_York:20230810T204500
DTSTAMP:20260425T164115
CREATED:20230210T200415Z
LAST-MODIFIED:20230508T132930Z
UID:10006344-1691693100-1691700300@hrbcrichmond.org
SUMMARY:Discipleship Team Meeting
DESCRIPTION:
URL:https://hrbcrichmond.org/event/discipleship-team-meeting-2/2023-08-10/
LOCATION:Room 121
CATEGORIES:Meeting
END:VEVENT
BEGIN:VEVENT
DTSTART;TZID=America/New_York:20230713T184500
DTEND;TZID=America/New_York:20230713T204500
DTSTAMP:20260425T164115
CREATED:20230210T200415Z
LAST-MODIFIED:20230508T132930Z
UID:10006343-1689273900-1689281100@hrbcrichmond.org
SUMMARY:Discipleship Team Meeting
DESCRIPTION:
URL:https://hrbcrichmond.org/event/discipleship-team-meeting-2/2023-07-13/
LOCATION:Room 121
CATEGORIES:Meeting
END:VEVENT
BEGIN:VEVENT
DTSTART;TZID=America/New_York:20230608T184500
DTEND;TZID=America/New_York:20230608T204500
DTSTAMP:20260425T164115
CREATED:20230210T200415Z
LAST-MODIFIED:20230508T132930Z
UID:10006342-1686249900-1686257100@hrbcrichmond.org
SUMMARY:Discipleship Team Meeting
DESCRIPTION:
URL:https://hrbcrichmond.org/event/discipleship-team-meeting-2/2023-06-08/
LOCATION:Room 121
CATEGORIES:Meeting
END:VEVENT
BEGIN:VEVENT
DTSTART;TZID=America/New_York:20230606T190000
DTEND;TZID=America/New_York:20230606T210000
DTSTAMP:20260425T164115
CREATED:20230323T180832Z
LAST-MODIFIED:20230517T132408Z
UID:10005403-1686078000-1686085200@hrbcrichmond.org
SUMMARY:Executive Council/Vision Implementation Team Joint Meeting
DESCRIPTION:
URL:https://hrbcrichmond.org/event/executive-council-vision-implementation-team-joint-meeting-2/2023-06-06/
CATEGORIES:Meeting
END:VEVENT
BEGIN:VEVENT
DTSTART;TZID=America/New_York:20230531T093000
DTEND;TZID=America/New_York:20230531T120000
DTSTAMP:20260425T164115
CREATED:20230519T161258Z
LAST-MODIFIED:20230519T161258Z
UID:10002907-1685525400-1685534400@hrbcrichmond.org
SUMMARY:Staff Meeting
DESCRIPTION:
URL:https://hrbcrichmond.org/event/staff-meeting-2-3/
LOCATION:Conference Room
CATEGORIES:Meeting
END:VEVENT
BEGIN:VEVENT
DTSTART;TZID=America/New_York:20230523T183000
DTEND;TZID=America/New_York:20230523T193000
DTSTAMP:20260425T164115
CREATED:20230209T195443Z
LAST-MODIFIED:20230209T195443Z
UID:10003216-1684866600-1684870200@hrbcrichmond.org
SUMMARY:Personnel Team Meeting
DESCRIPTION:
URL:https://hrbcrichmond.org/event/personnel-team-meeting/2023-05-23/
LOCATION:Conference Room
CATEGORIES:Meeting
END:VEVENT
BEGIN:VEVENT
DTSTART;TZID=America/New_York:20230521T170000
DTEND;TZID=America/New_York:20230521T180000
DTSTAMP:20260425T164115
CREATED:20230210T201941Z
LAST-MODIFIED:20230210T202104Z
UID:10004086-1684688400-1684692000@hrbcrichmond.org
SUMMARY:Deacons Meeting
DESCRIPTION:
URL:https://hrbcrichmond.org/event/deacons-meeting-2/2023-05-21/
LOCATION:MPR2
CATEGORIES:Meeting
END:VEVENT
BEGIN:VEVENT
DTSTART;TZID=America/New_York:20230517T120000
DTEND;TZID=America/New_York:20230517T140000
DTSTAMP:20260425T164115
CREATED:20230323T180458Z
LAST-MODIFIED:20230323T180458Z
UID:10005343-1684324800-1684332000@hrbcrichmond.org
SUMMARY:CDC Monthly Meeting
DESCRIPTION:
URL:https://hrbcrichmond.org/event/cdc-monthly-meeting/2023-05-17/
LOCATION:Conference Room
CATEGORIES:Meeting
END:VEVENT
BEGIN:VEVENT
DTSTART;TZID=America/New_York:20230516T183000
DTEND;TZID=America/New_York:20230516T203000
DTSTAMP:20260425T164115
CREATED:20230208T164019Z
LAST-MODIFIED:20230209T195008Z
UID:10003155-1684261800-1684269000@hrbcrichmond.org
SUMMARY:Worship Implementation Team
DESCRIPTION:
URL:https://hrbcrichmond.org/event/worship-implementation-team/2023-05-16/
LOCATION:MPR1
CATEGORIES:Meeting
END:VEVENT
BEGIN:VEVENT
DTSTART;TZID=America/New_York:20230511T184500
DTEND;TZID=America/New_York:20230511T204500
DTSTAMP:20260425T164115
CREATED:20230210T200415Z
LAST-MODIFIED:20230508T132930Z
UID:10006341-1683830700-1683837900@hrbcrichmond.org
SUMMARY:Discipleship Team Meeting
DESCRIPTION:
URL:https://hrbcrichmond.org/event/discipleship-team-meeting-2/2023-05-11/
LOCATION:Room 121
CATEGORIES:Meeting
END:VEVENT
BEGIN:VEVENT
DTSTART;TZID=America/New_York:20230508T180000
DTEND;TZID=America/New_York:20230508T193000
DTSTAMP:20260425T164115
CREATED:20230323T183511Z
LAST-MODIFIED:20230323T183511Z
UID:10005524-1683568800-1683574200@hrbcrichmond.org
SUMMARY:Vision Implementation Teams Meet with Bill Wilson
DESCRIPTION:
URL:https://hrbcrichmond.org/event/vision-implementation-teams-meet-with-bill-wilson/
LOCATION:flc
CATEGORIES:Meeting
END:VEVENT
BEGIN:VEVENT
DTSTART;TZID=America/New_York:20230508T160000
DTEND;TZID=America/New_York:20230508T173000
DTSTAMP:20260425T164115
CREATED:20230323T183302Z
LAST-MODIFIED:20230323T183302Z
UID:10005523-1683561600-1683567000@hrbcrichmond.org
SUMMARY:Vision Implementation Leaders Meet with Bill Wilson
DESCRIPTION:
URL:https://hrbcrichmond.org/event/vision-implementation-leaders-meet-with-bill-wilson/
LOCATION:MPR1
CATEGORIES:Meeting
END:VEVENT
BEGIN:VEVENT
DTSTART;TZID=America/New_York:20230502T190000
DTEND;TZID=America/New_York:20230502T210000
DTSTAMP:20260425T164115
CREATED:20230323T180832Z
LAST-MODIFIED:20230517T132408Z
UID:10005402-1683054000-1683061200@hrbcrichmond.org
SUMMARY:Executive Council/Vision Implementation Team Joint Meeting
DESCRIPTION:
URL:https://hrbcrichmond.org/event/executive-council-vision-implementation-team-joint-meeting-2/2023-05-02/
CATEGORIES:Meeting
END:VEVENT
BEGIN:VEVENT
DTSTART;TZID=America/New_York:20230425T183000
DTEND;TZID=America/New_York:20230425T193000
DTSTAMP:20260425T164115
CREATED:20230209T195443Z
LAST-MODIFIED:20230209T195443Z
UID:10003215-1682447400-1682451000@hrbcrichmond.org
SUMMARY:Personnel Team Meeting
DESCRIPTION:
URL:https://hrbcrichmond.org/event/personnel-team-meeting/2023-04-25/
LOCATION:Conference Room
CATEGORIES:Meeting
END:VEVENT
BEGIN:VEVENT
DTSTART;TZID=America/New_York:20230419T120000
DTEND;TZID=America/New_York:20230419T140000
DTSTAMP:20260425T164115
CREATED:20230323T180458Z
LAST-MODIFIED:20230323T180458Z
UID:10005342-1681905600-1681912800@hrbcrichmond.org
SUMMARY:CDC Monthly Meeting
DESCRIPTION:
URL:https://hrbcrichmond.org/event/cdc-monthly-meeting/2023-04-19/
LOCATION:Conference Room
CATEGORIES:Meeting
END:VEVENT
BEGIN:VEVENT
DTSTART;TZID=America/New_York:20230418T183000
DTEND;TZID=America/New_York:20230418T203000
DTSTAMP:20260425T164115
CREATED:20230208T164019Z
LAST-MODIFIED:20230209T195008Z
UID:10003154-1681842600-1681849800@hrbcrichmond.org
SUMMARY:Worship Implementation Team
DESCRIPTION:
URL:https://hrbcrichmond.org/event/worship-implementation-team/2023-04-18/
LOCATION:MPR1
CATEGORIES:Meeting
END:VEVENT
BEGIN:VEVENT
DTSTART;TZID=America/New_York:20230411T190000
DTEND;TZID=America/New_York:20230411T210000
DTSTAMP:20260425T164115
CREATED:20230323T161756Z
LAST-MODIFIED:20230323T161756Z
UID:10005275-1681239600-1681246800@hrbcrichmond.org
SUMMARY:Executive Council/Vision Implementation Team Joint Meeting
DESCRIPTION:
URL:https://hrbcrichmond.org/event/executive-council-vision-implementation-team-joint-meeting/
LOCATION:MPR2
CATEGORIES:Meeting
END:VEVENT
BEGIN:VEVENT
DTSTART;TZID=America/New_York:20230411T130000
DTEND;TZID=America/New_York:20230411T153000
DTSTAMP:20260425T164115
CREATED:20230328T155812Z
LAST-MODIFIED:20230328T155812Z
UID:10002900-1681218000-1681227000@hrbcrichmond.org
SUMMARY:Staff Meeting
DESCRIPTION:
URL:https://hrbcrichmond.org/event/staff-meeting-2-2/
LOCATION:Conference Room
CATEGORIES:Meeting
END:VEVENT
BEGIN:VEVENT
DTSTART;TZID=America/New_York:20230328T180000
DTEND;TZID=America/New_York:20230328T193000
DTSTAMP:20260425T164115
CREATED:20230328T174951Z
LAST-MODIFIED:20230328T174951Z
UID:10003214-1680026400-1680031800@hrbcrichmond.org
SUMMARY:Personnel Team Meeting
DESCRIPTION:
URL:https://hrbcrichmond.org/event/personnel-team-meeting-2/
LOCATION:Conference Room
CATEGORIES:Meeting
END:VEVENT
BEGIN:VEVENT
DTSTART;TZID=America/New_York:20230321T183000
DTEND;TZID=America/New_York:20230321T203000
DTSTAMP:20260425T164115
CREATED:20230208T164019Z
LAST-MODIFIED:20230209T195008Z
UID:10003153-1679423400-1679430600@hrbcrichmond.org
SUMMARY:Worship Implementation Team
DESCRIPTION:
URL:https://hrbcrichmond.org/event/worship-implementation-team/2023-03-21/
LOCATION:MPR1
CATEGORIES:Meeting
END:VEVENT
BEGIN:VEVENT
DTSTART;TZID=America/New_York:20230319T170000
DTEND;TZID=America/New_York:20230319T180000
DTSTAMP:20260425T164115
CREATED:20230210T201941Z
LAST-MODIFIED:20230210T202104Z
UID:10004084-1679245200-1679248800@hrbcrichmond.org
SUMMARY:Deacons Meeting
DESCRIPTION:
URL:https://hrbcrichmond.org/event/deacons-meeting-2/2023-03-19/
LOCATION:MPR2
CATEGORIES:Meeting
END:VEVENT
BEGIN:VEVENT
DTSTART;TZID=America/New_York:20230314T093000
DTEND;TZID=America/New_York:20230314T120000
DTSTAMP:20260425T164115
CREATED:20230209T192633Z
LAST-MODIFIED:20230209T192633Z
UID:10002833-1678786200-1678795200@hrbcrichmond.org
SUMMARY:Staff Meeting
DESCRIPTION:
URL:https://hrbcrichmond.org/event/staff-meeting-3/
LOCATION:Conference Room
CATEGORIES:Meeting
END:VEVENT
BEGIN:VEVENT
DTSTART;TZID=America/New_York:20230313T190000
DTEND;TZID=America/New_York:20230313T200000
DTSTAMP:20260425T164115
CREATED:20230209T192524Z
LAST-MODIFIED:20230209T192524Z
UID:10002832-1678734000-1678737600@hrbcrichmond.org
SUMMARY:Stewardship Meeting
DESCRIPTION:
URL:https://hrbcrichmond.org/event/stewardship-meeting-2/
LOCATION:Zoom
CATEGORIES:Meeting
END:VEVENT
BEGIN:VEVENT
DTSTART;TZID=America/New_York:20230312T160000
DTEND;TZID=America/New_York:20230312T173000
DTSTAMP:20260425T164115
CREATED:20230209T192412Z
LAST-MODIFIED:20230209T192412Z
UID:10002831-1678636800-1678642200@hrbcrichmond.org
SUMMARY:Outreach Vision Implementation Meeting
DESCRIPTION:
URL:https://hrbcrichmond.org/event/outreach-vision-implementation-meeting/
LOCATION:MPR1
CATEGORIES:Meeting
END:VEVENT
BEGIN:VEVENT
DTSTART;TZID=America/New_York:20230307T180000
DTEND;TZID=America/New_York:20230307T200000
DTSTAMP:20260425T164115
CREATED:20230208T165608Z
LAST-MODIFIED:20230208T165608Z
UID:10002828-1678212000-1678219200@hrbcrichmond.org
SUMMARY:Vision Implementation Team Meeting
DESCRIPTION:
URL:https://hrbcrichmond.org/event/vision-implementation-team-meeting/
LOCATION:flc
CATEGORIES:Meeting
END:VEVENT
BEGIN:VEVENT
DTSTART;TZID=America/New_York:20230228T183000
DTEND;TZID=America/New_York:20230228T193000
DTSTAMP:20260425T164115
CREATED:20230209T195443Z
LAST-MODIFIED:20230209T195443Z
UID:10003213-1677609000-1677612600@hrbcrichmond.org
SUMMARY:Personnel Team Meeting
DESCRIPTION:
URL:https://hrbcrichmond.org/event/personnel-team-meeting/2023-02-28/
LOCATION:Conference Room
CATEGORIES:Meeting
END:VEVENT
BEGIN:VEVENT
DTSTART;TZID=America/New_York:20230226T170000
DTEND;TZID=America/New_York:20230226T180000
DTSTAMP:20260425T164115
CREATED:20230208T164617Z
LAST-MODIFIED:20230210T201747Z
UID:10002703-1677430800-1677434400@hrbcrichmond.org
SUMMARY:Deacons Meeting
DESCRIPTION:
URL:https://hrbcrichmond.org/event/deacons-meeting/
CATEGORIES:Meeting
END:VEVENT
END:VCALENDAR