BEGIN:VCALENDAR
VERSION:2.0
PRODID:-//Huguenot Road Baptist Church - ECPv6.15.20//NONSGML v1.0//EN
CALSCALE:GREGORIAN
METHOD:PUBLISH
X-ORIGINAL-URL:https://hrbcrichmond.org
X-WR-CALDESC:Events for Huguenot Road Baptist Church
REFRESH-INTERVAL;VALUE=DURATION:PT1H
X-Robots-Tag:noindex
X-PUBLISHED-TTL:PT1H
BEGIN:VTIMEZONE
TZID:America/New_York
BEGIN:DAYLIGHT
TZOFFSETFROM:-0500
TZOFFSETTO:-0400
TZNAME:EDT
DTSTART:20220313T070000
END:DAYLIGHT
BEGIN:STANDARD
TZOFFSETFROM:-0400
TZOFFSETTO:-0500
TZNAME:EST
DTSTART:20221106T060000
END:STANDARD
BEGIN:DAYLIGHT
TZOFFSETFROM:-0500
TZOFFSETTO:-0400
TZNAME:EDT
DTSTART:20230312T070000
END:DAYLIGHT
BEGIN:STANDARD
TZOFFSETFROM:-0400
TZOFFSETTO:-0500
TZNAME:EST
DTSTART:20231105T060000
END:STANDARD
BEGIN:DAYLIGHT
TZOFFSETFROM:-0500
TZOFFSETTO:-0400
TZNAME:EDT
DTSTART:20240310T070000
END:DAYLIGHT
BEGIN:STANDARD
TZOFFSETFROM:-0400
TZOFFSETTO:-0500
TZNAME:EST
DTSTART:20241103T060000
END:STANDARD
BEGIN:DAYLIGHT
TZOFFSETFROM:-0500
TZOFFSETTO:-0400
TZNAME:EDT
DTSTART:20250309T070000
END:DAYLIGHT
BEGIN:STANDARD
TZOFFSETFROM:-0400
TZOFFSETTO:-0500
TZNAME:EST
DTSTART:20251102T060000
END:STANDARD
BEGIN:DAYLIGHT
TZOFFSETFROM:-0500
TZOFFSETTO:-0400
TZNAME:EDT
DTSTART:20260308T070000
END:DAYLIGHT
BEGIN:STANDARD
TZOFFSETFROM:-0400
TZOFFSETTO:-0500
TZNAME:EST
DTSTART:20261101T060000
END:STANDARD
END:VTIMEZONE
BEGIN:VEVENT
DTSTART;TZID=America/New_York:20250412T110000
DTEND;TZID=America/New_York:20250412T130000
DTSTAMP:20260425T140504
CREATED:20250226T181001Z
LAST-MODIFIED:20250412T161535Z
UID:10011444-1744455600-1744462800@hrbcrichmond.org
SUMMARY:Family Easter Celebration (Bob to lead story)
DESCRIPTION:
URL:https://hrbcrichmond.org/event/family-easter-celebration-2/
CATEGORIES:Children,Families,Lent
END:VEVENT
BEGIN:VEVENT
DTSTART;TZID=America/New_York:20250226T184000
DTEND;TZID=America/New_York:20250226T191500
DTSTAMP:20260425T140504
CREATED:20241105T164514Z
LAST-MODIFIED:20250313T000625Z
UID:10010458-1740595200-1740597300@hrbcrichmond.org
SUMMARY:Extreme Kids Mission
DESCRIPTION:
URL:https://hrbcrichmond.org/event/extreme-kids-mission-83/
CATEGORIES:Children
END:VEVENT
BEGIN:VEVENT
DTSTART;TZID=America/New_York:20250219T184000
DTEND;TZID=America/New_York:20250219T191500
DTSTAMP:20260425T140504
CREATED:20240923T051246Z
LAST-MODIFIED:20250306T003206Z
UID:10010152-1739990400-1739992500@hrbcrichmond.org
SUMMARY:Extreme Kids Mission
DESCRIPTION:
URL:https://hrbcrichmond.org/event/extreme-kids-mission-82/
CATEGORIES:Children
END:VEVENT
BEGIN:VEVENT
DTSTART;TZID=America/New_York:20250212T184000
DTEND;TZID=America/New_York:20250212T191500
DTSTAMP:20260425T140504
CREATED:20240919T004256Z
LAST-MODIFIED:20250306T003206Z
UID:10010132-1739385600-1739387700@hrbcrichmond.org
SUMMARY:Extreme Kids Mission
DESCRIPTION:
URL:https://hrbcrichmond.org/event/extreme-kids-mission-81/
CATEGORIES:Children
END:VEVENT
BEGIN:VEVENT
DTSTART;TZID=America/New_York:20250205T184000
DTEND;TZID=America/New_York:20250205T191500
DTSTAMP:20260425T140504
CREATED:20241105T164333Z
LAST-MODIFIED:20250313T000625Z
UID:10010447-1738780800-1738782900@hrbcrichmond.org
SUMMARY:Extreme Kids Mission
DESCRIPTION:
URL:https://hrbcrichmond.org/event/extreme-kids-mission-80/
CATEGORIES:Children
END:VEVENT
BEGIN:VEVENT
DTSTART;TZID=America/New_York:20250129T184000
DTEND;TZID=America/New_York:20250129T191500
DTSTAMP:20260425T140504
CREATED:20240911T233859Z
LAST-MODIFIED:20250306T003206Z
UID:10010092-1738176000-1738178100@hrbcrichmond.org
SUMMARY:Extreme Kids Mission
DESCRIPTION:
URL:https://hrbcrichmond.org/event/extreme-kids-mission-57/
CATEGORIES:Children
END:VEVENT
BEGIN:VEVENT
DTSTART;TZID=America/New_York:20250122T184000
DTEND;TZID=America/New_York:20250122T191500
DTSTAMP:20260425T140504
CREATED:20240905T154256Z
LAST-MODIFIED:20250306T003206Z
UID:10010073-1737571200-1737573300@hrbcrichmond.org
SUMMARY:Extreme Kids Mission
DESCRIPTION:
URL:https://hrbcrichmond.org/event/extreme-kids-mission-56/
CATEGORIES:Children
END:VEVENT
BEGIN:VEVENT
DTSTART;TZID=America/New_York:20250115T184000
DTEND;TZID=America/New_York:20250115T191500
DTSTAMP:20260425T140504
CREATED:20240829T184305Z
LAST-MODIFIED:20250306T003206Z
UID:10010043-1736966400-1736968500@hrbcrichmond.org
SUMMARY:Extreme Kids Mission
DESCRIPTION:
URL:https://hrbcrichmond.org/event/extreme-kids-mission-54/
CATEGORIES:Children
END:VEVENT
BEGIN:VEVENT
DTSTART;TZID=America/New_York:20250108T184000
DTEND;TZID=America/New_York:20250108T191500
DTSTAMP:20260425T140504
CREATED:20240827T191301Z
LAST-MODIFIED:20250306T003206Z
UID:10010010-1736361600-1736363700@hrbcrichmond.org
SUMMARY:Extreme Kids Mission
DESCRIPTION:
URL:https://hrbcrichmond.org/event/extreme-kids-mission-53/
CATEGORIES:Children
END:VEVENT
BEGIN:VEVENT
DTSTART;TZID=America/New_York:20241211T184000
DTEND;TZID=America/New_York:20241211T191500
DTSTAMP:20260425T140504
CREATED:20240809T172547Z
LAST-MODIFIED:20250306T003207Z
UID:10009718-1733942400-1733944500@hrbcrichmond.org
SUMMARY:Extreme Kids Mission
DESCRIPTION:
URL:https://hrbcrichmond.org/event/extreme-kids-mission-28/
CATEGORIES:Children
END:VEVENT
BEGIN:VEVENT
DTSTART;TZID=America/New_York:20241204T184000
DTEND;TZID=America/New_York:20241204T191500
DTSTAMP:20260425T140504
CREATED:20240809T172527Z
LAST-MODIFIED:20250306T003208Z
UID:10009695-1733337600-1733339700@hrbcrichmond.org
SUMMARY:Extreme Kids Mission
DESCRIPTION:
URL:https://hrbcrichmond.org/event/extreme-kids-mission-27/
CATEGORIES:Children
END:VEVENT
BEGIN:VEVENT
DTSTART;TZID=America/New_York:20241120T184000
DTEND;TZID=America/New_York:20241120T191500
DTSTAMP:20260425T140504
CREATED:20240809T172344Z
LAST-MODIFIED:20250306T003208Z
UID:10009641-1732128000-1732130100@hrbcrichmond.org
SUMMARY:Extreme Kids Mission
DESCRIPTION:
URL:https://hrbcrichmond.org/event/extreme-kids-mission-46/
CATEGORIES:Children
END:VEVENT
BEGIN:VEVENT
DTSTART;TZID=America/New_York:20241113T184000
DTEND;TZID=America/New_York:20241113T191500
DTSTAMP:20260425T140504
CREATED:20240809T181414Z
LAST-MODIFIED:20250306T003207Z
UID:10009857-1731523200-1731525300@hrbcrichmond.org
SUMMARY:Extreme Kids Mission
DESCRIPTION:
URL:https://hrbcrichmond.org/event/extreme-kids-mission-49/
CATEGORIES:Children
END:VEVENT
BEGIN:VEVENT
DTSTART;TZID=America/New_York:20241106T184000
DTEND;TZID=America/New_York:20241106T191500
DTSTAMP:20260425T140504
CREATED:20240809T181337Z
LAST-MODIFIED:20250306T003207Z
UID:10009834-1730918400-1730920500@hrbcrichmond.org
SUMMARY:Extreme Kids Mission
DESCRIPTION:
URL:https://hrbcrichmond.org/event/extreme-kids-mission-48/
CATEGORIES:Children
END:VEVENT
BEGIN:VEVENT
DTSTART;TZID=America/New_York:20241030T184000
DTEND;TZID=America/New_York:20241030T191500
DTSTAMP:20260425T140504
CREATED:20240809T181301Z
LAST-MODIFIED:20250306T003207Z
UID:10009811-1730313600-1730315700@hrbcrichmond.org
SUMMARY:Extreme Kids Mission
DESCRIPTION:
URL:https://hrbcrichmond.org/event/extreme-kids-mission-47/
CATEGORIES:Children
END:VEVENT
BEGIN:VEVENT
DTSTART;TZID=America/New_York:20241023T184000
DTEND;TZID=America/New_York:20241023T191500
DTSTAMP:20260425T140504
CREATED:20240809T181209Z
LAST-MODIFIED:20250306T003207Z
UID:10009787-1729708800-1729710900@hrbcrichmond.org
SUMMARY:Extreme Kids Mission
DESCRIPTION:
URL:https://hrbcrichmond.org/event/extreme-kids-mission-45/
CATEGORIES:Children
END:VEVENT
BEGIN:VEVENT
DTSTART;TZID=America/New_York:20241016T184000
DTEND;TZID=America/New_York:20241016T191500
DTSTAMP:20260425T140504
CREATED:20240809T181134Z
LAST-MODIFIED:20250306T003207Z
UID:10009763-1729104000-1729106100@hrbcrichmond.org
SUMMARY:Extreme Kids Mission
DESCRIPTION:
URL:https://hrbcrichmond.org/event/extreme-kids-mission-31/
CATEGORIES:Children
END:VEVENT
BEGIN:VEVENT
DTSTART;TZID=America/New_York:20241009T184000
DTEND;TZID=America/New_York:20241009T191500
DTSTAMP:20260425T140504
CREATED:20240809T181100Z
LAST-MODIFIED:20250306T003207Z
UID:10009742-1728499200-1728501300@hrbcrichmond.org
SUMMARY:Extreme Kids Mission
DESCRIPTION:
URL:https://hrbcrichmond.org/event/extreme-kids-mission-30/
CATEGORIES:Children
END:VEVENT
BEGIN:VEVENT
DTSTART;TZID=America/New_York:20241002T184000
DTEND;TZID=America/New_York:20241002T191500
DTSTAMP:20260425T140504
CREATED:20240411T012058Z
LAST-MODIFIED:20250306T003208Z
UID:10009138-1727894400-1727896500@hrbcrichmond.org
SUMMARY:Extreme Kids Mission
DESCRIPTION:
URL:https://hrbcrichmond.org/event/extreme-kids-mission-26/
CATEGORIES:Children
END:VEVENT
BEGIN:VEVENT
DTSTART;TZID=America/New_York:20240925T184000
DTEND;TZID=America/New_York:20240925T191500
DTSTAMP:20260425T140504
CREATED:20240404T001628Z
LAST-MODIFIED:20250306T003208Z
UID:10009110-1727289600-1727291700@hrbcrichmond.org
SUMMARY:Extreme Kids Mission
DESCRIPTION:
URL:https://hrbcrichmond.org/event/extreme-kids-mission-25/
CATEGORIES:Children
END:VEVENT
BEGIN:VEVENT
DTSTART;TZID=America/New_York:20230604T091500
DTEND;TZID=America/New_York:20230604T101500
DTSTAMP:20260425T140504
CREATED:20230209T201133Z
LAST-MODIFIED:20230209T201133Z
UID:10003402-1685870100-1685873700@hrbcrichmond.org
SUMMARY:Bible Study
DESCRIPTION:Grades K-2: Room C-205\nGrades 3-5: Room C-206\nMiddle School: Room 210\nHigh School: Room 211
URL:https://hrbcrichmond.org/event/bible-study-2/2023-06-04/
CATEGORIES:Adults,Children,Students,Sunday Schedule
END:VEVENT
BEGIN:VEVENT
DTSTART;TZID=America/New_York:20230528T091500
DTEND;TZID=America/New_York:20230528T101500
DTSTAMP:20260425T140504
CREATED:20230209T201133Z
LAST-MODIFIED:20230209T201133Z
UID:10003401-1685265300-1685268900@hrbcrichmond.org
SUMMARY:Bible Study
DESCRIPTION:Grades K-2: Room C-205\nGrades 3-5: Room C-206\nMiddle School: Room 210\nHigh School: Room 211
URL:https://hrbcrichmond.org/event/bible-study-2/2023-05-28/
CATEGORIES:Adults,Children,Students,Sunday Schedule
END:VEVENT
BEGIN:VEVENT
DTSTART;TZID=America/New_York:20230521T091500
DTEND;TZID=America/New_York:20230521T101500
DTSTAMP:20260425T140504
CREATED:20230209T201133Z
LAST-MODIFIED:20230209T201133Z
UID:10003400-1684660500-1684664100@hrbcrichmond.org
SUMMARY:Bible Study
DESCRIPTION:Grades K-2: Room C-205\nGrades 3-5: Room C-206\nMiddle School: Room 210\nHigh School: Room 211
URL:https://hrbcrichmond.org/event/bible-study-2/2023-05-21/
CATEGORIES:Adults,Children,Students,Sunday Schedule
END:VEVENT
BEGIN:VEVENT
DTSTART;TZID=America/New_York:20230514T103000
DTEND;TZID=America/New_York:20230514T103000
DTSTAMP:20260425T140504
CREATED:20230510T145428Z
LAST-MODIFIED:20230510T145428Z
UID:10006675-1684060200-1684060200@hrbcrichmond.org
SUMMARY:Baby Dedication
DESCRIPTION:
URL:https://hrbcrichmond.org/event/baby-dedication/
CATEGORIES:Children,Families
END:VEVENT
BEGIN:VEVENT
DTSTART;TZID=America/New_York:20230514T091500
DTEND;TZID=America/New_York:20230514T101500
DTSTAMP:20260425T140504
CREATED:20230209T201133Z
LAST-MODIFIED:20230209T201133Z
UID:10003399-1684055700-1684059300@hrbcrichmond.org
SUMMARY:Bible Study
DESCRIPTION:Grades K-2: Room C-205\nGrades 3-5: Room C-206\nMiddle School: Room 210\nHigh School: Room 211
URL:https://hrbcrichmond.org/event/bible-study-2/2023-05-14/
CATEGORIES:Adults,Children,Students,Sunday Schedule
END:VEVENT
BEGIN:VEVENT
DTSTART;TZID=America/New_York:20230510T173000
DTEND;TZID=America/New_York:20230510T193000
DTSTAMP:20260425T140504
CREATED:20230317T144329Z
LAST-MODIFIED:20230411T145653Z
UID:10004683-1683739800-1683747000@hrbcrichmond.org
SUMMARY:End of Wednesday Activities Potluck
DESCRIPTION:
URL:https://hrbcrichmond.org/event/end-of-wednesday-activities-potluck/
CATEGORIES:Adults,All Church Event,Children
END:VEVENT
BEGIN:VEVENT
DTSTART;TZID=America/New_York:20230507T091500
DTEND;TZID=America/New_York:20230507T101500
DTSTAMP:20260425T140504
CREATED:20230209T201133Z
LAST-MODIFIED:20230209T201133Z
UID:10003398-1683450900-1683454500@hrbcrichmond.org
SUMMARY:Bible Study
DESCRIPTION:Grades K-2: Room C-205\nGrades 3-5: Room C-206\nMiddle School: Room 210\nHigh School: Room 211
URL:https://hrbcrichmond.org/event/bible-study-2/2023-05-07/
CATEGORIES:Adults,Children,Students,Sunday Schedule
END:VEVENT
BEGIN:VEVENT
DTSTART;TZID=America/New_York:20230503T184500
DTEND;TZID=America/New_York:20230503T193000
DTSTAMP:20260425T140504
CREATED:20230208T160924Z
LAST-MODIFIED:20230317T143912Z
UID:10000624-1683139500-1683142200@hrbcrichmond.org
SUMMARY:Spark Mission Activities
DESCRIPTION:
URL:https://hrbcrichmond.org/event/spark-mission-activities/2023-05-03/
LOCATION:C-206
CATEGORIES:Children,Wednesday Schedule
END:VEVENT
BEGIN:VEVENT
DTSTART;TZID=America/New_York:20230503T180000
DTEND;TZID=America/New_York:20230503T190000
DTSTAMP:20260425T140504
CREATED:20230207T204034Z
LAST-MODIFIED:20230317T143401Z
UID:10000036-1683136800-1683140400@hrbcrichmond.org
SUMMARY:King's Kids
DESCRIPTION:
URL:https://hrbcrichmond.org/event/kings-kids/2023-05-03/
LOCATION:Choir Suite
CATEGORIES:Children,Music,Wednesday Schedule
END:VEVENT
BEGIN:VEVENT
DTSTART;TZID=America/New_York:20230430T093000
DTEND;TZID=America/New_York:20230430T103000
DTSTAMP:20260425T140504
CREATED:20230309T171652Z
LAST-MODIFIED:20230328T163435Z
UID:10004148-1682847000-1682850600@hrbcrichmond.org
SUMMARY:HRBC Kidz Parent Meeting
DESCRIPTION:
URL:https://hrbcrichmond.org/event/hrbc-kidz-parent-meeting/
LOCATION:Room 200
CATEGORIES:Children,Families
END:VEVENT
END:VCALENDAR