BEGIN:VCALENDAR
VERSION:2.0
PRODID:-//Huguenot Road Baptist Church - ECPv6.15.20//NONSGML v1.0//EN
CALSCALE:GREGORIAN
METHOD:PUBLISH
X-ORIGINAL-URL:https://hrbcrichmond.org
X-WR-CALDESC:Events for Huguenot Road Baptist Church
REFRESH-INTERVAL;VALUE=DURATION:PT1H
X-Robots-Tag:noindex
X-PUBLISHED-TTL:PT1H
BEGIN:VTIMEZONE
TZID:America/New_York
BEGIN:DAYLIGHT
TZOFFSETFROM:-0500
TZOFFSETTO:-0400
TZNAME:EDT
DTSTART:20230312T070000
END:DAYLIGHT
BEGIN:STANDARD
TZOFFSETFROM:-0400
TZOFFSETTO:-0500
TZNAME:EST
DTSTART:20231105T060000
END:STANDARD
BEGIN:DAYLIGHT
TZOFFSETFROM:-0500
TZOFFSETTO:-0400
TZNAME:EDT
DTSTART:20240310T070000
END:DAYLIGHT
BEGIN:STANDARD
TZOFFSETFROM:-0400
TZOFFSETTO:-0500
TZNAME:EST
DTSTART:20241103T060000
END:STANDARD
BEGIN:DAYLIGHT
TZOFFSETFROM:-0500
TZOFFSETTO:-0400
TZNAME:EDT
DTSTART:20250309T070000
END:DAYLIGHT
BEGIN:STANDARD
TZOFFSETFROM:-0400
TZOFFSETTO:-0500
TZNAME:EST
DTSTART:20251102T060000
END:STANDARD
BEGIN:DAYLIGHT
TZOFFSETFROM:-0500
TZOFFSETTO:-0400
TZNAME:EDT
DTSTART:20260308T070000
END:DAYLIGHT
BEGIN:STANDARD
TZOFFSETFROM:-0400
TZOFFSETTO:-0500
TZNAME:EST
DTSTART:20261101T060000
END:STANDARD
END:VTIMEZONE
BEGIN:VEVENT
DTSTART;TZID=America/New_York:20251224T170000
DTEND;TZID=America/New_York:20251224T180000
DTSTAMP:20260425T092110
CREATED:20250910T153841Z
LAST-MODIFIED:20251224T221042Z
UID:10012387-1766595600-1766599200@hrbcrichmond.org
SUMMARY:Christmas Eve Service
DESCRIPTION:
URL:https://hrbcrichmond.org/event/christmas-eve-service-2/
LOCATION:Sanctuary
CATEGORIES:Advent
END:VEVENT
BEGIN:VEVENT
DTSTART;TZID=America/New_York:20251221T103000
DTEND;TZID=America/New_York:20251221T113000
DTSTAMP:20260425T092110
CREATED:20250605T133923Z
LAST-MODIFIED:20251221T152531Z
UID:10011904-1766313000-1766316600@hrbcrichmond.org
SUMMARY:Worship
DESCRIPTION:
URL:https://hrbcrichmond.org/event/worship-131/
LOCATION:Sanctuary
CATEGORIES:Advent
END:VEVENT
BEGIN:VEVENT
DTSTART;TZID=America/New_York:20251217T113000
DTEND;TZID=America/New_York:20251217T140000
DTSTAMP:20260425T092110
CREATED:20250910T153822Z
LAST-MODIFIED:20251217T185602Z
UID:10012385-1765971000-1765980000@hrbcrichmond.org
SUMMARY:CDC Celebration of Christmas and reception
DESCRIPTION:
URL:https://hrbcrichmond.org/event/cdc-celebration-of-christmas-and-reception/
LOCATION:Sanctuary
CATEGORIES:Advent
END:VEVENT
BEGIN:VEVENT
DTSTART;TZID=America/New_York:20251214T103000
DTEND;TZID=America/New_York:20251214T113000
DTSTAMP:20260425T092110
CREATED:20250518T165846Z
LAST-MODIFIED:20251214T155602Z
UID:10011848-1765708200-1765711800@hrbcrichmond.org
SUMMARY:Worship
DESCRIPTION:
URL:https://hrbcrichmond.org/event/worship-130/
LOCATION:Sanctuary
CATEGORIES:Advent
END:VEVENT
BEGIN:VEVENT
DTSTART;TZID=America/New_York:20251213T090000
DTEND;TZID=America/New_York:20251213T120000
DTSTAMP:20260425T092110
CREATED:20251111T165723Z
LAST-MODIFIED:20251213T161044Z
UID:10012595-1765616400-1765627200@hrbcrichmond.org
SUMMARY:Parent's Morning Out: Camp Christmas
DESCRIPTION:
URL:https://hrbcrichmond.org/event/parents-morning-out-camp-christmas/
LOCATION:Family Life Center; Sanctuary; Commons; Rod Hale Classroom
CATEGORIES:Advent
END:VEVENT
BEGIN:VEVENT
DTSTART;TZID=America/New_York:20251207T103000
DTEND;TZID=America/New_York:20251207T113000
DTSTAMP:20260425T092110
CREATED:20250515T001528Z
LAST-MODIFIED:20251207T162551Z
UID:10011831-1765103400-1765107000@hrbcrichmond.org
SUMMARY:Worship
DESCRIPTION:
URL:https://hrbcrichmond.org/event/worship-129/
LOCATION:Sanctuary
CATEGORIES:Advent
END:VEVENT
BEGIN:VEVENT
DTSTART;TZID=America/New_York:20251206T170000
DTEND;TZID=America/New_York:20251206T190000
DTSTAMP:20260425T092110
CREATED:20250511T164457Z
LAST-MODIFIED:20251206T225555Z
UID:10011825-1765040400-1765047600@hrbcrichmond.org
SUMMARY:Deacon Meeting and Christmas Social
DESCRIPTION:
URL:https://hrbcrichmond.org/event/deacon-meeting-and-christmas-social/
CATEGORIES:Advent
END:VEVENT
BEGIN:VEVENT
DTSTART;TZID=America/New_York:20251130T103000
DTEND;TZID=America/New_York:20251130T113000
DTSTAMP:20260425T092110
CREATED:20250505T002437Z
LAST-MODIFIED:20251130T154024Z
UID:10011794-1764498600-1764502200@hrbcrichmond.org
SUMMARY:Worship
DESCRIPTION:
URL:https://hrbcrichmond.org/event/worship-128/
LOCATION:Sanctuary
CATEGORIES:Advent
END:VEVENT
BEGIN:VEVENT
DTSTART;TZID=America/New_York:20251124T180000
DTEND;TZID=America/New_York:20251124T200000
DTSTAMP:20260425T092110
CREATED:20250910T153647Z
LAST-MODIFIED:20251125T004031Z
UID:10012381-1764007200-1764014400@hrbcrichmond.org
SUMMARY:Deck the Halls
DESCRIPTION:
URL:https://hrbcrichmond.org/event/deck-the-halls-2/
CATEGORIES:Advent
END:VEVENT
BEGIN:VEVENT
DTSTART;TZID=America/New_York:20241224T170000
DTEND;TZID=America/New_York:20241224T180000
DTSTAMP:20260425T092110
CREATED:20240919T210924Z
LAST-MODIFIED:20241224T224058Z
UID:10010141-1735059600-1735063200@hrbcrichmond.org
SUMMARY:Candlelight Communion Christmas Eve Service
DESCRIPTION:
URL:https://hrbcrichmond.org/event/candlelight-communion-christmas-eve-service/
LOCATION:Sanctuary
CATEGORIES:Advent
END:VEVENT
BEGIN:VEVENT
DTSTART;TZID=America/New_York:20241224T110000
DTEND;TZID=America/New_York:20241224T114500
DTSTAMP:20260425T092110
CREATED:20240919T210924Z
LAST-MODIFIED:20241224T163041Z
UID:10010140-1735038000-1735040700@hrbcrichmond.org
SUMMARY:Family Christmas Eve Service
DESCRIPTION:
URL:https://hrbcrichmond.org/event/family-christmas-eve-service/
LOCATION:Sanctuary
CATEGORIES:Advent
END:VEVENT
BEGIN:VEVENT
DTSTART;TZID=America/New_York:20241219T190000
DTEND;TZID=America/New_York:20241219T200000
DTSTAMP:20260425T092110
CREATED:20240809T181811Z
LAST-MODIFIED:20241220T000032Z
UID:10009916-1734634800-1734638400@hrbcrichmond.org
SUMMARY:Blue Christmas Service/Bon Air Clergy
DESCRIPTION:
URL:https://hrbcrichmond.org/event/blue-christmas-service-bon-air-clergy/
CATEGORIES:Advent
END:VEVENT
BEGIN:VEVENT
DTSTART;TZID=America/New_York:20241218T120000
DTEND;TZID=America/New_York:20241218T130000
DTSTAMP:20260425T092110
CREATED:20241119T182852Z
LAST-MODIFIED:20241218T171531Z
UID:10010760-1734523200-1734526800@hrbcrichmond.org
SUMMARY:CDC Celebration of Christmas
DESCRIPTION:
URL:https://hrbcrichmond.org/event/cdc-preschool-celebration-of-christmas/
LOCATION:Family Life Center
CATEGORIES:Advent
END:VEVENT
BEGIN:VEVENT
DTSTART;TZID=America/New_York:20241215T170000
DTEND;TZID=America/New_York:20241215T180000
DTSTAMP:20260425T092110
CREATED:20240819T203628Z
LAST-MODIFIED:20241215T214033Z
UID:10009971-1734282000-1734285600@hrbcrichmond.org
SUMMARY:Festival of Christmas (Cantata)
DESCRIPTION:
URL:https://hrbcrichmond.org/event/festival-of-christmas-cantata/
LOCATION:Sanctuary
CATEGORIES:Advent
END:VEVENT
BEGIN:VEVENT
DTSTART;TZID=America/New_York:20241206T193000
DTEND;TZID=America/New_York:20241206T213000
DTSTAMP:20260425T092110
CREATED:20240809T172543Z
LAST-MODIFIED:20241207T022603Z
UID:10009705-1733513400-1733520600@hrbcrichmond.org
SUMMARY:Ovation Chorus Performance Jim has welcome
DESCRIPTION:
URL:https://hrbcrichmond.org/event/ovation-chorus-performance-2/
LOCATION:Sanctuary
CATEGORIES:Advent
END:VEVENT
BEGIN:VEVENT
DTSTART;TZID=America/New_York:20241206T173000
DTEND;TZID=America/New_York:20241206T183000
DTSTAMP:20260425T092110
CREATED:20240809T172542Z
LAST-MODIFIED:20241206T222602Z
UID:10009704-1733506200-1733509800@hrbcrichmond.org
SUMMARY:PrimeTimers' Christmas Meal
DESCRIPTION:
URL:https://hrbcrichmond.org/event/primetimers-christmas-meal/
CATEGORIES:Advent
END:VEVENT
BEGIN:VEVENT
DTSTART;TZID=America/New_York:20241125T180000
DTEND;TZID=America/New_York:20241125T210000
DTSTAMP:20260425T092110
CREATED:20240809T172419Z
LAST-MODIFIED:20241126T005558Z
UID:10009659-1732557600-1732568400@hrbcrichmond.org
SUMMARY:Deck the Halls
DESCRIPTION:
URL:https://hrbcrichmond.org/event/deck-the-halls/
CATEGORIES:Advent
END:VEVENT
END:VCALENDAR