BEGIN:VCALENDAR
VERSION:2.0
PRODID:-//Huguenot Road Baptist Church - ECPv6.15.20//NONSGML v1.0//EN
CALSCALE:GREGORIAN
METHOD:PUBLISH
X-WR-CALNAME:Huguenot Road Baptist Church
X-ORIGINAL-URL:https://hrbcrichmond.org
X-WR-CALDESC:Events for Huguenot Road Baptist Church
REFRESH-INTERVAL;VALUE=DURATION:PT1H
X-Robots-Tag:noindex
X-PUBLISHED-TTL:PT1H
BEGIN:VTIMEZONE
TZID:America/New_York
BEGIN:DAYLIGHT
TZOFFSETFROM:-0500
TZOFFSETTO:-0400
TZNAME:EDT
DTSTART:20220313T070000
END:DAYLIGHT
BEGIN:STANDARD
TZOFFSETFROM:-0400
TZOFFSETTO:-0500
TZNAME:EST
DTSTART:20221106T060000
END:STANDARD
BEGIN:DAYLIGHT
TZOFFSETFROM:-0500
TZOFFSETTO:-0400
TZNAME:EDT
DTSTART:20230312T070000
END:DAYLIGHT
BEGIN:STANDARD
TZOFFSETFROM:-0400
TZOFFSETTO:-0500
TZNAME:EST
DTSTART:20231105T060000
END:STANDARD
BEGIN:DAYLIGHT
TZOFFSETFROM:-0500
TZOFFSETTO:-0400
TZNAME:EDT
DTSTART:20240310T070000
END:DAYLIGHT
BEGIN:STANDARD
TZOFFSETFROM:-0400
TZOFFSETTO:-0500
TZNAME:EST
DTSTART:20241103T060000
END:STANDARD
END:VTIMEZONE
BEGIN:VEVENT
DTSTART;TZID=America/New_York:20230514T103000
DTEND;TZID=America/New_York:20230514T113000
DTSTAMP:20260425T164115
CREATED:20230209T201238Z
LAST-MODIFIED:20230527T180553Z
UID:10003652-1684060200-1684063800@hrbcrichmond.org
SUMMARY:Worship!
DESCRIPTION:
URL:https://hrbcrichmond.org/event/worship/2023-05-14/
CATEGORIES:Adults,Students,Sunday Schedule
END:VEVENT
BEGIN:VEVENT
DTSTART;TZID=America/New_York:20230514T091500
DTEND;TZID=America/New_York:20230514T101500
DTSTAMP:20260425T164115
CREATED:20230209T201133Z
LAST-MODIFIED:20230209T201133Z
UID:10003399-1684055700-1684059300@hrbcrichmond.org
SUMMARY:Bible Study
DESCRIPTION:Grades K-2: Room C-205\nGrades 3-5: Room C-206\nMiddle School: Room 210\nHigh School: Room 211
URL:https://hrbcrichmond.org/event/bible-study-2/2023-05-14/
CATEGORIES:Adults,Children,Students,Sunday Schedule
END:VEVENT
BEGIN:VEVENT
DTSTART;TZID=America/New_York:20230514T080000
DTEND;TZID=America/New_York:20230514T090000
DTSTAMP:20260425T164115
CREATED:20230424T133315Z
LAST-MODIFIED:20230517T131843Z
UID:10005822-1684051200-1684054800@hrbcrichmond.org
SUMMARY:Men's Ministry Meating
DESCRIPTION:
URL:https://hrbcrichmond.org/event/mens-ministry-meeting-2/2023-05-14/
CATEGORIES:Men
END:VEVENT
BEGIN:VEVENT
DTSTART;TZID=America/New_York:20230511T181500
DTEND;TZID=America/New_York:20230511T181500
DTSTAMP:20260425T164115
CREATED:20230210T200921Z
LAST-MODIFIED:20230517T131800Z
UID:10004020-1683828900-1683828900@hrbcrichmond.org
SUMMARY:Interfaith Trialogue
DESCRIPTION:
URL:https://hrbcrichmond.org/event/interfaith-trialogue/2023-05-11/
LOCATION:St. Edward Catholic Church\, 2700 Dolfield Dr\, North Chesterfield\, VA\, 23235\, United States
CATEGORIES:Adults
END:VEVENT
BEGIN:VEVENT
DTSTART;TZID=America/New_York:20230510T190000
DTEND;TZID=America/New_York:20230510T203000
DTSTAMP:20260425T164115
CREATED:20230317T144108Z
LAST-MODIFIED:20230317T144108Z
UID:10004429-1683745200-1683750600@hrbcrichmond.org
SUMMARY:Worship! Choir and Band
DESCRIPTION:
URL:https://hrbcrichmond.org/event/worship-choir-and-band-2/2023-05-10/
CATEGORIES:Adults,Music
END:VEVENT
BEGIN:VEVENT
DTSTART;TZID=America/New_York:20230510T173000
DTEND;TZID=America/New_York:20230510T193000
DTSTAMP:20260425T164115
CREATED:20230317T144329Z
LAST-MODIFIED:20230411T145653Z
UID:10004683-1683739800-1683747000@hrbcrichmond.org
SUMMARY:End of Wednesday Activities Potluck
DESCRIPTION:
URL:https://hrbcrichmond.org/event/end-of-wednesday-activities-potluck/
CATEGORIES:Adults,All Church Event,Children
END:VEVENT
BEGIN:VEVENT
DTSTART;TZID=America/New_York:20230509T133000
DTEND;TZID=America/New_York:20230509T153000
DTSTAMP:20260425T164115
CREATED:20230208T163754Z
LAST-MODIFIED:20230208T163754Z
UID:10002450-1683639000-1683646200@hrbcrichmond.org
SUMMARY:Ovation! Rehearsal
DESCRIPTION:
URL:https://hrbcrichmond.org/event/ovation-rehearsal/2023-05-09/
LOCATION:Sanctuary
CATEGORIES:Music,Senior Adults
END:VEVENT
BEGIN:VEVENT
DTSTART;TZID=America/New_York:20230507T103000
DTEND;TZID=America/New_York:20230507T113000
DTSTAMP:20260425T164115
CREATED:20230209T201238Z
LAST-MODIFIED:20230527T180553Z
UID:10003651-1683455400-1683459000@hrbcrichmond.org
SUMMARY:Worship!
DESCRIPTION:
URL:https://hrbcrichmond.org/event/worship/2023-05-07/
CATEGORIES:Adults,Students,Sunday Schedule
END:VEVENT
BEGIN:VEVENT
DTSTART;TZID=America/New_York:20230507T091500
DTEND;TZID=America/New_York:20230507T101500
DTSTAMP:20260425T164115
CREATED:20230209T201133Z
LAST-MODIFIED:20230209T201133Z
UID:10003398-1683450900-1683454500@hrbcrichmond.org
SUMMARY:Bible Study
DESCRIPTION:Grades K-2: Room C-205\nGrades 3-5: Room C-206\nMiddle School: Room 210\nHigh School: Room 211
URL:https://hrbcrichmond.org/event/bible-study-2/2023-05-07/
CATEGORIES:Adults,Children,Students,Sunday Schedule
END:VEVENT
BEGIN:VEVENT
DTSTART;TZID=America/New_York:20230507T080000
DTEND;TZID=America/New_York:20230507T090000
DTSTAMP:20260425T164115
CREATED:20230424T133315Z
LAST-MODIFIED:20230517T131843Z
UID:10005820-1683446400-1683450000@hrbcrichmond.org
SUMMARY:Men's Ministry Meating
DESCRIPTION:
URL:https://hrbcrichmond.org/event/mens-ministry-meeting-2/2023-05-07/
CATEGORIES:Men
END:VEVENT
BEGIN:VEVENT
DTSTART;TZID=America/New_York:20230503T190000
DTEND;TZID=America/New_York:20230503T203000
DTSTAMP:20260425T164115
CREATED:20230317T144108Z
LAST-MODIFIED:20230317T144108Z
UID:10004428-1683140400-1683145800@hrbcrichmond.org
SUMMARY:Worship! Choir and Band
DESCRIPTION:
URL:https://hrbcrichmond.org/event/worship-choir-and-band-2/2023-05-03/
CATEGORIES:Adults,Music
END:VEVENT
BEGIN:VEVENT
DTSTART;TZID=America/New_York:20230503T180000
DTEND;TZID=America/New_York:20230503T193000
DTSTAMP:20260425T164115
CREATED:20230208T160441Z
LAST-MODIFIED:20230317T143451Z
UID:10004418-1683136800-1683142200@hrbcrichmond.org
SUMMARY:The Chosen
DESCRIPTION:
URL:https://hrbcrichmond.org/event/the-chosen/2023-05-03/
LOCATION:MPR1
CATEGORIES:Wednesday Schedule,Women
END:VEVENT
BEGIN:VEVENT
DTSTART;TZID=America/New_York:20230503T180000
DTEND;TZID=America/New_York:20230503T191500
DTSTAMP:20260425T164115
CREATED:20230327T205602Z
LAST-MODIFIED:20230327T205602Z
UID:10000364-1683136800-1683141300@hrbcrichmond.org
SUMMARY:Pastor's Prayer Meeting Bible Study
DESCRIPTION:
URL:https://hrbcrichmond.org/event/pastor-bible-study-2/2023-05-03/
CATEGORIES:Adults,Wednesday Schedule
END:VEVENT
BEGIN:VEVENT
DTSTART;TZID=America/New_York:20230502T133000
DTEND;TZID=America/New_York:20230502T153000
DTSTAMP:20260425T164115
CREATED:20230208T163754Z
LAST-MODIFIED:20230208T163754Z
UID:10002449-1683034200-1683041400@hrbcrichmond.org
SUMMARY:Ovation! Rehearsal
DESCRIPTION:
URL:https://hrbcrichmond.org/event/ovation-rehearsal/2023-05-02/
LOCATION:Sanctuary
CATEGORIES:Music,Senior Adults
END:VEVENT
BEGIN:VEVENT
DTSTART;TZID=America/New_York:20230430T123000
DTEND;TZID=America/New_York:20230430T143000
DTSTAMP:20260425T164115
CREATED:20230328T142545Z
LAST-MODIFIED:20230328T143422Z
UID:10005618-1682857800-1682865000@hrbcrichmond.org
SUMMARY:Healing Hearts Spring Tea Lunch
DESCRIPTION:Join us for lunch and fellowship at Angelo’s Restaurant (13137 Midlothian Turnpike). Everyone is responsible for their own meal. RSVP by April 26 by calling the church at (804) 272-2072. This is open to any widows who have lost a spouse.
URL:https://hrbcrichmond.org/event/healing-hearts-spring-tea-lunch/
CATEGORIES:Senior Adults
ATTACH;FMTTYPE=image/png:https://hrbcrichmond.org/wp-content/uploads/2023/03/Healing-Hearts-Ladies-Spring-Tea-2.png
END:VEVENT
BEGIN:VEVENT
DTSTART;TZID=America/New_York:20230430T103000
DTEND;TZID=America/New_York:20230430T113000
DTSTAMP:20260425T164115
CREATED:20230209T201238Z
LAST-MODIFIED:20230527T180553Z
UID:10003650-1682850600-1682854200@hrbcrichmond.org
SUMMARY:Worship!
DESCRIPTION:
URL:https://hrbcrichmond.org/event/worship/2023-04-30/
CATEGORIES:Adults,Students,Sunday Schedule
END:VEVENT
BEGIN:VEVENT
DTSTART;TZID=America/New_York:20230430T091500
DTEND;TZID=America/New_York:20230430T101500
DTSTAMP:20260425T164115
CREATED:20230209T201133Z
LAST-MODIFIED:20230209T201133Z
UID:10003397-1682846100-1682849700@hrbcrichmond.org
SUMMARY:Bible Study
DESCRIPTION:Grades K-2: Room C-205\nGrades 3-5: Room C-206\nMiddle School: Room 210\nHigh School: Room 211
URL:https://hrbcrichmond.org/event/bible-study-2/2023-04-30/
CATEGORIES:Adults,Children,Students,Sunday Schedule
END:VEVENT
BEGIN:VEVENT
DTSTART;TZID=America/New_York:20230430T080000
DTEND;TZID=America/New_York:20230430T090000
DTSTAMP:20260425T164115
CREATED:20230424T133315Z
LAST-MODIFIED:20230517T131843Z
UID:10005819-1682841600-1682845200@hrbcrichmond.org
SUMMARY:Men's Ministry Meating
DESCRIPTION:
URL:https://hrbcrichmond.org/event/mens-ministry-meeting-2/2023-04-30/
CATEGORIES:Men
END:VEVENT
BEGIN:VEVENT
DTSTART;TZID=America/New_York:20230428T193000
DTEND;TZID=America/New_York:20230428T193000
DTSTAMP:20260425T164115
CREATED:20230210T195906Z
LAST-MODIFIED:20230420T173930Z
UID:10004017-1682710200-1682710200@hrbcrichmond.org
SUMMARY:Ovation! Chorus Concert
DESCRIPTION:
URL:https://hrbcrichmond.org/event/ovation-chorus-concert/
CATEGORIES:Adults,Music,Senior Adults
ATTACH;FMTTYPE=image/jpeg:https://hrbcrichmond.org/wp-content/uploads/2023/03/OvATION.jpg
END:VEVENT
BEGIN:VEVENT
DTSTART;TZID=America/New_York:20230427T150000
DTEND;TZID=America/New_York:20230427T160000
DTSTAMP:20260425T164115
CREATED:20230323T163330Z
LAST-MODIFIED:20230420T173841Z
UID:10005341-1682607600-1682611200@hrbcrichmond.org
SUMMARY:Ovation Chorus Concert
DESCRIPTION:
URL:https://hrbcrichmond.org/event/ovation-chorus-concert-3/
LOCATION:Sanctuary
CATEGORIES:All Church Event,Music,Senior Adults
ATTACH;FMTTYPE=image/jpeg:https://hrbcrichmond.org/wp-content/uploads/2023/03/OvATION.jpg
END:VEVENT
BEGIN:VEVENT
DTSTART;TZID=America/New_York:20230426T190000
DTEND;TZID=America/New_York:20230426T203000
DTSTAMP:20260425T164115
CREATED:20230317T144108Z
LAST-MODIFIED:20230317T144108Z
UID:10004427-1682535600-1682541000@hrbcrichmond.org
SUMMARY:Worship! Choir and Band
DESCRIPTION:
URL:https://hrbcrichmond.org/event/worship-choir-and-band-2/2023-04-26/
CATEGORIES:Adults,Music
END:VEVENT
BEGIN:VEVENT
DTSTART;TZID=America/New_York:20230426T180000
DTEND;TZID=America/New_York:20230426T193000
DTSTAMP:20260425T164115
CREATED:20230208T160441Z
LAST-MODIFIED:20230317T143451Z
UID:10004417-1682532000-1682537400@hrbcrichmond.org
SUMMARY:The Chosen
DESCRIPTION:
URL:https://hrbcrichmond.org/event/the-chosen/2023-04-26/
LOCATION:MPR1
CATEGORIES:Wednesday Schedule,Women
END:VEVENT
BEGIN:VEVENT
DTSTART;TZID=America/New_York:20230426T180000
DTEND;TZID=America/New_York:20230426T191500
DTSTAMP:20260425T164115
CREATED:20230327T205602Z
LAST-MODIFIED:20230327T205602Z
UID:10000363-1682532000-1682536500@hrbcrichmond.org
SUMMARY:Pastor's Prayer Meeting Bible Study
DESCRIPTION:
URL:https://hrbcrichmond.org/event/pastor-bible-study-2/2023-04-26/
CATEGORIES:Adults,Wednesday Schedule
END:VEVENT
BEGIN:VEVENT
DTSTART;TZID=America/New_York:20230425T133000
DTEND;TZID=America/New_York:20230425T153000
DTSTAMP:20260425T164115
CREATED:20230208T163754Z
LAST-MODIFIED:20230208T163754Z
UID:10002448-1682429400-1682436600@hrbcrichmond.org
SUMMARY:Ovation! Rehearsal
DESCRIPTION:
URL:https://hrbcrichmond.org/event/ovation-rehearsal/2023-04-25/
LOCATION:Sanctuary
CATEGORIES:Music,Senior Adults
END:VEVENT
BEGIN:VEVENT
DTSTART;TZID=America/New_York:20230423T103000
DTEND;TZID=America/New_York:20230423T113000
DTSTAMP:20260425T164115
CREATED:20230209T201238Z
LAST-MODIFIED:20230527T180553Z
UID:10003649-1682245800-1682249400@hrbcrichmond.org
SUMMARY:Worship!
DESCRIPTION:
URL:https://hrbcrichmond.org/event/worship/2023-04-23/
CATEGORIES:Adults,Students,Sunday Schedule
END:VEVENT
BEGIN:VEVENT
DTSTART;TZID=America/New_York:20230423T091500
DTEND;TZID=America/New_York:20230423T101500
DTSTAMP:20260425T164115
CREATED:20230209T201133Z
LAST-MODIFIED:20230209T201133Z
UID:10003396-1682241300-1682244900@hrbcrichmond.org
SUMMARY:Bible Study
DESCRIPTION:Grades K-2: Room C-205\nGrades 3-5: Room C-206\nMiddle School: Room 210\nHigh School: Room 211
URL:https://hrbcrichmond.org/event/bible-study-2/2023-04-23/
CATEGORIES:Adults,Children,Students,Sunday Schedule
END:VEVENT
BEGIN:VEVENT
DTSTART;TZID=America/New_York:20230419T190000
DTEND;TZID=America/New_York:20230419T203000
DTSTAMP:20260425T164115
CREATED:20230317T144108Z
LAST-MODIFIED:20230317T144108Z
UID:10004426-1681930800-1681936200@hrbcrichmond.org
SUMMARY:Worship! Choir and Band
DESCRIPTION:
URL:https://hrbcrichmond.org/event/worship-choir-and-band-2/2023-04-19/
CATEGORIES:Adults,Music
END:VEVENT
BEGIN:VEVENT
DTSTART;TZID=America/New_York:20230419T180000
DTEND;TZID=America/New_York:20230419T193000
DTSTAMP:20260425T164115
CREATED:20230208T160441Z
LAST-MODIFIED:20230317T143451Z
UID:10004416-1681927200-1681932600@hrbcrichmond.org
SUMMARY:The Chosen
DESCRIPTION:
URL:https://hrbcrichmond.org/event/the-chosen/2023-04-19/
LOCATION:MPR1
CATEGORIES:Wednesday Schedule,Women
END:VEVENT
BEGIN:VEVENT
DTSTART;TZID=America/New_York:20230419T180000
DTEND;TZID=America/New_York:20230419T191500
DTSTAMP:20260425T164115
CREATED:20230327T205602Z
LAST-MODIFIED:20230327T205602Z
UID:10000362-1681927200-1681931700@hrbcrichmond.org
SUMMARY:Pastor's Prayer Meeting Bible Study
DESCRIPTION:
URL:https://hrbcrichmond.org/event/pastor-bible-study-2/2023-04-19/
CATEGORIES:Adults,Wednesday Schedule
END:VEVENT
BEGIN:VEVENT
DTSTART;TZID=America/New_York:20230418T133000
DTEND;TZID=America/New_York:20230418T153000
DTSTAMP:20260425T164115
CREATED:20230208T163754Z
LAST-MODIFIED:20230208T163754Z
UID:10002447-1681824600-1681831800@hrbcrichmond.org
SUMMARY:Ovation! Rehearsal
DESCRIPTION:
URL:https://hrbcrichmond.org/event/ovation-rehearsal/2023-04-18/
LOCATION:Sanctuary
CATEGORIES:Music,Senior Adults
END:VEVENT
END:VCALENDAR