BEGIN:VCALENDAR
VERSION:2.0
PRODID:-//Huguenot Road Baptist Church - ECPv6.15.20//NONSGML v1.0//EN
CALSCALE:GREGORIAN
METHOD:PUBLISH
X-ORIGINAL-URL:https://hrbcrichmond.org
X-WR-CALDESC:Events for Huguenot Road Baptist Church
REFRESH-INTERVAL;VALUE=DURATION:PT1H
X-Robots-Tag:noindex
X-PUBLISHED-TTL:PT1H
BEGIN:VTIMEZONE
TZID:America/New_York
BEGIN:DAYLIGHT
TZOFFSETFROM:-0500
TZOFFSETTO:-0400
TZNAME:EDT
DTSTART:20250309T070000
END:DAYLIGHT
BEGIN:STANDARD
TZOFFSETFROM:-0400
TZOFFSETTO:-0500
TZNAME:EST
DTSTART:20251102T060000
END:STANDARD
BEGIN:DAYLIGHT
TZOFFSETFROM:-0500
TZOFFSETTO:-0400
TZNAME:EDT
DTSTART:20260308T070000
END:DAYLIGHT
BEGIN:STANDARD
TZOFFSETFROM:-0400
TZOFFSETTO:-0500
TZNAME:EST
DTSTART:20261101T060000
END:STANDARD
BEGIN:DAYLIGHT
TZOFFSETFROM:-0500
TZOFFSETTO:-0400
TZNAME:EDT
DTSTART:20270314T070000
END:DAYLIGHT
BEGIN:STANDARD
TZOFFSETFROM:-0400
TZOFFSETTO:-0500
TZNAME:EST
DTSTART:20271107T060000
END:STANDARD
END:VTIMEZONE
BEGIN:VEVENT
DTSTART;TZID=America/New_York:20261108T080000
DTEND;TZID=America/New_York:20261108T090000
DTSTAMP:20260425T091927
CREATED:20260423T202206Z
LAST-MODIFIED:20260425T122215Z
UID:10013378-1794124800-1794128400@hrbcrichmond.org
SUMMARY:Men's Food & Fellowship Breakfast
DESCRIPTION:
URL:https://hrbcrichmond.org/event/mens-food-fellowship-breakfast-135/
END:VEVENT
BEGIN:VEVENT
DTSTART;TZID=America/New_York:20261108T091500
DTEND;TZID=America/New_York:20261108T101500
DTSTAMP:20260425T091927
CREATED:20260423T202206Z
LAST-MODIFIED:20260425T122215Z
UID:10013379-1794129300-1794132900@hrbcrichmond.org
SUMMARY:Bible Study - All Ages
DESCRIPTION:
URL:https://hrbcrichmond.org/event/bible-study-all-ages-134/
END:VEVENT
BEGIN:VEVENT
DTSTART;TZID=America/New_York:20261108T103000
DTEND;TZID=America/New_York:20261108T113000
DTSTAMP:20260425T091927
CREATED:20260423T202208Z
LAST-MODIFIED:20260425T122217Z
UID:10013380-1794133800-1794137400@hrbcrichmond.org
SUMMARY:Worship
DESCRIPTION:
URL:https://hrbcrichmond.org/event/worship-208/
LOCATION:Sanctuary
END:VEVENT
BEGIN:VEVENT
DTSTART;TZID=America/New_York:20261108T114500
DTEND;TZID=America/New_York:20261108T124500
DTSTAMP:20260425T091927
CREATED:20260424T012214Z
LAST-MODIFIED:20260425T122217Z
UID:10013382-1794138300-1794141900@hrbcrichmond.org
SUMMARY:Outreach Meeting
DESCRIPTION:
URL:https://hrbcrichmond.org/event/outreach-meeting-31/
LOCATION:MPR2
END:VEVENT
BEGIN:VEVENT
DTSTART;TZID=America/New_York:20261108T114500
DTEND;TZID=America/New_York:20261108T130000
DTSTAMP:20260425T091927
CREATED:20260424T012213Z
LAST-MODIFIED:20260425T122217Z
UID:10013381-1794138300-1794142800@hrbcrichmond.org
SUMMARY:Nomination Team Monthly Meeting
DESCRIPTION:
URL:https://hrbcrichmond.org/event/nomination-team-monthly-meeting-30/
LOCATION:Room 125
END:VEVENT
BEGIN:VEVENT
DTSTART;TZID=America/New_York:20261108T153000
DTEND;TZID=America/New_York:20261108T163000
DTSTAMP:20260425T091927
CREATED:20260424T135245Z
LAST-MODIFIED:20260425T122217Z
UID:10013383-1794151800-1794155400@hrbcrichmond.org
SUMMARY:Small Group for Young Adults
DESCRIPTION:
URL:https://hrbcrichmond.org/event/small-group-for-young-adults-60/
LOCATION:Libbie Mill Area
END:VEVENT
END:VCALENDAR