BEGIN:VCALENDAR
VERSION:2.0
PRODID:-//Huguenot Road Baptist Church - ECPv6.15.20//NONSGML v1.0//EN
CALSCALE:GREGORIAN
METHOD:PUBLISH
X-ORIGINAL-URL:https://hrbcrichmond.org
X-WR-CALDESC:Events for Huguenot Road Baptist Church
REFRESH-INTERVAL;VALUE=DURATION:PT1H
X-Robots-Tag:noindex
X-PUBLISHED-TTL:PT1H
BEGIN:VTIMEZONE
TZID:America/New_York
BEGIN:DAYLIGHT
TZOFFSETFROM:-0500
TZOFFSETTO:-0400
TZNAME:EDT
DTSTART:20250309T070000
END:DAYLIGHT
BEGIN:STANDARD
TZOFFSETFROM:-0400
TZOFFSETTO:-0500
TZNAME:EST
DTSTART:20251102T060000
END:STANDARD
BEGIN:DAYLIGHT
TZOFFSETFROM:-0500
TZOFFSETTO:-0400
TZNAME:EDT
DTSTART:20260308T070000
END:DAYLIGHT
BEGIN:STANDARD
TZOFFSETFROM:-0400
TZOFFSETTO:-0500
TZNAME:EST
DTSTART:20261101T060000
END:STANDARD
BEGIN:DAYLIGHT
TZOFFSETFROM:-0500
TZOFFSETTO:-0400
TZNAME:EDT
DTSTART:20270314T070000
END:DAYLIGHT
BEGIN:STANDARD
TZOFFSETFROM:-0400
TZOFFSETTO:-0500
TZNAME:EST
DTSTART:20271107T060000
END:STANDARD
END:VTIMEZONE
BEGIN:VEVENT
DTSTART;VALUE=DATE:20261101
DTEND;VALUE=DATE:20261102
DTSTAMP:20260425T092042
CREATED:20260416T022232Z
LAST-MODIFIED:20260425T122149Z
UID:10013354-1793491200-1793577599@hrbcrichmond.org
SUMMARY:The Lord's Supper
DESCRIPTION:
URL:https://hrbcrichmond.org/event/the-lords-supper-57/
END:VEVENT
BEGIN:VEVENT
DTSTART;VALUE=DATE:20261101
DTEND;VALUE=DATE:20261102
DTSTAMP:20260425T092042
CREATED:20260416T022232Z
LAST-MODIFIED:20260425T122200Z
UID:10013355-1793491200-1793577599@hrbcrichmond.org
SUMMARY:First Sunday Food Offering
DESCRIPTION:
URL:https://hrbcrichmond.org/event/first-sunday-food-offering-57/
END:VEVENT
BEGIN:VEVENT
DTSTART;TZID=America/New_York:20261101T080000
DTEND;TZID=America/New_York:20261101T090000
DTSTAMP:20260425T092042
CREATED:20260415T162239Z
LAST-MODIFIED:20260425T122147Z
UID:10013351-1793520000-1793523600@hrbcrichmond.org
SUMMARY:Men's Food & Fellowship Breakfast
DESCRIPTION:
URL:https://hrbcrichmond.org/event/mens-food-fellowship-breakfast-134/
END:VEVENT
BEGIN:VEVENT
DTSTART;TZID=America/New_York:20261101T091500
DTEND;TZID=America/New_York:20261101T101500
DTSTAMP:20260425T092042
CREATED:20260416T045201Z
LAST-MODIFIED:20260425T122149Z
UID:10013356-1793524500-1793528100@hrbcrichmond.org
SUMMARY:Bible Study - All Ages
DESCRIPTION:
URL:https://hrbcrichmond.org/event/bible-study-all-ages-133/
END:VEVENT
BEGIN:VEVENT
DTSTART;TZID=America/New_York:20261101T103000
DTEND;TZID=America/New_York:20261101T113000
DTSTAMP:20260425T092042
CREATED:20260416T145209Z
LAST-MODIFIED:20260425T122149Z
UID:10013357-1793529000-1793532600@hrbcrichmond.org
SUMMARY:Worship
DESCRIPTION:
URL:https://hrbcrichmond.org/event/worship-207/
LOCATION:Sanctuary
END:VEVENT
BEGIN:VEVENT
DTSTART;TZID=America/New_York:20261101T114500
DTEND;TZID=America/New_York:20261101T121500
DTSTAMP:20260425T092042
CREATED:20260415T235242Z
LAST-MODIFIED:20260425T122149Z
UID:10013352-1793533500-1793535300@hrbcrichmond.org
SUMMARY:Family Ministries meeting
DESCRIPTION:
URL:https://hrbcrichmond.org/event/family-ministries-meeting-9/
LOCATION:MPR1
END:VEVENT
BEGIN:VEVENT
DTSTART;TZID=America/New_York:20261101T153000
DTEND;TZID=America/New_York:20261101T163000
DTSTAMP:20260425T092042
CREATED:20260417T003755Z
LAST-MODIFIED:20260425T122149Z
UID:10013359-1793547000-1793550600@hrbcrichmond.org
SUMMARY:Small Group for Young Adults
DESCRIPTION:
URL:https://hrbcrichmond.org/event/small-group-for-young-adults-59/
LOCATION:Libbie Mill Area
END:VEVENT
BEGIN:VEVENT
DTSTART;TZID=America/New_York:20261101T183000
DTEND;TZID=America/New_York:20261101T200000
DTSTAMP:20260425T092042
CREATED:20260415T235242Z
LAST-MODIFIED:20260425T122149Z
UID:10013353-1793557800-1793563200@hrbcrichmond.org
SUMMARY:Quarterly Congregational Meeting
DESCRIPTION:
URL:https://hrbcrichmond.org/event/quarterly-congregational-meeting-5/
LOCATION:MPR 2
END:VEVENT
END:VCALENDAR