BEGIN:VCALENDAR
VERSION:2.0
PRODID:-//Huguenot Road Baptist Church - ECPv6.15.20//NONSGML v1.0//EN
CALSCALE:GREGORIAN
METHOD:PUBLISH
X-WR-CALNAME:Huguenot Road Baptist Church
X-ORIGINAL-URL:https://hrbcrichmond.org
X-WR-CALDESC:Events for Huguenot Road Baptist Church
REFRESH-INTERVAL;VALUE=DURATION:PT1H
X-Robots-Tag:noindex
X-PUBLISHED-TTL:PT1H
BEGIN:VTIMEZONE
TZID:America/New_York
BEGIN:DAYLIGHT
TZOFFSETFROM:-0500
TZOFFSETTO:-0400
TZNAME:EDT
DTSTART:20250309T070000
END:DAYLIGHT
BEGIN:STANDARD
TZOFFSETFROM:-0400
TZOFFSETTO:-0500
TZNAME:EST
DTSTART:20251102T060000
END:STANDARD
BEGIN:DAYLIGHT
TZOFFSETFROM:-0500
TZOFFSETTO:-0400
TZNAME:EDT
DTSTART:20260308T070000
END:DAYLIGHT
BEGIN:STANDARD
TZOFFSETFROM:-0400
TZOFFSETTO:-0500
TZNAME:EST
DTSTART:20261101T060000
END:STANDARD
BEGIN:DAYLIGHT
TZOFFSETFROM:-0500
TZOFFSETTO:-0400
TZNAME:EDT
DTSTART:20270314T070000
END:DAYLIGHT
BEGIN:STANDARD
TZOFFSETFROM:-0400
TZOFFSETTO:-0500
TZNAME:EST
DTSTART:20271107T060000
END:STANDARD
END:VTIMEZONE
BEGIN:VEVENT
DTSTART;TZID=America/New_York:20260921T143000
DTEND;TZID=America/New_York:20260921T160000
DTSTAMP:20260425T090950
CREATED:20260226T010637Z
LAST-MODIFIED:20260425T121939Z
UID:10012984-1790001000-1790006400@hrbcrichmond.org
SUMMARY:Staff Meeting
DESCRIPTION:
URL:https://hrbcrichmond.org/event/staff-meeting-236/
LOCATION:Conference Room
END:VEVENT
BEGIN:VEVENT
DTSTART;TZID=America/New_York:20260921T181500
DTEND;TZID=America/New_York:20260921T193000
DTSTAMP:20260425T090950
CREATED:20260226T022211Z
LAST-MODIFIED:20260425T121940Z
UID:10012985-1790014500-1790019000@hrbcrichmond.org
SUMMARY:Praise Team Rehearsal
DESCRIPTION:
URL:https://hrbcrichmond.org/event/praise-team-rehearsal-34/
LOCATION:Sanctuary
END:VEVENT
END:VCALENDAR