BEGIN:VCALENDAR
VERSION:2.0
PRODID:-//Huguenot Road Baptist Church - ECPv6.15.20//NONSGML v1.0//EN
CALSCALE:GREGORIAN
METHOD:PUBLISH
X-ORIGINAL-URL:https://hrbcrichmond.org
X-WR-CALDESC:Events for Huguenot Road Baptist Church
REFRESH-INTERVAL;VALUE=DURATION:PT1H
X-Robots-Tag:noindex
X-PUBLISHED-TTL:PT1H
BEGIN:VTIMEZONE
TZID:America/New_York
BEGIN:DAYLIGHT
TZOFFSETFROM:-0500
TZOFFSETTO:-0400
TZNAME:EDT
DTSTART:20250309T070000
END:DAYLIGHT
BEGIN:STANDARD
TZOFFSETFROM:-0400
TZOFFSETTO:-0500
TZNAME:EST
DTSTART:20251102T060000
END:STANDARD
BEGIN:DAYLIGHT
TZOFFSETFROM:-0500
TZOFFSETTO:-0400
TZNAME:EDT
DTSTART:20260308T070000
END:DAYLIGHT
BEGIN:STANDARD
TZOFFSETFROM:-0400
TZOFFSETTO:-0500
TZNAME:EST
DTSTART:20261101T060000
END:STANDARD
BEGIN:DAYLIGHT
TZOFFSETFROM:-0500
TZOFFSETTO:-0400
TZNAME:EDT
DTSTART:20270314T070000
END:DAYLIGHT
BEGIN:STANDARD
TZOFFSETFROM:-0400
TZOFFSETTO:-0500
TZNAME:EST
DTSTART:20271107T060000
END:STANDARD
END:VTIMEZONE
BEGIN:VEVENT
DTSTART;TZID=America/New_York:20260920T080000
DTEND;TZID=America/New_York:20260920T090000
DTSTAMP:20260425T142200
CREATED:20260224T213630Z
LAST-MODIFIED:20260425T171929Z
UID:10012980-1789891200-1789894800@hrbcrichmond.org
SUMMARY:Men's Food & Fellowship Breakfast
DESCRIPTION:
URL:https://hrbcrichmond.org/event/mens-food-fellowship-breakfast-97/
END:VEVENT
BEGIN:VEVENT
DTSTART;TZID=America/New_York:20260920T091500
DTEND;TZID=America/New_York:20260920T101500
DTSTAMP:20260425T142200
CREATED:20260225T012142Z
LAST-MODIFIED:20260425T171940Z
UID:10012981-1789895700-1789899300@hrbcrichmond.org
SUMMARY:Bible Study - All Ages
DESCRIPTION:
URL:https://hrbcrichmond.org/event/bible-study-all-ages-96/
END:VEVENT
BEGIN:VEVENT
DTSTART;TZID=America/New_York:20260920T103000
DTEND;TZID=America/New_York:20260920T113000
DTSTAMP:20260425T142200
CREATED:20260225T162200Z
LAST-MODIFIED:20260425T171941Z
UID:10012982-1789900200-1789903800@hrbcrichmond.org
SUMMARY:Worship
DESCRIPTION:
URL:https://hrbcrichmond.org/event/worship-170/
LOCATION:Sanctuary
END:VEVENT
BEGIN:VEVENT
DTSTART;TZID=America/New_York:20260920T114500
DTEND;TZID=America/New_York:20260920T131500
DTSTAMP:20260425T142200
CREATED:20260225T185151Z
LAST-MODIFIED:20260425T171942Z
UID:10012983-1789904700-1789910100@hrbcrichmond.org
SUMMARY:Deacon Meeting
DESCRIPTION:
URL:https://hrbcrichmond.org/event/deacon-meeting-21/
LOCATION:MPR 1
END:VEVENT
BEGIN:VEVENT
DTSTART;TZID=America/New_York:20260920T153000
DTEND;TZID=America/New_York:20260920T163000
DTSTAMP:20260425T142200
CREATED:20260310T173655Z
LAST-MODIFIED:20260425T171942Z
UID:10013261-1789918200-1789921800@hrbcrichmond.org
SUMMARY:Small Group for Young Adults
DESCRIPTION:
URL:https://hrbcrichmond.org/event/small-group-for-young-adults-53/
LOCATION:Libbie Mill Area
END:VEVENT
END:VCALENDAR