BEGIN:VCALENDAR
VERSION:2.0
PRODID:-//Huguenot Road Baptist Church - ECPv6.15.20//NONSGML v1.0//EN
CALSCALE:GREGORIAN
METHOD:PUBLISH
X-ORIGINAL-URL:https://hrbcrichmond.org
X-WR-CALDESC:Events for Huguenot Road Baptist Church
REFRESH-INTERVAL;VALUE=DURATION:PT1H
X-Robots-Tag:noindex
X-PUBLISHED-TTL:PT1H
BEGIN:VTIMEZONE
TZID:America/New_York
BEGIN:DAYLIGHT
TZOFFSETFROM:-0500
TZOFFSETTO:-0400
TZNAME:EDT
DTSTART:20250309T070000
END:DAYLIGHT
BEGIN:STANDARD
TZOFFSETFROM:-0400
TZOFFSETTO:-0500
TZNAME:EST
DTSTART:20251102T060000
END:STANDARD
BEGIN:DAYLIGHT
TZOFFSETFROM:-0500
TZOFFSETTO:-0400
TZNAME:EDT
DTSTART:20260308T070000
END:DAYLIGHT
BEGIN:STANDARD
TZOFFSETFROM:-0400
TZOFFSETTO:-0500
TZNAME:EST
DTSTART:20261101T060000
END:STANDARD
BEGIN:DAYLIGHT
TZOFFSETFROM:-0500
TZOFFSETTO:-0400
TZNAME:EDT
DTSTART:20270314T070000
END:DAYLIGHT
BEGIN:STANDARD
TZOFFSETFROM:-0400
TZOFFSETTO:-0500
TZNAME:EST
DTSTART:20271107T060000
END:STANDARD
END:VTIMEZONE
BEGIN:VEVENT
DTSTART;VALUE=DATE:20260716
DTEND;VALUE=DATE:20260717
DTSTAMP:20260425T110354
CREATED:20251201T180627Z
LAST-MODIFIED:20260425T144610Z
UID:10012695-1784160000-1784246399@hrbcrichmond.org
SUMMARY:Bread Day
DESCRIPTION:
URL:https://hrbcrichmond.org/event/bread-day-39/
END:VEVENT
BEGIN:VEVENT
DTSTART;TZID=America/New_York:20260716T090000
DTEND;TZID=America/New_York:20260716T103000
DTSTAMP:20260425T110354
CREATED:20251201T180627Z
LAST-MODIFIED:20260425T144610Z
UID:10012690-1784192400-1784197800@hrbcrichmond.org
SUMMARY:Second Half Men's Ministry Meeting
DESCRIPTION:
URL:https://hrbcrichmond.org/event/second-half-mens-ministry-meeting-33/
LOCATION:MPR 1
END:VEVENT
BEGIN:VEVENT
DTSTART;TZID=America/New_York:20260716T120000
DTEND;TZID=America/New_York:20260716T150000
DTSTAMP:20260425T110354
CREATED:20251201T180627Z
LAST-MODIFIED:20260425T144610Z
UID:10012691-1784203200-1784214000@hrbcrichmond.org
SUMMARY:CDC Group Meeting
DESCRIPTION:
URL:https://hrbcrichmond.org/event/cdc-group-meeting-14/
LOCATION:Conference Room
END:VEVENT
BEGIN:VEVENT
DTSTART;TZID=America/New_York:20260716T140000
DTEND;TZID=America/New_York:20260716T160000
DTSTAMP:20260425T110354
CREATED:20251201T180627Z
LAST-MODIFIED:20260425T144610Z
UID:10012692-1784210400-1784217600@hrbcrichmond.org
SUMMARY:Bridge
DESCRIPTION:
URL:https://hrbcrichmond.org/event/bridge-163/
LOCATION:Commons
END:VEVENT
BEGIN:VEVENT
DTSTART;TZID=America/New_York:20260716T183000
DTEND;TZID=America/New_York:20260716T200000
DTSTAMP:20260425T110354
CREATED:20251201T180627Z
LAST-MODIFIED:20260425T144610Z
UID:10012694-1784226600-1784232000@hrbcrichmond.org
SUMMARY:S.H.E.E.P.
DESCRIPTION:
URL:https://hrbcrichmond.org/event/s-h-e-e-p-70/
LOCATION:Cousins
END:VEVENT
BEGIN:VEVENT
DTSTART;TZID=America/New_York:20260716T190000
DTEND;TZID=America/New_York:20260716T210000
DTSTAMP:20260425T110354
CREATED:20251201T180627Z
LAST-MODIFIED:20260425T144610Z
UID:10012696-1784228400-1784235600@hrbcrichmond.org
SUMMARY:AA
DESCRIPTION:
URL:https://hrbcrichmond.org/event/aa-163/
LOCATION:200
END:VEVENT
BEGIN:VEVENT
DTSTART;TZID=America/New_York:20260716T193000
DTEND;TZID=America/New_York:20260716T203000
DTSTAMP:20260425T110354
CREATED:20251201T180627Z
LAST-MODIFIED:20260425T144610Z
UID:10012693-1784230200-1784233800@hrbcrichmond.org
SUMMARY:Families Anonymous
DESCRIPTION:
URL:https://hrbcrichmond.org/event/families-anonymous-170/
LOCATION:209
END:VEVENT
END:VCALENDAR