BEGIN:VCALENDAR
VERSION:2.0
PRODID:-//Huguenot Road Baptist Church - ECPv6.15.20//NONSGML v1.0//EN
CALSCALE:GREGORIAN
METHOD:PUBLISH
X-ORIGINAL-URL:https://hrbcrichmond.org
X-WR-CALDESC:Events for Huguenot Road Baptist Church
REFRESH-INTERVAL;VALUE=DURATION:PT1H
X-Robots-Tag:noindex
X-PUBLISHED-TTL:PT1H
BEGIN:VTIMEZONE
TZID:America/New_York
BEGIN:DAYLIGHT
TZOFFSETFROM:-0500
TZOFFSETTO:-0400
TZNAME:EDT
DTSTART:20250309T070000
END:DAYLIGHT
BEGIN:STANDARD
TZOFFSETFROM:-0400
TZOFFSETTO:-0500
TZNAME:EST
DTSTART:20251102T060000
END:STANDARD
BEGIN:DAYLIGHT
TZOFFSETFROM:-0500
TZOFFSETTO:-0400
TZNAME:EDT
DTSTART:20260308T070000
END:DAYLIGHT
BEGIN:STANDARD
TZOFFSETFROM:-0400
TZOFFSETTO:-0500
TZNAME:EST
DTSTART:20261101T060000
END:STANDARD
BEGIN:DAYLIGHT
TZOFFSETFROM:-0500
TZOFFSETTO:-0400
TZNAME:EDT
DTSTART:20270314T070000
END:DAYLIGHT
BEGIN:STANDARD
TZOFFSETFROM:-0400
TZOFFSETTO:-0500
TZNAME:EST
DTSTART:20271107T060000
END:STANDARD
END:VTIMEZONE
BEGIN:VEVENT
DTSTART;TZID=America/New_York:20260713T101500
DTEND;TZID=America/New_York:20260713T114500
DTSTAMP:20260425T142112
CREATED:20260112T161911Z
LAST-MODIFIED:20260425T171544Z
UID:10012834-1783937700-1783943100@hrbcrichmond.org
SUMMARY:New Virginians
DESCRIPTION:
URL:https://hrbcrichmond.org/event/new-virginians-7/
LOCATION:Library
END:VEVENT
BEGIN:VEVENT
DTSTART;TZID=America/New_York:20260713T143000
DTEND;TZID=America/New_York:20260713T160000
DTSTAMP:20260425T142112
CREATED:20251201T180613Z
LAST-MODIFIED:20260425T171544Z
UID:10012687-1783953000-1783958400@hrbcrichmond.org
SUMMARY:Staff Meeting
DESCRIPTION:
URL:https://hrbcrichmond.org/event/staff-meeting-226/
LOCATION:Conference Room
END:VEVENT
BEGIN:VEVENT
DTSTART;TZID=America/New_York:20260713T181500
DTEND;TZID=America/New_York:20260713T193000
DTSTAMP:20260425T142112
CREATED:20260122T201904Z
LAST-MODIFIED:20260425T171545Z
UID:10012887-1783966500-1783971000@hrbcrichmond.org
SUMMARY:Praise Team Rehearsal
DESCRIPTION:
URL:https://hrbcrichmond.org/event/praise-team-rehearsal-24/
LOCATION:Sanctuary
END:VEVENT
BEGIN:VEVENT
DTSTART;TZID=America/New_York:20260713T190000
DTEND;TZID=America/New_York:20260713T210000
DTSTAMP:20260425T142112
CREATED:20251201T180613Z
LAST-MODIFIED:20260425T171544Z
UID:10012688-1783969200-1783976400@hrbcrichmond.org
SUMMARY:Finance Group Meeting
DESCRIPTION:
URL:https://hrbcrichmond.org/event/finance-group-meeting-32/
LOCATION:By Zoom
END:VEVENT
END:VCALENDAR