BEGIN:VCALENDAR
VERSION:2.0
PRODID:-//Huguenot Road Baptist Church - ECPv6.15.20//NONSGML v1.0//EN
CALSCALE:GREGORIAN
METHOD:PUBLISH
X-ORIGINAL-URL:https://hrbcrichmond.org
X-WR-CALDESC:Events for Huguenot Road Baptist Church
REFRESH-INTERVAL;VALUE=DURATION:PT1H
X-Robots-Tag:noindex
X-PUBLISHED-TTL:PT1H
BEGIN:VTIMEZONE
TZID:America/New_York
BEGIN:DAYLIGHT
TZOFFSETFROM:-0500
TZOFFSETTO:-0400
TZNAME:EDT
DTSTART:20250309T070000
END:DAYLIGHT
BEGIN:STANDARD
TZOFFSETFROM:-0400
TZOFFSETTO:-0500
TZNAME:EST
DTSTART:20251102T060000
END:STANDARD
BEGIN:DAYLIGHT
TZOFFSETFROM:-0500
TZOFFSETTO:-0400
TZNAME:EDT
DTSTART:20260308T070000
END:DAYLIGHT
BEGIN:STANDARD
TZOFFSETFROM:-0400
TZOFFSETTO:-0500
TZNAME:EST
DTSTART:20261101T060000
END:STANDARD
BEGIN:DAYLIGHT
TZOFFSETFROM:-0500
TZOFFSETTO:-0400
TZNAME:EDT
DTSTART:20270314T070000
END:DAYLIGHT
BEGIN:STANDARD
TZOFFSETFROM:-0400
TZOFFSETTO:-0500
TZNAME:EST
DTSTART:20271107T060000
END:STANDARD
END:VTIMEZONE
BEGIN:VEVENT
DTSTART;TZID=America/New_York:20260709T110000
DTEND;TZID=America/New_York:20260709T133000
DTSTAMP:20260425T124030
CREATED:20251201T180601Z
LAST-MODIFIED:20260425T160036Z
UID:10012677-1783594800-1783603800@hrbcrichmond.org
SUMMARY:CDC Monthly Meeting
DESCRIPTION:
URL:https://hrbcrichmond.org/event/cdc-monthly-meeting-46/
LOCATION:Rod Hale Classroom
END:VEVENT
BEGIN:VEVENT
DTSTART;TZID=America/New_York:20260709T140000
DTEND;TZID=America/New_York:20260709T160000
DTSTAMP:20260425T124030
CREATED:20251201T180601Z
LAST-MODIFIED:20260425T160036Z
UID:10012678-1783605600-1783612800@hrbcrichmond.org
SUMMARY:Bridge
DESCRIPTION:
URL:https://hrbcrichmond.org/event/bridge-162/
LOCATION:Commons
END:VEVENT
BEGIN:VEVENT
DTSTART;TZID=America/New_York:20260709T184500
DTEND;TZID=America/New_York:20260709T203000
DTSTAMP:20260425T124030
CREATED:20251201T180613Z
LAST-MODIFIED:20260425T160036Z
UID:10012680-1783622700-1783629000@hrbcrichmond.org
SUMMARY:Discipleship Group Meeting
DESCRIPTION:
URL:https://hrbcrichmond.org/event/discipleship-group-meeting-41/
LOCATION:Cousins Room
END:VEVENT
BEGIN:VEVENT
DTSTART;TZID=America/New_York:20260709T190000
DTEND;TZID=America/New_York:20260709T210000
DTSTAMP:20260425T124030
CREATED:20251201T180613Z
LAST-MODIFIED:20260425T160036Z
UID:10012681-1783623600-1783630800@hrbcrichmond.org
SUMMARY:AA
DESCRIPTION:
URL:https://hrbcrichmond.org/event/aa-162/
LOCATION:200
END:VEVENT
BEGIN:VEVENT
DTSTART;TZID=America/New_York:20260709T193000
DTEND;TZID=America/New_York:20260709T203000
DTSTAMP:20260425T124030
CREATED:20251201T180613Z
LAST-MODIFIED:20260425T160036Z
UID:10012679-1783625400-1783629000@hrbcrichmond.org
SUMMARY:Families Anonymous
DESCRIPTION:
URL:https://hrbcrichmond.org/event/families-anonymous-169/
LOCATION:209
END:VEVENT
END:VCALENDAR