BEGIN:VCALENDAR
VERSION:2.0
PRODID:-//Huguenot Road Baptist Church - ECPv6.15.20//NONSGML v1.0//EN
CALSCALE:GREGORIAN
METHOD:PUBLISH
X-ORIGINAL-URL:https://hrbcrichmond.org
X-WR-CALDESC:Events for Huguenot Road Baptist Church
REFRESH-INTERVAL;VALUE=DURATION:PT1H
X-Robots-Tag:noindex
X-PUBLISHED-TTL:PT1H
BEGIN:VTIMEZONE
TZID:America/New_York
BEGIN:DAYLIGHT
TZOFFSETFROM:-0500
TZOFFSETTO:-0400
TZNAME:EDT
DTSTART:20250309T070000
END:DAYLIGHT
BEGIN:STANDARD
TZOFFSETFROM:-0400
TZOFFSETTO:-0500
TZNAME:EST
DTSTART:20251102T060000
END:STANDARD
BEGIN:DAYLIGHT
TZOFFSETFROM:-0500
TZOFFSETTO:-0400
TZNAME:EDT
DTSTART:20260308T070000
END:DAYLIGHT
BEGIN:STANDARD
TZOFFSETFROM:-0400
TZOFFSETTO:-0500
TZNAME:EST
DTSTART:20261101T060000
END:STANDARD
BEGIN:DAYLIGHT
TZOFFSETFROM:-0500
TZOFFSETTO:-0400
TZNAME:EDT
DTSTART:20270314T070000
END:DAYLIGHT
BEGIN:STANDARD
TZOFFSETFROM:-0400
TZOFFSETTO:-0500
TZNAME:EST
DTSTART:20271107T060000
END:STANDARD
END:VTIMEZONE
BEGIN:VEVENT
DTSTART;TZID=America/New_York:20260608T090000
DTEND;TZID=America/New_York:20260608T120000
DTSTAMP:20260425T092618
CREATED:20260310T173124Z
LAST-MODIFIED:20260425T121336Z
UID:10013254-1780909200-1780920000@hrbcrichmond.org
SUMMARY:Vacation Bible School
DESCRIPTION:
URL:https://hrbcrichmond.org/event/vacation-bible-school-117/
LOCATION:HRBC
END:VEVENT
BEGIN:VEVENT
DTSTART;TZID=America/New_York:20260608T101500
DTEND;TZID=America/New_York:20260608T114500
DTSTAMP:20260425T092618
CREATED:20260112T161753Z
LAST-MODIFIED:20260425T121336Z
UID:10012833-1780913700-1780919100@hrbcrichmond.org
SUMMARY:New Virginians
DESCRIPTION:
URL:https://hrbcrichmond.org/event/new-virginians-6/
LOCATION:Library
END:VEVENT
BEGIN:VEVENT
DTSTART;TZID=America/New_York:20260608T143000
DTEND;TZID=America/New_York:20260608T160000
DTSTAMP:20260425T092618
CREATED:20251104T212117Z
LAST-MODIFIED:20260425T121336Z
UID:10012560-1780929000-1780934400@hrbcrichmond.org
SUMMARY:Staff Meeting
DESCRIPTION:
URL:https://hrbcrichmond.org/event/staff-meeting-217/
LOCATION:Conference Room
END:VEVENT
BEGIN:VEVENT
DTSTART;TZID=America/New_York:20260608T181500
DTEND;TZID=America/New_York:20260608T193000
DTSTAMP:20260425T092618
CREATED:20260122T201731Z
LAST-MODIFIED:20260425T121338Z
UID:10012882-1780942500-1780947000@hrbcrichmond.org
SUMMARY:Praise Team Rehearsal
DESCRIPTION:
URL:https://hrbcrichmond.org/event/praise-team-rehearsal-19/
LOCATION:Sanctuary
END:VEVENT
BEGIN:VEVENT
DTSTART;TZID=America/New_York:20260608T190000
DTEND;TZID=America/New_York:20260608T210000
DTSTAMP:20260425T092618
CREATED:20251105T172107Z
LAST-MODIFIED:20260425T121350Z
UID:10012564-1780945200-1780952400@hrbcrichmond.org
SUMMARY:Finance Group Meeting
DESCRIPTION:
URL:https://hrbcrichmond.org/event/finance-group-meeting-31/
LOCATION:By Zoom
END:VEVENT
END:VCALENDAR