BEGIN:VCALENDAR
VERSION:2.0
PRODID:-//Huguenot Road Baptist Church - ECPv6.15.20//NONSGML v1.0//EN
CALSCALE:GREGORIAN
METHOD:PUBLISH
X-ORIGINAL-URL:https://hrbcrichmond.org
X-WR-CALDESC:Events for Huguenot Road Baptist Church
REFRESH-INTERVAL;VALUE=DURATION:PT1H
X-Robots-Tag:noindex
X-PUBLISHED-TTL:PT1H
BEGIN:VTIMEZONE
TZID:America/New_York
BEGIN:DAYLIGHT
TZOFFSETFROM:-0500
TZOFFSETTO:-0400
TZNAME:EDT
DTSTART:20250309T070000
END:DAYLIGHT
BEGIN:STANDARD
TZOFFSETFROM:-0400
TZOFFSETTO:-0500
TZNAME:EST
DTSTART:20251102T060000
END:STANDARD
BEGIN:DAYLIGHT
TZOFFSETFROM:-0500
TZOFFSETTO:-0400
TZNAME:EDT
DTSTART:20260308T070000
END:DAYLIGHT
BEGIN:STANDARD
TZOFFSETFROM:-0400
TZOFFSETTO:-0500
TZNAME:EST
DTSTART:20261101T060000
END:STANDARD
BEGIN:DAYLIGHT
TZOFFSETFROM:-0500
TZOFFSETTO:-0400
TZNAME:EDT
DTSTART:20270314T070000
END:DAYLIGHT
BEGIN:STANDARD
TZOFFSETFROM:-0400
TZOFFSETTO:-0500
TZNAME:EST
DTSTART:20271107T060000
END:STANDARD
END:VTIMEZONE
BEGIN:VEVENT
DTSTART;VALUE=DATE:20260531
DTEND;VALUE=DATE:20260601
DTSTAMP:20260424T193928
CREATED:20251028T003608Z
LAST-MODIFIED:20260424T222755Z
UID:10012536-1780185600-1780271999@hrbcrichmond.org
SUMMARY:5th Sunday Benevolence Offering
DESCRIPTION:
URL:https://hrbcrichmond.org/event/5th-sunday-benevolence-offering-5/
END:VEVENT
BEGIN:VEVENT
DTSTART;TZID=America/New_York:20260531T080000
DTEND;TZID=America/New_York:20260531T090000
DTSTAMP:20260424T193928
CREATED:20251028T042114Z
LAST-MODIFIED:20260424T222753Z
UID:10012537-1780214400-1780218000@hrbcrichmond.org
SUMMARY:Men's Food & Fellowship Breakfast
DESCRIPTION:
URL:https://hrbcrichmond.org/event/mens-food-fellowship-breakfast-81/
END:VEVENT
BEGIN:VEVENT
DTSTART;TZID=America/New_York:20260531T091500
DTEND;TZID=America/New_York:20260531T101500
DTSTAMP:20260424T193928
CREATED:20251029T002120Z
LAST-MODIFIED:20260424T222755Z
UID:10012538-1780218900-1780222500@hrbcrichmond.org
SUMMARY:Bible Study - All Ages
DESCRIPTION:
URL:https://hrbcrichmond.org/event/bible-study-all-ages-80/
END:VEVENT
BEGIN:VEVENT
DTSTART;TZID=America/New_York:20260531T103000
DTEND;TZID=America/New_York:20260531T113000
DTSTAMP:20260424T193928
CREATED:20251029T052104Z
LAST-MODIFIED:20260424T222755Z
UID:10012539-1780223400-1780227000@hrbcrichmond.org
SUMMARY:Worship
DESCRIPTION:
URL:https://hrbcrichmond.org/event/worship-154/
LOCATION:Sanctuary
END:VEVENT
BEGIN:VEVENT
DTSTART;TZID=America/New_York:20260531T114500
DTEND;TZID=America/New_York:20260531T140000
DTSTAMP:20260424T193928
CREATED:20260330T131448Z
LAST-MODIFIED:20260424T222755Z
UID:10013298-1780227900-1780236000@hrbcrichmond.org
SUMMARY:Deacon Meeting
DESCRIPTION:
URL:https://hrbcrichmond.org/event/deacon-meeting-22/
LOCATION:MPR 1
END:VEVENT
BEGIN:VEVENT
DTSTART;TZID=America/New_York:20260531T153000
DTEND;TZID=America/New_York:20260531T163000
DTSTAMP:20260424T193928
CREATED:20260309T213223Z
LAST-MODIFIED:20260424T222755Z
UID:10013194-1780241400-1780245000@hrbcrichmond.org
SUMMARY:Small Group for Young Adults
DESCRIPTION:
URL:https://hrbcrichmond.org/event/small-group-for-young-adults-37/
LOCATION:Libbie Mill Area
END:VEVENT
END:VCALENDAR