BEGIN:VCALENDAR
VERSION:2.0
PRODID:-//Huguenot Road Baptist Church - ECPv6.15.20//NONSGML v1.0//EN
CALSCALE:GREGORIAN
METHOD:PUBLISH
X-ORIGINAL-URL:https://hrbcrichmond.org
X-WR-CALDESC:Events for Huguenot Road Baptist Church
REFRESH-INTERVAL;VALUE=DURATION:PT1H
X-Robots-Tag:noindex
X-PUBLISHED-TTL:PT1H
BEGIN:VTIMEZONE
TZID:America/New_York
BEGIN:DAYLIGHT
TZOFFSETFROM:-0500
TZOFFSETTO:-0400
TZNAME:EDT
DTSTART:20250309T070000
END:DAYLIGHT
BEGIN:STANDARD
TZOFFSETFROM:-0400
TZOFFSETTO:-0500
TZNAME:EST
DTSTART:20251102T060000
END:STANDARD
BEGIN:DAYLIGHT
TZOFFSETFROM:-0500
TZOFFSETTO:-0400
TZNAME:EDT
DTSTART:20260308T070000
END:DAYLIGHT
BEGIN:STANDARD
TZOFFSETFROM:-0400
TZOFFSETTO:-0500
TZNAME:EST
DTSTART:20261101T060000
END:STANDARD
BEGIN:DAYLIGHT
TZOFFSETFROM:-0500
TZOFFSETTO:-0400
TZNAME:EDT
DTSTART:20270314T070000
END:DAYLIGHT
BEGIN:STANDARD
TZOFFSETFROM:-0400
TZOFFSETTO:-0500
TZNAME:EST
DTSTART:20271107T060000
END:STANDARD
END:VTIMEZONE
BEGIN:VEVENT
DTSTART;TZID=America/New_York:20260524T080000
DTEND;TZID=America/New_York:20260524T090000
DTSTAMP:20260425T124049
CREATED:20251023T203545Z
LAST-MODIFIED:20260425T155746Z
UID:10012525-1779609600-1779613200@hrbcrichmond.org
SUMMARY:Men's Food & Fellowship Breakfast
DESCRIPTION:
URL:https://hrbcrichmond.org/event/mens-food-fellowship-breakfast-80/
END:VEVENT
BEGIN:VEVENT
DTSTART;TZID=America/New_York:20260524T091500
DTEND;TZID=America/New_York:20260524T101500
DTSTAMP:20260425T124049
CREATED:20251024T013545Z
LAST-MODIFIED:20260425T155746Z
UID:10012526-1779614100-1779617700@hrbcrichmond.org
SUMMARY:Bible Study - All Ages
DESCRIPTION:
URL:https://hrbcrichmond.org/event/bible-study-all-ages-79/
END:VEVENT
BEGIN:VEVENT
DTSTART;TZID=America/New_York:20260524T103000
DTEND;TZID=America/New_York:20260524T113000
DTSTAMP:20260425T124049
CREATED:20251024T013545Z
LAST-MODIFIED:20260425T155747Z
UID:10012527-1779618600-1779622200@hrbcrichmond.org
SUMMARY:Worship (Bob away\, Rev. Dr. Rand Forder Preaching)
DESCRIPTION:
URL:https://hrbcrichmond.org/event/worship-153/
LOCATION:Sanctuary
END:VEVENT
BEGIN:VEVENT
DTSTART;TZID=America/New_York:20260524T120000
DTEND;TZID=America/New_York:20260524T140000
DTSTAMP:20260425T124049
CREATED:20251026T133608Z
LAST-MODIFIED:20260425T155759Z
UID:10012528-1779624000-1779631200@hrbcrichmond.org
SUMMARY:Missions Group Meeting
DESCRIPTION:
URL:https://hrbcrichmond.org/event/missions-group-meeting-33/
LOCATION:MPR1
END:VEVENT
BEGIN:VEVENT
DTSTART;TZID=America/New_York:20260524T153000
DTEND;TZID=America/New_York:20260524T163000
DTSTAMP:20260425T124049
CREATED:20260309T213207Z
LAST-MODIFIED:20260425T155759Z
UID:10013188-1779636600-1779640200@hrbcrichmond.org
SUMMARY:Small Group for Young Adults
DESCRIPTION:
URL:https://hrbcrichmond.org/event/small-group-for-young-adults-36/
LOCATION:Libbie Mill Area
END:VEVENT
END:VCALENDAR