BEGIN:VCALENDAR
VERSION:2.0
PRODID:-//Huguenot Road Baptist Church - ECPv6.15.20//NONSGML v1.0//EN
CALSCALE:GREGORIAN
METHOD:PUBLISH
X-ORIGINAL-URL:https://hrbcrichmond.org
X-WR-CALDESC:Events for Huguenot Road Baptist Church
REFRESH-INTERVAL;VALUE=DURATION:PT1H
X-Robots-Tag:noindex
X-PUBLISHED-TTL:PT1H
BEGIN:VTIMEZONE
TZID:America/New_York
BEGIN:DAYLIGHT
TZOFFSETFROM:-0500
TZOFFSETTO:-0400
TZNAME:EDT
DTSTART:20250309T070000
END:DAYLIGHT
BEGIN:STANDARD
TZOFFSETFROM:-0400
TZOFFSETTO:-0500
TZNAME:EST
DTSTART:20251102T060000
END:STANDARD
BEGIN:DAYLIGHT
TZOFFSETFROM:-0500
TZOFFSETTO:-0400
TZNAME:EDT
DTSTART:20260308T070000
END:DAYLIGHT
BEGIN:STANDARD
TZOFFSETFROM:-0400
TZOFFSETTO:-0500
TZNAME:EST
DTSTART:20261101T060000
END:STANDARD
BEGIN:DAYLIGHT
TZOFFSETFROM:-0500
TZOFFSETTO:-0400
TZNAME:EDT
DTSTART:20270314T070000
END:DAYLIGHT
BEGIN:STANDARD
TZOFFSETFROM:-0400
TZOFFSETTO:-0500
TZNAME:EST
DTSTART:20271107T060000
END:STANDARD
END:VTIMEZONE
BEGIN:VEVENT
DTSTART;TZID=America/New_York:20260429T100000
DTEND;TZID=America/New_York:20260429T110000
DTSTAMP:20260424T162511
CREATED:20260401T151236Z
LAST-MODIFIED:20260424T195553Z
UID:10013304-1777456800-1777460400@hrbcrichmond.org
SUMMARY:Adult Bible Study - Walking with God
DESCRIPTION:
URL:https://hrbcrichmond.org/event/adult-bible-study-walking-with-god-4/
LOCATION:MPR 1
END:VEVENT
BEGIN:VEVENT
DTSTART;TZID=America/New_York:20260429T110000
DTEND;TZID=America/New_York:20260429T120000
DTSTAMP:20260424T162511
CREATED:20260423T162553Z
LAST-MODIFIED:20260424T195553Z
UID:10013377-1777460400-1777464000@hrbcrichmond.org
SUMMARY:Dunn Celebration of Life Service
DESCRIPTION:
URL:https://hrbcrichmond.org/event/dunn-service/
LOCATION:Sanctuary
END:VEVENT
BEGIN:VEVENT
DTSTART;TZID=America/New_York:20260429T180000
DTEND;TZID=America/New_York:20260429T193000
DTSTAMP:20260424T162511
CREATED:20251106T204928Z
LAST-MODIFIED:20260424T195607Z
UID:10012587-1777485600-1777491000@hrbcrichmond.org
SUMMARY:Wednesday Night Activities
DESCRIPTION:
URL:https://hrbcrichmond.org/event/wednesday-night-activities-16/
END:VEVENT
BEGIN:VEVENT
DTSTART;TZID=America/New_York:20260429T193000
DTEND;TZID=America/New_York:20260429T210000
DTSTAMP:20260424T162511
CREATED:20250906T211355Z
LAST-MODIFIED:20260424T195555Z
UID:10012326-1777491000-1777496400@hrbcrichmond.org
SUMMARY:European Wind Ensemble Rehearsal
DESCRIPTION:
URL:https://hrbcrichmond.org/event/european-wind-ensemble-rehearsal-156/
LOCATION:Gym
END:VEVENT
END:VCALENDAR