BEGIN:VCALENDAR
VERSION:2.0
PRODID:-//Huguenot Road Baptist Church - ECPv6.15.20//NONSGML v1.0//EN
CALSCALE:GREGORIAN
METHOD:PUBLISH
X-WR-CALNAME:Huguenot Road Baptist Church
X-ORIGINAL-URL:https://hrbcrichmond.org
X-WR-CALDESC:Events for Huguenot Road Baptist Church
REFRESH-INTERVAL;VALUE=DURATION:PT1H
X-Robots-Tag:noindex
X-PUBLISHED-TTL:PT1H
BEGIN:VTIMEZONE
TZID:America/New_York
BEGIN:DAYLIGHT
TZOFFSETFROM:-0500
TZOFFSETTO:-0400
TZNAME:EDT
DTSTART:20250309T070000
END:DAYLIGHT
BEGIN:STANDARD
TZOFFSETFROM:-0400
TZOFFSETTO:-0500
TZNAME:EST
DTSTART:20251102T060000
END:STANDARD
BEGIN:DAYLIGHT
TZOFFSETFROM:-0500
TZOFFSETTO:-0400
TZNAME:EDT
DTSTART:20260308T070000
END:DAYLIGHT
BEGIN:STANDARD
TZOFFSETFROM:-0400
TZOFFSETTO:-0500
TZNAME:EST
DTSTART:20261101T060000
END:STANDARD
BEGIN:DAYLIGHT
TZOFFSETFROM:-0500
TZOFFSETTO:-0400
TZNAME:EDT
DTSTART:20270314T070000
END:DAYLIGHT
BEGIN:STANDARD
TZOFFSETFROM:-0400
TZOFFSETTO:-0500
TZNAME:EST
DTSTART:20271107T060000
END:STANDARD
END:VTIMEZONE
BEGIN:VEVENT
DTSTART;TZID=America/New_York:20260413T101500
DTEND;TZID=America/New_York:20260413T114500
DTSTAMP:20260424T162205
CREATED:20260112T161507Z
LAST-MODIFIED:20260413T152528Z
UID:10012831-1776075300-1776080700@hrbcrichmond.org
SUMMARY:New Virginians
DESCRIPTION:
URL:https://hrbcrichmond.org/event/new-virginians-4/
LOCATION:Library
END:VEVENT
BEGIN:VEVENT
DTSTART;TZID=America/New_York:20260413T143000
DTEND;TZID=America/New_York:20260413T160000
DTSTAMP:20260424T162205
CREATED:20251002T135248Z
LAST-MODIFIED:20260413T191027Z
UID:10012436-1776090600-1776096000@hrbcrichmond.org
SUMMARY:Staff Meeting
DESCRIPTION:
URL:https://hrbcrichmond.org/event/staff-meeting-174/
LOCATION:Conference Room
END:VEVENT
BEGIN:VEVENT
DTSTART;TZID=America/New_York:20260413T180000
DTEND;TZID=America/New_York:20260413T190000
DTSTAMP:20260424T162205
CREATED:20250910T131359Z
LAST-MODIFIED:20260413T225517Z
UID:10012350-1776103200-1776106800@hrbcrichmond.org
SUMMARY:Girl Scouts
DESCRIPTION:
URL:https://hrbcrichmond.org/event/girl-scouts-14/
LOCATION:room 207
END:VEVENT
BEGIN:VEVENT
DTSTART;TZID=America/New_York:20260413T181500
DTEND;TZID=America/New_York:20260413T193000
DTSTAMP:20260424T162205
CREATED:20260122T201450Z
LAST-MODIFIED:20260413T225517Z
UID:10012874-1776104100-1776108600@hrbcrichmond.org
SUMMARY:Praise Team Rehearsal
DESCRIPTION:
URL:https://hrbcrichmond.org/event/praise-team-rehearsal-11/
LOCATION:Sanctuary
END:VEVENT
BEGIN:VEVENT
DTSTART;TZID=America/New_York:20260413T190000
DTEND;TZID=America/New_York:20260413T210000
DTSTAMP:20260424T162205
CREATED:20250916T194350Z
LAST-MODIFIED:20260414T001048Z
UID:10012395-1776106800-1776114000@hrbcrichmond.org
SUMMARY:Finance Group Meeting
DESCRIPTION:
URL:https://hrbcrichmond.org/event/finance-group-meeting-29/
LOCATION:By Zoom
END:VEVENT
END:VCALENDAR