BEGIN:VCALENDAR
VERSION:2.0
PRODID:-//Huguenot Road Baptist Church - ECPv6.15.20//NONSGML v1.0//EN
CALSCALE:GREGORIAN
METHOD:PUBLISH
X-WR-CALNAME:Huguenot Road Baptist Church
X-ORIGINAL-URL:https://hrbcrichmond.org
X-WR-CALDESC:Events for Huguenot Road Baptist Church
REFRESH-INTERVAL;VALUE=DURATION:PT1H
X-Robots-Tag:noindex
X-PUBLISHED-TTL:PT1H
BEGIN:VTIMEZONE
TZID:America/New_York
BEGIN:DAYLIGHT
TZOFFSETFROM:-0500
TZOFFSETTO:-0400
TZNAME:EDT
DTSTART:20250309T070000
END:DAYLIGHT
BEGIN:STANDARD
TZOFFSETFROM:-0400
TZOFFSETTO:-0500
TZNAME:EST
DTSTART:20251102T060000
END:STANDARD
BEGIN:DAYLIGHT
TZOFFSETFROM:-0500
TZOFFSETTO:-0400
TZNAME:EDT
DTSTART:20260308T070000
END:DAYLIGHT
BEGIN:STANDARD
TZOFFSETFROM:-0400
TZOFFSETTO:-0500
TZNAME:EST
DTSTART:20261101T060000
END:STANDARD
BEGIN:DAYLIGHT
TZOFFSETFROM:-0500
TZOFFSETTO:-0400
TZNAME:EDT
DTSTART:20270314T070000
END:DAYLIGHT
BEGIN:STANDARD
TZOFFSETFROM:-0400
TZOFFSETTO:-0500
TZNAME:EST
DTSTART:20271107T060000
END:STANDARD
END:VTIMEZONE
BEGIN:VEVENT
DTSTART;VALUE=DATE:20260329
DTEND;VALUE=DATE:20260330
DTSTAMP:20260424T162141
CREATED:20250824T194411Z
LAST-MODIFIED:20260329T231023Z
UID:10012207-1774742400-1774828799@hrbcrichmond.org
SUMMARY:5th Sunday Benevolence Offering
DESCRIPTION:
URL:https://hrbcrichmond.org/event/5th-sunday-benevolence-offering-4/
END:VEVENT
BEGIN:VEVENT
DTSTART;TZID=America/New_York:20260329T080000
DTEND;TZID=America/New_York:20260329T090000
DTSTAMP:20260424T162141
CREATED:20250824T155902Z
LAST-MODIFIED:20260329T115533Z
UID:10012205-1774771200-1774774800@hrbcrichmond.org
SUMMARY:Men's Food & Fellowship Breakfast
DESCRIPTION:
URL:https://hrbcrichmond.org/event/mens-food-fellowship-breakfast-72/
END:VEVENT
BEGIN:VEVENT
DTSTART;TZID=America/New_York:20260329T091500
DTEND;TZID=America/New_York:20260329T101500
DTSTAMP:20260424T162141
CREATED:20250824T171442Z
LAST-MODIFIED:20260329T131047Z
UID:10012206-1774775700-1774779300@hrbcrichmond.org
SUMMARY:Bible Study - All Ages
DESCRIPTION:
URL:https://hrbcrichmond.org/event/bible-study-all-ages-71/
END:VEVENT
BEGIN:VEVENT
DTSTART;TZID=America/New_York:20260329T103000
DTEND;TZID=America/New_York:20260329T113000
DTSTAMP:20260424T162141
CREATED:20250825T044424Z
LAST-MODIFIED:20260329T142521Z
UID:10012208-1774780200-1774783800@hrbcrichmond.org
SUMMARY:Worship
DESCRIPTION:
URL:https://hrbcrichmond.org/event/worship-145/
LOCATION:Sanctuary
CATEGORIES:Lent
END:VEVENT
BEGIN:VEVENT
DTSTART;TZID=America/New_York:20260329T133000
DTEND;TZID=America/New_York:20260329T150000
DTSTAMP:20260424T162141
CREATED:20260113T132914Z
LAST-MODIFIED:20260329T181027Z
UID:10012836-1774791000-1774796400@hrbcrichmond.org
SUMMARY:Easter Egg Hunt & Celebration (Event Time 2:00 to 3:00 pm)
DESCRIPTION:
URL:https://hrbcrichmond.org/event/easter-egg-hunt-celebration/
LOCATION:HRBC
CATEGORIES:Lent
END:VEVENT
BEGIN:VEVENT
DTSTART;TZID=America/New_York:20260329T153000
DTEND;TZID=America/New_York:20260329T163000
DTSTAMP:20260424T162141
CREATED:20260309T212721Z
LAST-MODIFIED:20260329T192524Z
UID:10013140-1774798200-1774801800@hrbcrichmond.org
SUMMARY:Small Group for Young Adults
DESCRIPTION:
URL:https://hrbcrichmond.org/event/small-group-for-young-adults-28/
LOCATION:Libbie Mill Area
END:VEVENT
BEGIN:VEVENT
DTSTART;TZID=America/New_York:20260329T160000
DTEND;TZID=America/New_York:20260329T180000
DTSTAMP:20260424T162141
CREATED:20260211T182838Z
LAST-MODIFIED:20260329T215526Z
UID:10012945-1774800000-1774807200@hrbcrichmond.org
SUMMARY:CAST Rehearsal
DESCRIPTION:
URL:https://hrbcrichmond.org/event/cast-rehearsal-21/
LOCATION:Sanctuary
END:VEVENT
END:VCALENDAR