BEGIN:VCALENDAR
VERSION:2.0
PRODID:-//Huguenot Road Baptist Church - ECPv6.15.20//NONSGML v1.0//EN
CALSCALE:GREGORIAN
METHOD:PUBLISH
X-ORIGINAL-URL:https://hrbcrichmond.org
X-WR-CALDESC:Events for Huguenot Road Baptist Church
REFRESH-INTERVAL;VALUE=DURATION:PT1H
X-Robots-Tag:noindex
X-PUBLISHED-TTL:PT1H
BEGIN:VTIMEZONE
TZID:America/New_York
BEGIN:DAYLIGHT
TZOFFSETFROM:-0500
TZOFFSETTO:-0400
TZNAME:EDT
DTSTART:20250309T070000
END:DAYLIGHT
BEGIN:STANDARD
TZOFFSETFROM:-0400
TZOFFSETTO:-0500
TZNAME:EST
DTSTART:20251102T060000
END:STANDARD
BEGIN:DAYLIGHT
TZOFFSETFROM:-0500
TZOFFSETTO:-0400
TZNAME:EDT
DTSTART:20260308T070000
END:DAYLIGHT
BEGIN:STANDARD
TZOFFSETFROM:-0400
TZOFFSETTO:-0500
TZNAME:EST
DTSTART:20261101T060000
END:STANDARD
BEGIN:DAYLIGHT
TZOFFSETFROM:-0500
TZOFFSETTO:-0400
TZNAME:EDT
DTSTART:20270314T070000
END:DAYLIGHT
BEGIN:STANDARD
TZOFFSETFROM:-0400
TZOFFSETTO:-0500
TZNAME:EST
DTSTART:20271107T060000
END:STANDARD
END:VTIMEZONE
BEGIN:VEVENT
DTSTART;TZID=America/New_York:20260320T160000
DTEND;TZID=America/New_York:20260320T210000
DTSTAMP:20260425T074819
CREATED:20251112T193221Z
LAST-MODIFIED:20260320T214026Z
UID:10012599-1774022400-1774040400@hrbcrichmond.org
SUMMARY:W&M Barksdale Treble Chorus Concert
DESCRIPTION:
URL:https://hrbcrichmond.org/event/wm-barksdale-treble-chorus-concert/
LOCATION:Sanctuary; Family Life Center; Commons; MPR 1
END:VEVENT
BEGIN:VEVENT
DTSTART;TZID=America/New_York:20260320T220000
DTEND;TZID=America/New_York:20260321T070000
DTSTAMP:20260425T074819
CREATED:20260226T144214Z
LAST-MODIFIED:20260321T104054Z
UID:10012987-1774044000-1774076400@hrbcrichmond.org
SUMMARY:Youth Mission Madness overnight
DESCRIPTION:
URL:https://hrbcrichmond.org/event/youth-mission-madness-overnight/
LOCATION:classroom
END:VEVENT
END:VCALENDAR