BEGIN:VCALENDAR
VERSION:2.0
PRODID:-//Huguenot Road Baptist Church - ECPv6.15.20//NONSGML v1.0//EN
CALSCALE:GREGORIAN
METHOD:PUBLISH
X-ORIGINAL-URL:https://hrbcrichmond.org
X-WR-CALDESC:Events for Huguenot Road Baptist Church
REFRESH-INTERVAL;VALUE=DURATION:PT1H
X-Robots-Tag:noindex
X-PUBLISHED-TTL:PT1H
BEGIN:VTIMEZONE
TZID:America/New_York
BEGIN:DAYLIGHT
TZOFFSETFROM:-0500
TZOFFSETTO:-0400
TZNAME:EDT
DTSTART:20250309T070000
END:DAYLIGHT
BEGIN:STANDARD
TZOFFSETFROM:-0400
TZOFFSETTO:-0500
TZNAME:EST
DTSTART:20251102T060000
END:STANDARD
BEGIN:DAYLIGHT
TZOFFSETFROM:-0500
TZOFFSETTO:-0400
TZNAME:EDT
DTSTART:20260308T070000
END:DAYLIGHT
BEGIN:STANDARD
TZOFFSETFROM:-0400
TZOFFSETTO:-0500
TZNAME:EST
DTSTART:20261101T060000
END:STANDARD
BEGIN:DAYLIGHT
TZOFFSETFROM:-0500
TZOFFSETTO:-0400
TZNAME:EDT
DTSTART:20270314T070000
END:DAYLIGHT
BEGIN:STANDARD
TZOFFSETFROM:-0400
TZOFFSETTO:-0500
TZNAME:EST
DTSTART:20271107T060000
END:STANDARD
END:VTIMEZONE
BEGIN:VEVENT
DTSTART;TZID=America/New_York:20260222T080000
DTEND;TZID=America/New_York:20260222T090000
DTSTAMP:20260424T212412
CREATED:20250723T194403Z
LAST-MODIFIED:20260222T131101Z
UID:10012077-1771747200-1771750800@hrbcrichmond.org
SUMMARY:Men's Food & Fellowship Breakfast
DESCRIPTION:
URL:https://hrbcrichmond.org/event/mens-food-fellowship-breakfast-67/
END:VEVENT
BEGIN:VEVENT
DTSTART;TZID=America/New_York:20260222T091500
DTEND;TZID=America/New_York:20260222T101500
DTSTAMP:20260424T212412
CREATED:20250723T194403Z
LAST-MODIFIED:20260222T142556Z
UID:10012078-1771751700-1771755300@hrbcrichmond.org
SUMMARY:Bible Study - All Ages
DESCRIPTION:
URL:https://hrbcrichmond.org/event/bible-study-all-ages-66/
END:VEVENT
BEGIN:VEVENT
DTSTART;TZID=America/New_York:20260222T103000
DTEND;TZID=America/New_York:20260222T113000
DTSTAMP:20260424T212412
CREATED:20250723T194404Z
LAST-MODIFIED:20260222T154028Z
UID:10012079-1771756200-1771759800@hrbcrichmond.org
SUMMARY:Worship
DESCRIPTION:
URL:https://hrbcrichmond.org/event/worship-140/
LOCATION:Sanctuary
CATEGORIES:Lent
END:VEVENT
BEGIN:VEVENT
DTSTART;TZID=America/New_York:20260222T113000
DTEND;TZID=America/New_York:20260222T173000
DTSTAMP:20260424T212412
CREATED:20250822T174553Z
LAST-MODIFIED:20260222T215556Z
UID:10012192-1771759800-1771781400@hrbcrichmond.org
SUMMARY:Jill's Blankets
DESCRIPTION:
URL:https://hrbcrichmond.org/event/jills-blankets-2/
LOCATION:Family Life Center
END:VEVENT
BEGIN:VEVENT
DTSTART;TZID=America/New_York:20260222T120000
DTEND;TZID=America/New_York:20260222T140000
DTSTAMP:20260424T212412
CREATED:20250723T194405Z
LAST-MODIFIED:20260223T155235Z
UID:10012080-1771761600-1771768800@hrbcrichmond.org
SUMMARY:Missions Group Meeting
DESCRIPTION:
URL:https://hrbcrichmond.org/event/missions-group-meeting-30/
LOCATION:MPR1
END:VEVENT
BEGIN:VEVENT
DTSTART;TZID=America/New_York:20260222T153000
DTEND;TZID=America/New_York:20260222T163000
DTSTAMP:20260424T212412
CREATED:20251222T151315Z
LAST-MODIFIED:20260222T204046Z
UID:10012783-1771774200-1771777800@hrbcrichmond.org
SUMMARY:Small Group for Young Adults
DESCRIPTION:
URL:https://hrbcrichmond.org/event/small-group-for-young-adults-23/
LOCATION:Libbie Mill Area
END:VEVENT
END:VCALENDAR