BEGIN:VCALENDAR
VERSION:2.0
PRODID:-//Huguenot Road Baptist Church - ECPv6.15.20//NONSGML v1.0//EN
CALSCALE:GREGORIAN
METHOD:PUBLISH
X-WR-CALNAME:Huguenot Road Baptist Church
X-ORIGINAL-URL:https://hrbcrichmond.org
X-WR-CALDESC:Events for Huguenot Road Baptist Church
REFRESH-INTERVAL;VALUE=DURATION:PT1H
X-Robots-Tag:noindex
X-PUBLISHED-TTL:PT1H
BEGIN:VTIMEZONE
TZID:America/New_York
BEGIN:DAYLIGHT
TZOFFSETFROM:-0500
TZOFFSETTO:-0400
TZNAME:EDT
DTSTART:20250309T070000
END:DAYLIGHT
BEGIN:STANDARD
TZOFFSETFROM:-0400
TZOFFSETTO:-0500
TZNAME:EST
DTSTART:20251102T060000
END:STANDARD
BEGIN:DAYLIGHT
TZOFFSETFROM:-0500
TZOFFSETTO:-0400
TZNAME:EDT
DTSTART:20260308T070000
END:DAYLIGHT
BEGIN:STANDARD
TZOFFSETFROM:-0400
TZOFFSETTO:-0500
TZNAME:EST
DTSTART:20261101T060000
END:STANDARD
BEGIN:DAYLIGHT
TZOFFSETFROM:-0500
TZOFFSETTO:-0400
TZNAME:EDT
DTSTART:20270314T070000
END:DAYLIGHT
BEGIN:STANDARD
TZOFFSETFROM:-0400
TZOFFSETTO:-0500
TZNAME:EST
DTSTART:20271107T060000
END:STANDARD
END:VTIMEZONE
BEGIN:VEVENT
DTSTART;TZID=America/New_York:20260216T140000
DTEND;TZID=America/New_York:20260216T160000
DTSTAMP:20260424T211915
CREATED:20260209T152606Z
LAST-MODIFIED:20260216T205532Z
UID:10012913-1771250400-1771257600@hrbcrichmond.org
SUMMARY:Cut fabric for Jill's blankets
DESCRIPTION:
URL:https://hrbcrichmond.org/event/cut-fabric-for-jills-blankets/
LOCATION:flc
END:VEVENT
BEGIN:VEVENT
DTSTART;TZID=America/New_York:20260216T143000
DTEND;TZID=America/New_York:20260216T160000
DTSTAMP:20260424T211915
CREATED:20251002T134943Z
LAST-MODIFIED:20260216T205532Z
UID:10012428-1771252200-1771257600@hrbcrichmond.org
SUMMARY:Staff Meeting (Bob Devo)
DESCRIPTION:
URL:https://hrbcrichmond.org/event/staff-meeting-166/
LOCATION:Conference Room
END:VEVENT
BEGIN:VEVENT
DTSTART;TZID=America/New_York:20260216T181500
DTEND;TZID=America/New_York:20260216T193000
DTSTAMP:20260424T211915
CREATED:20260122T201153Z
LAST-MODIFIED:20260216T232540Z
UID:10012866-1771265700-1771270200@hrbcrichmond.org
SUMMARY:Praise Team Rehearsal
DESCRIPTION:
URL:https://hrbcrichmond.org/event/praise-team-rehearsal-3/
LOCATION:Sanctuary
END:VEVENT
END:VCALENDAR