BEGIN:VCALENDAR
VERSION:2.0
PRODID:-//Huguenot Road Baptist Church - ECPv6.15.20//NONSGML v1.0//EN
CALSCALE:GREGORIAN
METHOD:PUBLISH
X-ORIGINAL-URL:https://hrbcrichmond.org
X-WR-CALDESC:Events for Huguenot Road Baptist Church
REFRESH-INTERVAL;VALUE=DURATION:PT1H
X-Robots-Tag:noindex
X-PUBLISHED-TTL:PT1H
BEGIN:VTIMEZONE
TZID:America/New_York
BEGIN:DAYLIGHT
TZOFFSETFROM:-0500
TZOFFSETTO:-0400
TZNAME:EDT
DTSTART:20250309T070000
END:DAYLIGHT
BEGIN:STANDARD
TZOFFSETFROM:-0400
TZOFFSETTO:-0500
TZNAME:EST
DTSTART:20251102T060000
END:STANDARD
BEGIN:DAYLIGHT
TZOFFSETFROM:-0500
TZOFFSETTO:-0400
TZNAME:EDT
DTSTART:20260308T070000
END:DAYLIGHT
BEGIN:STANDARD
TZOFFSETFROM:-0400
TZOFFSETTO:-0500
TZNAME:EST
DTSTART:20261101T060000
END:STANDARD
BEGIN:DAYLIGHT
TZOFFSETFROM:-0500
TZOFFSETTO:-0400
TZNAME:EDT
DTSTART:20270314T070000
END:DAYLIGHT
BEGIN:STANDARD
TZOFFSETFROM:-0400
TZOFFSETTO:-0500
TZNAME:EST
DTSTART:20271107T060000
END:STANDARD
END:VTIMEZONE
BEGIN:VEVENT
DTSTART;TZID=America/New_York:20260215T080000
DTEND;TZID=America/New_York:20260215T090000
DTSTAMP:20260424T212529
CREATED:20250716T132901Z
LAST-MODIFIED:20260215T134022Z
UID:10012060-1771142400-1771146000@hrbcrichmond.org
SUMMARY:Men's Food & Fellowship Breakfast
DESCRIPTION:
URL:https://hrbcrichmond.org/event/mens-food-fellowship-breakfast-66/
END:VEVENT
BEGIN:VEVENT
DTSTART;TZID=America/New_York:20260215T091500
DTEND;TZID=America/New_York:20260215T101500
DTSTAMP:20260424T212529
CREATED:20250717T154413Z
LAST-MODIFIED:20260215T145544Z
UID:10012062-1771146900-1771150500@hrbcrichmond.org
SUMMARY:Bible Study - All Ages
DESCRIPTION:
URL:https://hrbcrichmond.org/event/bible-study-all-ages-65/
END:VEVENT
BEGIN:VEVENT
DTSTART;TZID=America/New_York:20260215T103000
DTEND;TZID=America/New_York:20260215T113000
DTSTAMP:20260424T212529
CREATED:20250717T154414Z
LAST-MODIFIED:20260215T161030Z
UID:10012063-1771151400-1771155000@hrbcrichmond.org
SUMMARY:Worship
DESCRIPTION:
URL:https://hrbcrichmond.org/event/worship-139/
LOCATION:Sanctuary
END:VEVENT
BEGIN:VEVENT
DTSTART;TZID=America/New_York:20260215T114500
DTEND;TZID=America/New_York:20260215T134500
DTSTAMP:20260424T212529
CREATED:20260105T141310Z
LAST-MODIFIED:20260215T184100Z
UID:10012807-1771155900-1771163100@hrbcrichmond.org
SUMMARY:Deacon Meeting
DESCRIPTION:
URL:https://hrbcrichmond.org/event/deacon-meeting-20/
LOCATION:MPR 1
END:VEVENT
BEGIN:VEVENT
DTSTART;TZID=America/New_York:20260215T153000
DTEND;TZID=America/New_York:20260215T163000
DTSTAMP:20260424T212529
CREATED:20251222T151251Z
LAST-MODIFIED:20260215T211052Z
UID:10012782-1771169400-1771173000@hrbcrichmond.org
SUMMARY:Small Group for Young Adults
DESCRIPTION:
URL:https://hrbcrichmond.org/event/small-group-for-young-adults-22/
LOCATION:Libbie Mill Area
END:VEVENT
BEGIN:VEVENT
DTSTART;TZID=America/New_York:20260215T163000
DTEND;TZID=America/New_York:20260215T213000
DTSTAMP:20260424T212529
CREATED:20251229T171300Z
LAST-MODIFIED:20260216T021051Z
UID:10012793-1771173000-1771191000@hrbcrichmond.org
SUMMARY:Movie Night
DESCRIPTION:
URL:https://hrbcrichmond.org/event/movie-night/
LOCATION:Family Life Center
END:VEVENT
END:VCALENDAR