BEGIN:VCALENDAR
VERSION:2.0
PRODID:-//Huguenot Road Baptist Church - ECPv6.15.20//NONSGML v1.0//EN
CALSCALE:GREGORIAN
METHOD:PUBLISH
X-ORIGINAL-URL:https://hrbcrichmond.org
X-WR-CALDESC:Events for Huguenot Road Baptist Church
REFRESH-INTERVAL;VALUE=DURATION:PT1H
X-Robots-Tag:noindex
X-PUBLISHED-TTL:PT1H
BEGIN:VTIMEZONE
TZID:America/New_York
BEGIN:DAYLIGHT
TZOFFSETFROM:-0500
TZOFFSETTO:-0400
TZNAME:EDT
DTSTART:20250309T070000
END:DAYLIGHT
BEGIN:STANDARD
TZOFFSETFROM:-0400
TZOFFSETTO:-0500
TZNAME:EST
DTSTART:20251102T060000
END:STANDARD
BEGIN:DAYLIGHT
TZOFFSETFROM:-0500
TZOFFSETTO:-0400
TZNAME:EDT
DTSTART:20260308T070000
END:DAYLIGHT
BEGIN:STANDARD
TZOFFSETFROM:-0400
TZOFFSETTO:-0500
TZNAME:EST
DTSTART:20261101T060000
END:STANDARD
BEGIN:DAYLIGHT
TZOFFSETFROM:-0500
TZOFFSETTO:-0400
TZNAME:EDT
DTSTART:20270314T070000
END:DAYLIGHT
BEGIN:STANDARD
TZOFFSETFROM:-0400
TZOFFSETTO:-0500
TZNAME:EST
DTSTART:20271107T060000
END:STANDARD
END:VTIMEZONE
BEGIN:VEVENT
DTSTART;TZID=America/New_York:20260125T080000
DTEND;TZID=America/New_York:20260125T090000
DTSTAMP:20260425T135529
CREATED:20250623T144440Z
LAST-MODIFIED:20260125T131041Z
UID:10011998-1769328000-1769331600@hrbcrichmond.org
SUMMARY:Men's Food & Fellowship Breakfast
DESCRIPTION:
URL:https://hrbcrichmond.org/event/mens-food-fellowship-breakfast-63/
END:VEVENT
BEGIN:VEVENT
DTSTART;TZID=America/New_York:20260125T091500
DTEND;TZID=America/New_York:20260125T101500
DTSTAMP:20260425T135529
CREATED:20250623T144440Z
LAST-MODIFIED:20260125T142529Z
UID:10011999-1769332500-1769336100@hrbcrichmond.org
SUMMARY:Bible Study - All Ages
DESCRIPTION:
URL:https://hrbcrichmond.org/event/bible-study-all-ages-62/
END:VEVENT
BEGIN:VEVENT
DTSTART;TZID=America/New_York:20260125T103000
DTEND;TZID=America/New_York:20260125T113000
DTSTAMP:20260425T135529
CREATED:20250627T014410Z
LAST-MODIFIED:20260125T154043Z
UID:10012012-1769337000-1769340600@hrbcrichmond.org
SUMMARY:Worship
DESCRIPTION:
URL:https://hrbcrichmond.org/event/worship-136/
LOCATION:Sanctuary
END:VEVENT
BEGIN:VEVENT
DTSTART;TZID=America/New_York:20260125T120000
DTEND;TZID=America/New_York:20260125T140000
DTSTAMP:20260425T135529
CREATED:20250628T164335Z
LAST-MODIFIED:20260125T181024Z
UID:10012013-1769342400-1769349600@hrbcrichmond.org
SUMMARY:Missions Group Meeting
DESCRIPTION:
URL:https://hrbcrichmond.org/event/missions-group-meeting-29/
LOCATION:MPR1
END:VEVENT
BEGIN:VEVENT
DTSTART;TZID=America/New_York:20260125T153000
DTEND;TZID=America/New_York:20260125T163000
DTSTAMP:20260425T135529
CREATED:20251222T151150Z
LAST-MODIFIED:20260126T154650Z
UID:10012779-1769355000-1769358600@hrbcrichmond.org
SUMMARY:Small Group for Young Adults
DESCRIPTION:
URL:https://hrbcrichmond.org/event/small-group-for-young-adults-19/
LOCATION:Libbie Mill Library
END:VEVENT
END:VCALENDAR