BEGIN:VCALENDAR
VERSION:2.0
PRODID:-//Huguenot Road Baptist Church - ECPv6.15.20//NONSGML v1.0//EN
CALSCALE:GREGORIAN
METHOD:PUBLISH
X-WR-CALNAME:Huguenot Road Baptist Church
X-ORIGINAL-URL:https://hrbcrichmond.org
X-WR-CALDESC:Events for Huguenot Road Baptist Church
REFRESH-INTERVAL;VALUE=DURATION:PT1H
X-Robots-Tag:noindex
X-PUBLISHED-TTL:PT1H
BEGIN:VTIMEZONE
TZID:America/New_York
BEGIN:DAYLIGHT
TZOFFSETFROM:-0500
TZOFFSETTO:-0400
TZNAME:EDT
DTSTART:20250309T070000
END:DAYLIGHT
BEGIN:STANDARD
TZOFFSETFROM:-0400
TZOFFSETTO:-0500
TZNAME:EST
DTSTART:20251102T060000
END:STANDARD
BEGIN:DAYLIGHT
TZOFFSETFROM:-0500
TZOFFSETTO:-0400
TZNAME:EDT
DTSTART:20260308T070000
END:DAYLIGHT
BEGIN:STANDARD
TZOFFSETFROM:-0400
TZOFFSETTO:-0500
TZNAME:EST
DTSTART:20261101T060000
END:STANDARD
BEGIN:DAYLIGHT
TZOFFSETFROM:-0500
TZOFFSETTO:-0400
TZNAME:EDT
DTSTART:20270314T070000
END:DAYLIGHT
BEGIN:STANDARD
TZOFFSETFROM:-0400
TZOFFSETTO:-0500
TZNAME:EST
DTSTART:20271107T060000
END:STANDARD
END:VTIMEZONE
BEGIN:VEVENT
DTSTART;TZID=America/New_York:20260121T090000
DTEND;TZID=America/New_York:20260121T103000
DTSTAMP:20260425T231149
CREATED:20250623T144356Z
LAST-MODIFIED:20260121T152528Z
UID:10011979-1768986000-1768991400@hrbcrichmond.org
SUMMARY:Second Half Men's Ministry Meeting
DESCRIPTION:
URL:https://hrbcrichmond.org/event/second-half-mens-ministry-meeting-27/
LOCATION:MPR 2
END:VEVENT
BEGIN:VEVENT
DTSTART;TZID=America/New_York:20260121T100000
DTEND;TZID=America/New_York:20260121T110000
DTSTAMP:20260425T231149
CREATED:20260120T154051Z
LAST-MODIFIED:20260121T152528Z
UID:10012848-1768989600-1768993200@hrbcrichmond.org
SUMMARY:Adult Bible Study
DESCRIPTION:
URL:https://hrbcrichmond.org/event/adult-bible-study/
LOCATION:MPR 1
END:VEVENT
BEGIN:VEVENT
DTSTART;TZID=America/New_York:20260121T140000
DTEND;TZID=America/New_York:20260121T150000
DTSTAMP:20260425T231149
CREATED:20260114T165627Z
LAST-MODIFIED:20260121T191057Z
UID:10012837-1769004000-1769007600@hrbcrichmond.org
SUMMARY:ovation overflow
DESCRIPTION:
URL:https://hrbcrichmond.org/event/ovation-overflow/
LOCATION:MPR 2
END:VEVENT
BEGIN:VEVENT
DTSTART;TZID=America/New_York:20260121T150000
DTEND;TZID=America/New_York:20260121T170000
DTSTAMP:20260425T231149
CREATED:20251202T212816Z
LAST-MODIFIED:20260121T214057Z
UID:10012701-1769007600-1769014800@hrbcrichmond.org
SUMMARY:Ovation Concert
DESCRIPTION:
URL:https://hrbcrichmond.org/event/ovation-concert-8/
LOCATION:Sanctuary
END:VEVENT
BEGIN:VEVENT
DTSTART;TZID=America/New_York:20260121T180000
DTEND;TZID=America/New_York:20260121T193000
DTSTAMP:20260425T231149
CREATED:20251106T204452Z
LAST-MODIFIED:20260122T001036Z
UID:10012573-1769018400-1769023800@hrbcrichmond.org
SUMMARY:Wednesday Night Activities
DESCRIPTION:
URL:https://hrbcrichmond.org/event/wednesday-night-activities-2/
END:VEVENT
BEGIN:VEVENT
DTSTART;TZID=America/New_York:20260121T193000
DTEND;TZID=America/New_York:20260121T210000
DTSTAMP:20260425T231149
CREATED:20250623T144436Z
LAST-MODIFIED:20260122T012542Z
UID:10011992-1769023800-1769029200@hrbcrichmond.org
SUMMARY:European Wind Ensemble Rehearsal
DESCRIPTION:
URL:https://hrbcrichmond.org/event/european-wind-ensemble-rehearsal-142/
LOCATION:Gym
END:VEVENT
END:VCALENDAR